BEGIN:VCALENDAR
VERSION:2.0
PRODID:-//Union Taproom - ECPv6.15.10//NONSGML v1.0//EN
CALSCALE:GREGORIAN
METHOD:PUBLISH
X-ORIGINAL-URL:https://uniontaproomwh.com
X-WR-CALDESC:Events for Union Taproom
REFRESH-INTERVAL;VALUE=DURATION:PT1H
X-Robots-Tag:noindex
X-PUBLISHED-TTL:PT1H
BEGIN:VTIMEZONE
TZID:UTC
BEGIN:STANDARD
TZOFFSETFROM:+0000
TZOFFSETTO:+0000
TZNAME:UTC
DTSTART:20180101T000000
END:STANDARD
END:VTIMEZONE
BEGIN:VEVENT
DTSTART;TZID=UTC:20200223T110000
DTEND;TZID=UTC:20200223T120000
DTSTAMP:20260423T100018
CREATED:20191007T120624Z
LAST-MODIFIED:20191010T112547Z
UID:2020-1582455600-1582459200@uniontaproomwh.com
SUMMARY:Bend and Brew by Inside Out Yoga
DESCRIPTION:Click Here for Tickets – All participants will receive 10% off their tab!
URL:https://uniontaproomwh.com/event/bend-and-brew-by-inside-out-yoga-5/
CATEGORIES:Bend and Brew
END:VEVENT
BEGIN:VEVENT
DTSTART;TZID=UTC:20200126T110000
DTEND;TZID=UTC:20200126T120000
DTSTAMP:20260423T100018
CREATED:20191007T120530Z
LAST-MODIFIED:20191010T112603Z
UID:2018-1580036400-1580040000@uniontaproomwh.com
SUMMARY:Bend and Brew by Inside Out Yoga
DESCRIPTION:Click Here for Tickets – All participants will receive 10% off their tab!
URL:https://uniontaproomwh.com/event/bend-and-brew-by-inside-out-yoga-4/
CATEGORIES:Bend and Brew
END:VEVENT
BEGIN:VEVENT
DTSTART;TZID=UTC:20191229T110000
DTEND;TZID=UTC:20191229T120000
DTSTAMP:20260423T100018
CREATED:20191007T120437Z
LAST-MODIFIED:20191010T112617Z
UID:2016-1577617200-1577620800@uniontaproomwh.com
SUMMARY:Bend and Brew by Inside Out Yoga
DESCRIPTION:Click Here for Tickets – All participants will receive 10% off their tab!
URL:https://uniontaproomwh.com/event/bend-and-brew-by-inside-out-yoga-3/
CATEGORIES:Bend and Brew
END:VEVENT
BEGIN:VEVENT
DTSTART;TZID=UTC:20191124T110000
DTEND;TZID=UTC:20191124T120000
DTSTAMP:20260423T100018
CREATED:20191007T120342Z
LAST-MODIFIED:20191010T120845Z
UID:2014-1574593200-1574596800@uniontaproomwh.com
SUMMARY:Bend and Brew by Inside Out Yoga
DESCRIPTION:Click Here for Tickets – All participants will receive 10% off their tab!
URL:https://uniontaproomwh.com/event/bend-and-brew-by-inside-out-yoga-2/
CATEGORIES:Bend and Brew
END:VEVENT
BEGIN:VEVENT
DTSTART;TZID=UTC:20191027T110000
DTEND;TZID=UTC:20191027T120000
DTSTAMP:20260423T100018
CREATED:20191007T115503Z
LAST-MODIFIED:20191010T120908Z
UID:2008-1572174000-1572177600@uniontaproomwh.com
SUMMARY:Bend and Brew by Inside Out Yoga
DESCRIPTION:Click Here for Tickets – All participants will receive 10% off their tab!
URL:https://uniontaproomwh.com/event/bend-and-brew-by-inside-out-yoga/
CATEGORIES:Bend and Brew
END:VEVENT
END:VCALENDAR