BEGIN:VCALENDAR
VERSION:2.0
PRODID:-//Union Taproom - ECPv6.15.10//NONSGML v1.0//EN
CALSCALE:GREGORIAN
METHOD:PUBLISH
X-WR-CALNAME:Union Taproom
X-ORIGINAL-URL:https://uniontaproomwh.com
X-WR-CALDESC:Events for Union Taproom
REFRESH-INTERVAL;VALUE=DURATION:PT1H
X-Robots-Tag:noindex
X-PUBLISHED-TTL:PT1H
BEGIN:VTIMEZONE
TZID:UTC
BEGIN:STANDARD
TZOFFSETFROM:+0000
TZOFFSETTO:+0000
TZNAME:UTC
DTSTART:20190101T000000
END:STANDARD
END:VTIMEZONE
BEGIN:VEVENT
DTSTART;TZID=UTC:20200613T160000
DTEND;TZID=UTC:20200613T210000
DTSTAMP:20260423T051821
CREATED:20200602T104531Z
LAST-MODIFIED:20200602T105229Z
UID:2483-1592064000-1592082000@uniontaproomwh.com
SUMMARY:Food Truck - Smokin Oak BBQ 4-9PM
DESCRIPTION:
URL:https://uniontaproomwh.com/event/smokin-oak-bbq-4-9pm/
CATEGORIES:Food Trucks
END:VEVENT
BEGIN:VEVENT
DTSTART;TZID=UTC:20200612T160000
DTEND;TZID=UTC:20200612T210000
DTSTAMP:20260423T051821
CREATED:20200602T104506Z
LAST-MODIFIED:20200602T105234Z
UID:2481-1591977600-1591995600@uniontaproomwh.com
SUMMARY:Food Truck - Street Fusion 4-9PM
DESCRIPTION:
URL:https://uniontaproomwh.com/event/street-fusion-4-9pm/
CATEGORIES:Food Trucks
END:VEVENT
BEGIN:VEVENT
DTSTART;TZID=UTC:20200611T160000
DTEND;TZID=UTC:20200611T210000
DTSTAMP:20260423T051821
CREATED:20200602T104442Z
LAST-MODIFIED:20200602T105243Z
UID:2479-1591891200-1591909200@uniontaproomwh.com
SUMMARY:Food Truck - Chubby Wubby’s 4-9PM
DESCRIPTION:
URL:https://uniontaproomwh.com/event/chubby-wubbys-4-9pm/
CATEGORIES:Food Trucks
END:VEVENT
BEGIN:VEVENT
DTSTART;TZID=UTC:20200610T160000
DTEND;TZID=UTC:20200610T210000
DTSTAMP:20260423T051821
CREATED:20200602T104419Z
LAST-MODIFIED:20200602T105311Z
UID:2477-1591804800-1591822800@uniontaproomwh.com
SUMMARY:Food Truck - Cala La Pasta 4-9PM
DESCRIPTION:
URL:https://uniontaproomwh.com/event/cala-la-pasta-4-9pm/
CATEGORIES:Food Trucks
END:VEVENT
BEGIN:VEVENT
DTSTART;TZID=UTC:20200606T160000
DTEND;TZID=UTC:20200606T210000
DTSTAMP:20260423T051821
CREATED:20200602T104331Z
LAST-MODIFIED:20200602T105317Z
UID:2473-1591459200-1591477200@uniontaproomwh.com
SUMMARY:Food Truck - K&E’s Italian Kitchen 4-9PM
DESCRIPTION:
URL:https://uniontaproomwh.com/event/kes-italian-kitchen-4-9pm/
CATEGORIES:Food Trucks
END:VEVENT
BEGIN:VEVENT
DTSTART;TZID=UTC:20200605T160000
DTEND;TZID=UTC:20200605T210000
DTSTAMP:20260423T051821
CREATED:20200602T104307Z
LAST-MODIFIED:20200602T105323Z
UID:2471-1591372800-1591390800@uniontaproomwh.com
SUMMARY:Food Truck - La Palapa Time 4-9PM
DESCRIPTION:
URL:https://uniontaproomwh.com/event/la-palapa-time-4-9pm/
CATEGORIES:Food Trucks
END:VEVENT
BEGIN:VEVENT
DTSTART;TZID=UTC:20200604T160000
DTEND;TZID=UTC:20200604T210000
DTSTAMP:20260423T051821
CREATED:20200602T104239Z
LAST-MODIFIED:20200602T104239Z
UID:2469-1591286400-1591304400@uniontaproomwh.com
SUMMARY:Food Truck - Willy T’s Crab Shack 4-9PM
DESCRIPTION:
URL:https://uniontaproomwh.com/event/food-truck-willy-ts-crab-shack-4-9pm/
CATEGORIES:Food Trucks
END:VEVENT
END:VCALENDAR