BEGIN:VCALENDAR
VERSION:2.0
PRODID:-//Union Taproom - ECPv6.15.10//NONSGML v1.0//EN
CALSCALE:GREGORIAN
METHOD:PUBLISH
X-WR-CALNAME:Union Taproom
X-ORIGINAL-URL:https://uniontaproomwh.com
X-WR-CALDESC:Events for Union Taproom
REFRESH-INTERVAL;VALUE=DURATION:PT1H
X-Robots-Tag:noindex
X-PUBLISHED-TTL:PT1H
BEGIN:VTIMEZONE
TZID:UTC
BEGIN:STANDARD
TZOFFSETFROM:+0000
TZOFFSETTO:+0000
TZNAME:UTC
DTSTART:20220101T000000
END:STANDARD
END:VTIMEZONE
BEGIN:VEVENT
DTSTART;TZID=UTC:20230720T180000
DTEND;TZID=UTC:20230720T200000
DTSTAMP:20260421T070042
CREATED:20230622T134525Z
LAST-MODIFIED:20230622T134525Z
UID:5526-1689876000-1689883200@uniontaproomwh.com
SUMMARY:B. Nektar Tap Takover
DESCRIPTION:
URL:https://uniontaproomwh.com/event/b-nektar-tap-takover/
END:VEVENT
BEGIN:VEVENT
DTSTART;VALUE=DATE:20230630
DTEND;VALUE=DATE:20230701
DTSTAMP:20260421T070042
CREATED:20230630T183848Z
LAST-MODIFIED:20230630T183848Z
UID:5535-1688083200-1688169599@uniontaproomwh.com
SUMMARY:Closed for Independence Day
DESCRIPTION:
URL:https://uniontaproomwh.com/event/closed-for-independence-day/
END:VEVENT
BEGIN:VEVENT
DTSTART;TZID=UTC:20230609T170000
DTEND;TZID=UTC:20230609T190000
DTSTAMP:20260421T070042
CREATED:20230529T114428Z
LAST-MODIFIED:20230606T123956Z
UID:5505-1686330000-1686337200@uniontaproomwh.com
SUMMARY:Tampa Bay Brewing Tap Take Over
DESCRIPTION:
URL:https://uniontaproomwh.com/event/tampa-bay-brewing-tap-take-over/
END:VEVENT
BEGIN:VEVENT
DTSTART;TZID=UTC:20230504T180000
DTEND;TZID=UTC:20230504T210000
DTSTAMP:20260421T070042
CREATED:20230416T143501Z
LAST-MODIFIED:20230416T143501Z
UID:5479-1683223200-1683234000@uniontaproomwh.com
SUMMARY:Night Market
DESCRIPTION:
URL:https://uniontaproomwh.com/event/night-market-3/
END:VEVENT
BEGIN:VEVENT
DTSTART;TZID=UTC:20230504T173000
DTEND;TZID=UTC:20230504T203000
DTSTAMP:20260421T070042
CREATED:20221018T122451Z
LAST-MODIFIED:20230406T202616Z
UID:5437-1683221400-1683232200@uniontaproomwh.com
SUMMARY:Craft Beer Crawl 6-9pm
DESCRIPTION:
URL:https://uniontaproomwh.com/event/night-market-6-9pm-2-2023-05-04/
END:VEVENT
BEGIN:VEVENT
DTSTART;TZID=UTC:20230420T183000
DTEND;TZID=UTC:20230420T223000
DTSTAMP:20260421T070042
CREATED:20230406T141604Z
LAST-MODIFIED:20230406T141604Z
UID:5461-1682015400-1682029800@uniontaproomwh.com
SUMMARY:Swanna Food Tour
DESCRIPTION:
URL:https://uniontaproomwh.com/event/swanna-food-tour/
END:VEVENT
BEGIN:VEVENT
DTSTART;TZID=UTC:20230406T180000
DTEND;TZID=UTC:20230406T210000
DTSTAMP:20260421T070042
CREATED:20221018T122451Z
LAST-MODIFIED:20240124T012934Z
UID:4369-1680804000-1680814800@uniontaproomwh.com
SUMMARY:Night Market 6:00pm - 9:00pm
DESCRIPTION:
URL:https://uniontaproomwh.com/event/night-market-6-9pm-2/
END:VEVENT
BEGIN:VEVENT
DTSTART;TZID=UTC:20230331T190000
DTEND;TZID=UTC:20230331T220000
DTSTAMP:20260421T070042
CREATED:20221118T173008Z
LAST-MODIFIED:20221118T173008Z
UID:4999-1680289200-1680300000@uniontaproomwh.com
SUMMARY:Live Music 7-10pm Nathan Allen
DESCRIPTION:
URL:https://uniontaproomwh.com/event/live-music-7-10pm-nathan-allen-5/
END:VEVENT
BEGIN:VEVENT
DTSTART;TZID=UTC:20230325T190000
DTEND;TZID=UTC:20230325T220000
DTSTAMP:20260421T070042
CREATED:20221118T172945Z
LAST-MODIFIED:20221118T172945Z
UID:4997-1679770800-1679781600@uniontaproomwh.com
SUMMARY:Live Music 7-10pm Blake Free
DESCRIPTION:
URL:https://uniontaproomwh.com/event/live-music-7-10pm-blake-free-2/
END:VEVENT
BEGIN:VEVENT
DTSTART;TZID=UTC:20230324T190000
DTEND;TZID=UTC:20230324T220000
DTSTAMP:20260421T070042
CREATED:20221118T172926Z
LAST-MODIFIED:20221118T172926Z
UID:4995-1679684400-1679695200@uniontaproomwh.com
SUMMARY:Live Music 7-10pm Ben Lewis
DESCRIPTION:
URL:https://uniontaproomwh.com/event/live-music-7-10pm-ben-lewis-2/
END:VEVENT
BEGIN:VEVENT
DTSTART;TZID=UTC:20230318T190000
DTEND;TZID=UTC:20230318T220000
DTSTAMP:20260421T070042
CREATED:20221118T172900Z
LAST-MODIFIED:20221118T172900Z
UID:4993-1679166000-1679176800@uniontaproomwh.com
SUMMARY:Live Music 7-10pm Chase Dixon
DESCRIPTION:
URL:https://uniontaproomwh.com/event/live-music-7-10pm-chase-dixon-4/
END:VEVENT
BEGIN:VEVENT
DTSTART;TZID=UTC:20230317T190000
DTEND;TZID=UTC:20230317T220000
DTSTAMP:20260421T070042
CREATED:20221118T172838Z
LAST-MODIFIED:20221118T172838Z
UID:4991-1679079600-1679090400@uniontaproomwh.com
SUMMARY:St. Patrick's Day Party 7-10pm | Live Music 7-10pm Grateful Alive
DESCRIPTION:
URL:https://uniontaproomwh.com/event/st-patricks-day-party-7-10pm-live-music-7-10pm-grateful-alive/
END:VEVENT
BEGIN:VEVENT
DTSTART;TZID=UTC:20230311T190000
DTEND;TZID=UTC:20230311T220000
DTSTAMP:20260421T070042
CREATED:20221118T172803Z
LAST-MODIFIED:20221118T172803Z
UID:4989-1678561200-1678572000@uniontaproomwh.com
SUMMARY:Live Music 7-10pm T. Michael Stavres
DESCRIPTION:
URL:https://uniontaproomwh.com/event/live-music-7-10pm-t-michael-stavres-4/
END:VEVENT
BEGIN:VEVENT
DTSTART;TZID=UTC:20230310T190000
DTEND;TZID=UTC:20230310T220000
DTSTAMP:20260421T070042
CREATED:20221118T172740Z
LAST-MODIFIED:20221118T172740Z
UID:4986-1678474800-1678485600@uniontaproomwh.com
SUMMARY:Live Music 7-10pm Adrienne Richards
DESCRIPTION:
URL:https://uniontaproomwh.com/event/live-music-7-10pm-adrienne-richards-3/
END:VEVENT
BEGIN:VEVENT
DTSTART;TZID=UTC:20230304T190000
DTEND;TZID=UTC:20230304T220000
DTSTAMP:20260421T070042
CREATED:20221118T172723Z
LAST-MODIFIED:20221118T172723Z
UID:4984-1677956400-1677967200@uniontaproomwh.com
SUMMARY:Live Music 7-10pm Paul Wilson
DESCRIPTION:
URL:https://uniontaproomwh.com/event/live-music-7-10pm-paul-wilson-5/
END:VEVENT
BEGIN:VEVENT
DTSTART;TZID=UTC:20230303T190000
DTEND;TZID=UTC:20230303T220000
DTSTAMP:20260421T070042
CREATED:20221118T172705Z
LAST-MODIFIED:20221118T172705Z
UID:4982-1677870000-1677880800@uniontaproomwh.com
SUMMARY:Live Music 7-10pm Darra Tanner
DESCRIPTION:
URL:https://uniontaproomwh.com/event/live-music-7-10pm-darra-tanner/
END:VEVENT
BEGIN:VEVENT
DTSTART;TZID=UTC:20230302T180000
DTEND;TZID=UTC:20230302T210000
DTSTAMP:20260421T070042
CREATED:20221118T172647Z
LAST-MODIFIED:20221118T172647Z
UID:4980-1677780000-1677790800@uniontaproomwh.com
SUMMARY:"Night Market 6-9pm | Live Music 6-9pm Daniel Pepin"
DESCRIPTION:
URL:https://uniontaproomwh.com/event/night-market-6-9pm-live-music-6-9pm-daniel-pepin/
END:VEVENT
BEGIN:VEVENT
DTSTART;TZID=UTC:20230225T190000
DTEND;TZID=UTC:20230225T220000
DTSTAMP:20260421T070042
CREATED:20221118T172620Z
LAST-MODIFIED:20221118T172620Z
UID:4978-1677351600-1677362400@uniontaproomwh.com
SUMMARY:Live Music 7-10pm Adrienne Richards
DESCRIPTION:
URL:https://uniontaproomwh.com/event/live-music-7-10pm-adrienne-richards-2/
END:VEVENT
BEGIN:VEVENT
DTSTART;TZID=UTC:20230224T190000
DTEND;TZID=UTC:20230224T220000
DTSTAMP:20260421T070042
CREATED:20221118T172604Z
LAST-MODIFIED:20221118T172604Z
UID:4976-1677265200-1677276000@uniontaproomwh.com
SUMMARY:Live Music 7-10pm Nathan Allen
DESCRIPTION:
URL:https://uniontaproomwh.com/event/live-music-7-10pm-nathan-allen-4/
END:VEVENT
BEGIN:VEVENT
DTSTART;TZID=UTC:20230218T190000
DTEND;TZID=UTC:20230218T220000
DTSTAMP:20260421T070042
CREATED:20221118T172536Z
LAST-MODIFIED:20221118T172536Z
UID:4974-1676746800-1676757600@uniontaproomwh.com
SUMMARY:Live Music 7-10pm Dave Smith
DESCRIPTION:
URL:https://uniontaproomwh.com/event/live-music-7-10pm-dave-smith-2/
END:VEVENT
BEGIN:VEVENT
DTSTART;TZID=UTC:20230217T190000
DTEND;TZID=UTC:20230217T220000
DTSTAMP:20260421T070042
CREATED:20221118T172515Z
LAST-MODIFIED:20221118T172515Z
UID:4972-1676660400-1676671200@uniontaproomwh.com
SUMMARY:Live Music 7-10pm Ben Lewis
DESCRIPTION:
URL:https://uniontaproomwh.com/event/live-music-7-10pm-ben-lewis/
END:VEVENT
BEGIN:VEVENT
DTSTART;TZID=UTC:20230211T190000
DTEND;TZID=UTC:20230211T220000
DTSTAMP:20260421T070042
CREATED:20221118T172454Z
LAST-MODIFIED:20221118T172454Z
UID:4970-1676142000-1676152800@uniontaproomwh.com
SUMMARY:Live Music 7-10pm T. Michael Stavres
DESCRIPTION:
URL:https://uniontaproomwh.com/event/live-music-7-10pm-t-michael-stavres-3/
END:VEVENT
BEGIN:VEVENT
DTSTART;TZID=UTC:20230210T190000
DTEND;TZID=UTC:20230210T220000
DTSTAMP:20260421T070042
CREATED:20221118T172432Z
LAST-MODIFIED:20221118T172432Z
UID:4967-1676055600-1676066400@uniontaproomwh.com
SUMMARY:Live Music 7-10pm Chase Dixon
DESCRIPTION:
URL:https://uniontaproomwh.com/event/live-music-7-10pm-chase-dixon-3/
END:VEVENT
BEGIN:VEVENT
DTSTART;TZID=UTC:20230204T190000
DTEND;TZID=UTC:20230204T220000
DTSTAMP:20260421T070042
CREATED:20221118T172409Z
LAST-MODIFIED:20221118T172409Z
UID:4965-1675537200-1675548000@uniontaproomwh.com
SUMMARY:Live Music 7-10pm Travis Williams
DESCRIPTION:
URL:https://uniontaproomwh.com/event/live-music-7-10pm-travis-williams-2/
END:VEVENT
BEGIN:VEVENT
DTSTART;TZID=UTC:20230203T190000
DTEND;TZID=UTC:20230203T220000
DTSTAMP:20260421T070042
CREATED:20221118T172347Z
LAST-MODIFIED:20221118T172347Z
UID:4963-1675450800-1675461600@uniontaproomwh.com
SUMMARY:Live Music 7-10pm Paul Wilson
DESCRIPTION:
URL:https://uniontaproomwh.com/event/live-music-7-10pm-paul-wilson-4/
END:VEVENT
BEGIN:VEVENT
DTSTART;TZID=UTC:20230202T180000
DTEND;TZID=UTC:20230202T210000
DTSTAMP:20260421T070042
CREATED:20221118T172326Z
LAST-MODIFIED:20240124T012819Z
UID:4960-1675360800-1675371600@uniontaproomwh.com
SUMMARY:"Night Market 6-9pm | Live Music 6-9pm Blake Free"
DESCRIPTION:
URL:https://uniontaproomwh.com/event/night-market-6-9pm-live-music-6-9pm-blake-free-2/
END:VEVENT
BEGIN:VEVENT
DTSTART;TZID=UTC:20230128T190000
DTEND;TZID=UTC:20230128T220000
DTSTAMP:20260421T070042
CREATED:20221118T172249Z
LAST-MODIFIED:20221118T172249Z
UID:4958-1674932400-1674943200@uniontaproomwh.com
SUMMARY:Live Music 7-10pm Micah & Mike
DESCRIPTION:
URL:https://uniontaproomwh.com/event/live-music-7-10pm-micah-mike/
END:VEVENT
BEGIN:VEVENT
DTSTART;TZID=UTC:20230127T190000
DTEND;TZID=UTC:20230127T220000
DTSTAMP:20260421T070042
CREATED:20221118T172227Z
LAST-MODIFIED:20221118T172227Z
UID:4955-1674846000-1674856800@uniontaproomwh.com
SUMMARY:Live Music 7-10pm Nathan Allen
DESCRIPTION:
URL:https://uniontaproomwh.com/event/live-music-7-10pm-nathan-allen-3/
END:VEVENT
BEGIN:VEVENT
DTSTART;TZID=UTC:20230121T190000
DTEND;TZID=UTC:20230121T220000
DTSTAMP:20260421T070042
CREATED:20221118T171920Z
LAST-MODIFIED:20221225T222017Z
UID:4556-1674327600-1674338400@uniontaproomwh.com
SUMMARY:Live Music 7-10pm Micah Madore
DESCRIPTION:
URL:https://uniontaproomwh.com/event/live-music-7-10pm-chase-dixon-2/
END:VEVENT
BEGIN:VEVENT
DTSTART;TZID=UTC:20230120T190000
DTEND;TZID=UTC:20230120T220000
DTSTAMP:20260421T070042
CREATED:20221118T171854Z
LAST-MODIFIED:20221118T171854Z
UID:4553-1674241200-1674252000@uniontaproomwh.com
SUMMARY:Live Music 7-10pm Mike Monts de Oca
DESCRIPTION:
URL:https://uniontaproomwh.com/event/live-music-7-10pm-mike-monts-de-oca/
END:VEVENT
END:VCALENDAR