BEGIN:VCALENDAR
VERSION:2.0
PRODID:-//Union Taproom - ECPv6.15.10//NONSGML v1.0//EN
CALSCALE:GREGORIAN
METHOD:PUBLISH
X-WR-CALNAME:Union Taproom
X-ORIGINAL-URL:https://uniontaproomwh.com
X-WR-CALDESC:Events for Union Taproom
REFRESH-INTERVAL;VALUE=DURATION:PT1H
X-Robots-Tag:noindex
X-PUBLISHED-TTL:PT1H
BEGIN:VTIMEZONE
TZID:UTC
BEGIN:STANDARD
TZOFFSETFROM:+0000
TZOFFSETTO:+0000
TZNAME:UTC
DTSTART:20210101T000000
END:STANDARD
END:VTIMEZONE
BEGIN:VEVENT
DTSTART;TZID=UTC:20230217T190000
DTEND;TZID=UTC:20230217T220000
DTSTAMP:20260421T100950
CREATED:20221118T172515Z
LAST-MODIFIED:20221118T172515Z
UID:4972-1676660400-1676671200@uniontaproomwh.com
SUMMARY:Live Music 7-10pm Ben Lewis
DESCRIPTION:
URL:https://uniontaproomwh.com/event/live-music-7-10pm-ben-lewis/
END:VEVENT
BEGIN:VEVENT
DTSTART;TZID=UTC:20230211T190000
DTEND;TZID=UTC:20230211T220000
DTSTAMP:20260421T100950
CREATED:20221118T172454Z
LAST-MODIFIED:20221118T172454Z
UID:4970-1676142000-1676152800@uniontaproomwh.com
SUMMARY:Live Music 7-10pm T. Michael Stavres
DESCRIPTION:
URL:https://uniontaproomwh.com/event/live-music-7-10pm-t-michael-stavres-3/
END:VEVENT
BEGIN:VEVENT
DTSTART;TZID=UTC:20230210T190000
DTEND;TZID=UTC:20230210T220000
DTSTAMP:20260421T100950
CREATED:20221118T172432Z
LAST-MODIFIED:20221118T172432Z
UID:4967-1676055600-1676066400@uniontaproomwh.com
SUMMARY:Live Music 7-10pm Chase Dixon
DESCRIPTION:
URL:https://uniontaproomwh.com/event/live-music-7-10pm-chase-dixon-3/
END:VEVENT
BEGIN:VEVENT
DTSTART;TZID=UTC:20230204T190000
DTEND;TZID=UTC:20230204T220000
DTSTAMP:20260421T100950
CREATED:20221118T172409Z
LAST-MODIFIED:20221118T172409Z
UID:4965-1675537200-1675548000@uniontaproomwh.com
SUMMARY:Live Music 7-10pm Travis Williams
DESCRIPTION:
URL:https://uniontaproomwh.com/event/live-music-7-10pm-travis-williams-2/
END:VEVENT
BEGIN:VEVENT
DTSTART;TZID=UTC:20230203T190000
DTEND;TZID=UTC:20230203T220000
DTSTAMP:20260421T100950
CREATED:20221118T172347Z
LAST-MODIFIED:20221118T172347Z
UID:4963-1675450800-1675461600@uniontaproomwh.com
SUMMARY:Live Music 7-10pm Paul Wilson
DESCRIPTION:
URL:https://uniontaproomwh.com/event/live-music-7-10pm-paul-wilson-4/
END:VEVENT
BEGIN:VEVENT
DTSTART;TZID=UTC:20230202T180000
DTEND;TZID=UTC:20230202T210000
DTSTAMP:20260421T100950
CREATED:20221118T172326Z
LAST-MODIFIED:20240124T012819Z
UID:4960-1675360800-1675371600@uniontaproomwh.com
SUMMARY:"Night Market 6-9pm | Live Music 6-9pm Blake Free"
DESCRIPTION:
URL:https://uniontaproomwh.com/event/night-market-6-9pm-live-music-6-9pm-blake-free-2/
END:VEVENT
BEGIN:VEVENT
DTSTART;TZID=UTC:20230128T190000
DTEND;TZID=UTC:20230128T220000
DTSTAMP:20260421T100950
CREATED:20221118T172249Z
LAST-MODIFIED:20221118T172249Z
UID:4958-1674932400-1674943200@uniontaproomwh.com
SUMMARY:Live Music 7-10pm Micah & Mike
DESCRIPTION:
URL:https://uniontaproomwh.com/event/live-music-7-10pm-micah-mike/
END:VEVENT
BEGIN:VEVENT
DTSTART;TZID=UTC:20230127T190000
DTEND;TZID=UTC:20230127T220000
DTSTAMP:20260421T100950
CREATED:20221118T172227Z
LAST-MODIFIED:20221118T172227Z
UID:4955-1674846000-1674856800@uniontaproomwh.com
SUMMARY:Live Music 7-10pm Nathan Allen
DESCRIPTION:
URL:https://uniontaproomwh.com/event/live-music-7-10pm-nathan-allen-3/
END:VEVENT
BEGIN:VEVENT
DTSTART;TZID=UTC:20230121T190000
DTEND;TZID=UTC:20230121T220000
DTSTAMP:20260421T100950
CREATED:20221118T171920Z
LAST-MODIFIED:20221225T222017Z
UID:4556-1674327600-1674338400@uniontaproomwh.com
SUMMARY:Live Music 7-10pm Micah Madore
DESCRIPTION:
URL:https://uniontaproomwh.com/event/live-music-7-10pm-chase-dixon-2/
END:VEVENT
BEGIN:VEVENT
DTSTART;TZID=UTC:20230120T190000
DTEND;TZID=UTC:20230120T220000
DTSTAMP:20260421T100950
CREATED:20221118T171854Z
LAST-MODIFIED:20221118T171854Z
UID:4553-1674241200-1674252000@uniontaproomwh.com
SUMMARY:Live Music 7-10pm Mike Monts de Oca
DESCRIPTION:
URL:https://uniontaproomwh.com/event/live-music-7-10pm-mike-monts-de-oca/
END:VEVENT
BEGIN:VEVENT
DTSTART;TZID=UTC:20230114T190000
DTEND;TZID=UTC:20230114T220000
DTSTAMP:20260421T100950
CREATED:20221118T171832Z
LAST-MODIFIED:20221118T171832Z
UID:4551-1673722800-1673733600@uniontaproomwh.com
SUMMARY:Live Music 7-10pm Paul Wilson
DESCRIPTION:
URL:https://uniontaproomwh.com/event/live-music-7-10pm-paul-wilson-3/
END:VEVENT
BEGIN:VEVENT
DTSTART;TZID=UTC:20230113T190000
DTEND;TZID=UTC:20230113T220000
DTSTAMP:20260421T100950
CREATED:20221118T171812Z
LAST-MODIFIED:20221225T221927Z
UID:4549-1673636400-1673647200@uniontaproomwh.com
SUMMARY:Live Music 7-10pm Chase Dixon
DESCRIPTION:
URL:https://uniontaproomwh.com/event/live-music-7-10pm-miicah-madore/
END:VEVENT
BEGIN:VEVENT
DTSTART;TZID=UTC:20230107T190000
DTEND;TZID=UTC:20230107T220000
DTSTAMP:20260421T100950
CREATED:20221118T171749Z
LAST-MODIFIED:20221118T171749Z
UID:4547-1673118000-1673128800@uniontaproomwh.com
SUMMARY:Live Music 7-10pm Blake Free
DESCRIPTION:
URL:https://uniontaproomwh.com/event/live-music-7-10pm-blake-free/
END:VEVENT
BEGIN:VEVENT
DTSTART;TZID=UTC:20230106T190000
DTEND;TZID=UTC:20230106T220000
DTSTAMP:20260421T100950
CREATED:20221118T171727Z
LAST-MODIFIED:20221118T171727Z
UID:4544-1673031600-1673042400@uniontaproomwh.com
SUMMARY:Live Music 7-10pm Dave Smith
DESCRIPTION:
URL:https://uniontaproomwh.com/event/live-music-7-10pm-dave-smith/
END:VEVENT
BEGIN:VEVENT
DTSTART;TZID=UTC:20230105T180000
DTEND;TZID=UTC:20230105T210000
DTSTAMP:20260421T100950
CREATED:20221118T171658Z
LAST-MODIFIED:20221118T171658Z
UID:4542-1672941600-1672952400@uniontaproomwh.com
SUMMARY:Night Market 6-9pm | Live Music 6-9pm Adrienne Richards
DESCRIPTION:
URL:https://uniontaproomwh.com/event/night-market-6-9pm-live-music-6-9pm-adrienne-richards/
END:VEVENT
BEGIN:VEVENT
DTSTART;TZID=UTC:20221231T120000
DTEND;TZID=UTC:20221231T160000
DTSTAMP:20260421T100950
CREATED:20221018T123122Z
LAST-MODIFIED:20221018T123122Z
UID:4401-1672488000-1672502400@uniontaproomwh.com
SUMMARY:Holiday Hours 12-4pm
DESCRIPTION:
URL:https://uniontaproomwh.com/event/holiday-hours-12-4pm-2/
END:VEVENT
BEGIN:VEVENT
DTSTART;TZID=UTC:20221230T190000
DTEND;TZID=UTC:20221230T220000
DTSTAMP:20260421T100950
CREATED:20221018T123059Z
LAST-MODIFIED:20221225T221827Z
UID:4399-1672426800-1672437600@uniontaproomwh.com
SUMMARY:Live Music 7-10pm Ryan Joyce
DESCRIPTION:
URL:https://uniontaproomwh.com/event/live-music-7-10pm-ashton-rey-2/
END:VEVENT
BEGIN:VEVENT
DTSTART;TZID=UTC:20221228T190000
DTEND;TZID=UTC:20221228T210000
DTSTAMP:20260421T100950
CREATED:20221018T123031Z
LAST-MODIFIED:20221018T123031Z
UID:4397-1672254000-1672261200@uniontaproomwh.com
SUMMARY:Trivia 7pm
DESCRIPTION:
URL:https://uniontaproomwh.com/event/trivia-7pm-6/
END:VEVENT
BEGIN:VEVENT
DTSTART;TZID=UTC:20221224T120000
DTEND;TZID=UTC:20221224T160000
DTSTAMP:20260421T100950
CREATED:20221018T123009Z
LAST-MODIFIED:20221018T123009Z
UID:4395-1671883200-1671897600@uniontaproomwh.com
SUMMARY:Holiday Hours 12-4pm
DESCRIPTION:
URL:https://uniontaproomwh.com/event/holiday-hours-12-4pm/
END:VEVENT
BEGIN:VEVENT
DTSTART;TZID=UTC:20221223T190000
DTEND;TZID=UTC:20221223T220000
DTSTAMP:20260421T100950
CREATED:20221018T122945Z
LAST-MODIFIED:20221018T122945Z
UID:4393-1671822000-1671832800@uniontaproomwh.com
SUMMARY:Live Music 7-10pm Adrienne Richards
DESCRIPTION:
URL:https://uniontaproomwh.com/event/live-music-7-10pm-adrienne-richards/
END:VEVENT
BEGIN:VEVENT
DTSTART;TZID=UTC:20221221T190000
DTEND;TZID=UTC:20221221T210000
DTSTAMP:20260421T100950
CREATED:20221018T122919Z
LAST-MODIFIED:20221018T122919Z
UID:4391-1671649200-1671656400@uniontaproomwh.com
SUMMARY:Christmas Vacation Trivia 7pm
DESCRIPTION:
URL:https://uniontaproomwh.com/event/christmas-vacation-trivia-7pm-2/
END:VEVENT
BEGIN:VEVENT
DTSTART;TZID=UTC:20221217T190000
DTEND;TZID=UTC:20221217T220000
DTSTAMP:20260421T100950
CREATED:20221018T122853Z
LAST-MODIFIED:20221018T122853Z
UID:4389-1671303600-1671314400@uniontaproomwh.com
SUMMARY:Live Music 7-10pm Micah Madore
DESCRIPTION:
URL:https://uniontaproomwh.com/event/live-music-7-10pm-micah-madore/
END:VEVENT
BEGIN:VEVENT
DTSTART;TZID=UTC:20221217T190000
DTEND;TZID=UTC:20221217T220000
DTSTAMP:20260421T100950
CREATED:20221018T122826Z
LAST-MODIFIED:20221018T122826Z
UID:4387-1671303600-1671314400@uniontaproomwh.com
SUMMARY:Ugly Christmas Sweater Party 7-10pm
DESCRIPTION:
URL:https://uniontaproomwh.com/event/ugly-christmas-sweater-party-7-10pm/
END:VEVENT
BEGIN:VEVENT
DTSTART;TZID=UTC:20221216T190000
DTEND;TZID=UTC:20221216T220000
DTSTAMP:20260421T100950
CREATED:20221018T122751Z
LAST-MODIFIED:20221018T122751Z
UID:4385-1671217200-1671228000@uniontaproomwh.com
SUMMARY:Live Music 7-10pm Eklektic Haze
DESCRIPTION:
URL:https://uniontaproomwh.com/event/live-music-7-10pm-eklektic-haze-2/
END:VEVENT
BEGIN:VEVENT
DTSTART;TZID=UTC:20221214T190000
DTEND;TZID=UTC:20221214T210000
DTSTAMP:20260421T100950
CREATED:20221018T122729Z
LAST-MODIFIED:20221018T122729Z
UID:4383-1671044400-1671051600@uniontaproomwh.com
SUMMARY:Trivia 7pm
DESCRIPTION:
URL:https://uniontaproomwh.com/event/trivia-7pm-5/
END:VEVENT
BEGIN:VEVENT
DTSTART;TZID=UTC:20221210T190000
DTEND;TZID=UTC:20221210T220000
DTSTAMP:20260421T100950
CREATED:20221018T122704Z
LAST-MODIFIED:20221018T122704Z
UID:4381-1670698800-1670709600@uniontaproomwh.com
SUMMARY:Live Music 7-10pm Nathan Allen
DESCRIPTION:
URL:https://uniontaproomwh.com/event/live-music-7-10pm-nathan-allen-2/
END:VEVENT
BEGIN:VEVENT
DTSTART;TZID=UTC:20221209T190000
DTEND;TZID=UTC:20221209T220000
DTSTAMP:20260421T100950
CREATED:20221018T122645Z
LAST-MODIFIED:20221018T122645Z
UID:4379-1670612400-1670623200@uniontaproomwh.com
SUMMARY:Live Music 7-10pm Travis Williams
DESCRIPTION:
URL:https://uniontaproomwh.com/event/live-music-7-10pm-travis-williams/
END:VEVENT
BEGIN:VEVENT
DTSTART;TZID=UTC:20221207T190000
DTEND;TZID=UTC:20221207T210000
DTSTAMP:20260421T100950
CREATED:20221018T122622Z
LAST-MODIFIED:20221018T122622Z
UID:4377-1670439600-1670446800@uniontaproomwh.com
SUMMARY:Trivia 7pm
DESCRIPTION:
URL:https://uniontaproomwh.com/event/trivia-7pm-4/
END:VEVENT
BEGIN:VEVENT
DTSTART;TZID=UTC:20221203T190000
DTEND;TZID=UTC:20221203T220000
DTSTAMP:20260421T100950
CREATED:20221018T122558Z
LAST-MODIFIED:20221018T122558Z
UID:4375-1670094000-1670104800@uniontaproomwh.com
SUMMARY:Live Music 7-10pm Chase Dixon
DESCRIPTION:
URL:https://uniontaproomwh.com/event/live-music-7-10pm-chase-dixon/
END:VEVENT
BEGIN:VEVENT
DTSTART;TZID=UTC:20221202T190000
DTEND;TZID=UTC:20221202T220000
DTSTAMP:20260421T100950
CREATED:20221018T122534Z
LAST-MODIFIED:20221018T122534Z
UID:4373-1670007600-1670018400@uniontaproomwh.com
SUMMARY:Live Music 7-10pm Chasm Deep
DESCRIPTION:
URL:https://uniontaproomwh.com/event/live-music-7-10pm-chasm-deep/
END:VEVENT
END:VCALENDAR