BEGIN:VCALENDAR
VERSION:2.0
PRODID:-//Union Taproom - ECPv6.15.10//NONSGML v1.0//EN
CALSCALE:GREGORIAN
METHOD:PUBLISH
X-WR-CALNAME:Union Taproom
X-ORIGINAL-URL:https://uniontaproomwh.com
X-WR-CALDESC:Events for Union Taproom
REFRESH-INTERVAL;VALUE=DURATION:PT1H
X-Robots-Tag:noindex
X-PUBLISHED-TTL:PT1H
BEGIN:VTIMEZONE
TZID:UTC
BEGIN:STANDARD
TZOFFSETFROM:+0000
TZOFFSETTO:+0000
TZNAME:UTC
DTSTART:20210101T000000
END:STANDARD
END:VTIMEZONE
BEGIN:VEVENT
DTSTART;TZID=UTC:20220819T190000
DTEND;TZID=UTC:20220819T220000
DTSTAMP:20260421T223353
CREATED:20220616T140440Z
LAST-MODIFIED:20220616T140440Z
UID:4254-1660935600-1660946400@uniontaproomwh.com
SUMMARY:Adrienne Richards 7-10pm
DESCRIPTION:
URL:https://uniontaproomwh.com/event/adrienne-richards-7-10pm-3/
END:VEVENT
BEGIN:VEVENT
DTSTART;TZID=UTC:20220813T190000
DTEND;TZID=UTC:20220813T220000
DTSTAMP:20260421T223353
CREATED:20220616T140418Z
LAST-MODIFIED:20220616T140418Z
UID:4252-1660417200-1660428000@uniontaproomwh.com
SUMMARY:Frank Dancey 7-10pm
DESCRIPTION:
URL:https://uniontaproomwh.com/event/frank-dancey-7-10pm/
END:VEVENT
BEGIN:VEVENT
DTSTART;TZID=UTC:20220812T190000
DTEND;TZID=UTC:20220812T220000
DTSTAMP:20260421T223353
CREATED:20220616T140357Z
LAST-MODIFIED:20220616T140357Z
UID:4250-1660330800-1660341600@uniontaproomwh.com
SUMMARY:David Brimer 7-10pm
DESCRIPTION:
URL:https://uniontaproomwh.com/event/david-brimer-7-10pm-3/
END:VEVENT
BEGIN:VEVENT
DTSTART;TZID=UTC:20220806T190000
DTEND;TZID=UTC:20220806T220000
DTSTAMP:20260421T223353
CREATED:20220616T140337Z
LAST-MODIFIED:20220616T140337Z
UID:4248-1659812400-1659823200@uniontaproomwh.com
SUMMARY:Ryan Joyce 7-10pm
DESCRIPTION:
URL:https://uniontaproomwh.com/event/ryan-joyce-7-10pm-2/
END:VEVENT
BEGIN:VEVENT
DTSTART;TZID=UTC:20220805T190000
DTEND;TZID=UTC:20220805T220000
DTSTAMP:20260421T223353
CREATED:20220616T140311Z
LAST-MODIFIED:20220616T140311Z
UID:4246-1659726000-1659736800@uniontaproomwh.com
SUMMARY:David Smith 7-10pm
DESCRIPTION:
URL:https://uniontaproomwh.com/event/david-smith-7-10pm-2/
END:VEVENT
BEGIN:VEVENT
DTSTART;TZID=UTC:20220804T180000
DTEND;TZID=UTC:20220804T210000
DTSTAMP:20260421T223353
CREATED:20220616T140250Z
LAST-MODIFIED:20220616T140250Z
UID:4244-1659636000-1659646800@uniontaproomwh.com
SUMMARY:Night Market 6-9pm\, Live Music: Eklectik Haze
DESCRIPTION:
URL:https://uniontaproomwh.com/event/night-market-6-9pm-live-music-eklectik-haze/
END:VEVENT
BEGIN:VEVENT
DTSTART;TZID=UTC:20220730T190000
DTEND;TZID=UTC:20220730T220000
DTSTAMP:20260421T223353
CREATED:20220721T142112Z
LAST-MODIFIED:20220721T142112Z
UID:4288-1659207600-1659218400@uniontaproomwh.com
SUMMARY:Live Music: Mike Monts De Oca 7pm - 10pm
DESCRIPTION:
URL:https://uniontaproomwh.com/event/live-music-mike-monts-de-oca-7pm-10pm/
END:VEVENT
BEGIN:VEVENT
DTSTART;TZID=UTC:20220729T190000
DTEND;TZID=UTC:20220729T220000
DTSTAMP:20260421T223353
CREATED:20220721T142014Z
LAST-MODIFIED:20220721T142014Z
UID:4286-1659121200-1659132000@uniontaproomwh.com
SUMMARY:Live Music: Nathan Allen 7-10pm
DESCRIPTION:
URL:https://uniontaproomwh.com/event/live-music-nathan-allen-7-10pm/
END:VEVENT
BEGIN:VEVENT
DTSTART;TZID=UTC:20220727T190000
DTEND;TZID=UTC:20220727T210000
DTSTAMP:20260421T223353
CREATED:20220616T140227Z
LAST-MODIFIED:20220616T140227Z
UID:4242-1658948400-1658955600@uniontaproomwh.com
SUMMARY:Themed Trivia: Grey's Anatomy 7pm
DESCRIPTION:
URL:https://uniontaproomwh.com/event/themed-trivia-greys-anatomy-7pm/
END:VEVENT
BEGIN:VEVENT
DTSTART;TZID=UTC:20220723T190000
DTEND;TZID=UTC:20220723T220000
DTSTAMP:20260421T223353
CREATED:20220616T140204Z
LAST-MODIFIED:20220616T140204Z
UID:4240-1658602800-1658613600@uniontaproomwh.com
SUMMARY:Adrienne Richards 7-10pm
DESCRIPTION:
URL:https://uniontaproomwh.com/event/adrienne-richards-7-10pm-2/
END:VEVENT
BEGIN:VEVENT
DTSTART;TZID=UTC:20220722T190000
DTEND;TZID=UTC:20220722T220000
DTSTAMP:20260421T223353
CREATED:20220616T140146Z
LAST-MODIFIED:20220616T140146Z
UID:4238-1658516400-1658527200@uniontaproomwh.com
SUMMARY:Daniel Pepin 7-10pm
DESCRIPTION:
URL:https://uniontaproomwh.com/event/daniel-pepin-7-10pm-3/
END:VEVENT
BEGIN:VEVENT
DTSTART;TZID=UTC:20220716T190000
DTEND;TZID=UTC:20220716T220000
DTSTAMP:20260421T223353
CREATED:20220616T140127Z
LAST-MODIFIED:20220616T140127Z
UID:4236-1657998000-1658008800@uniontaproomwh.com
SUMMARY:Blake Free 7-10pm
DESCRIPTION:
URL:https://uniontaproomwh.com/event/blake-free-7-10pm-3/
END:VEVENT
BEGIN:VEVENT
DTSTART;TZID=UTC:20220715T190000
DTEND;TZID=UTC:20220715T220000
DTSTAMP:20260421T223353
CREATED:20220616T140104Z
LAST-MODIFIED:20220616T140104Z
UID:4234-1657911600-1657922400@uniontaproomwh.com
SUMMARY:Ashton Rey 7-10pm
DESCRIPTION:
URL:https://uniontaproomwh.com/event/ashton-rey-7-10pm-2/
END:VEVENT
BEGIN:VEVENT
DTSTART;TZID=UTC:20220709T190000
DTEND;TZID=UTC:20220709T220000
DTSTAMP:20260421T223353
CREATED:20220616T140044Z
LAST-MODIFIED:20220616T140044Z
UID:4232-1657393200-1657404000@uniontaproomwh.com
SUMMARY:Grateful Alive 7-10pm
DESCRIPTION:
URL:https://uniontaproomwh.com/event/grateful-alive-7-10pm/
END:VEVENT
BEGIN:VEVENT
DTSTART;TZID=UTC:20220708T190000
DTEND;TZID=UTC:20220708T220000
DTSTAMP:20260421T223353
CREATED:20220616T140021Z
LAST-MODIFIED:20220616T140021Z
UID:4230-1657306800-1657317600@uniontaproomwh.com
SUMMARY:Chase Dixson 7-10pm
DESCRIPTION:
URL:https://uniontaproomwh.com/event/chase-dixson-7-10pm/
END:VEVENT
BEGIN:VEVENT
DTSTART;TZID=UTC:20220707T180000
DTEND;TZID=UTC:20220707T210000
DTSTAMP:20260421T223353
CREATED:20220616T135954Z
LAST-MODIFIED:20220616T135954Z
UID:4228-1657216800-1657227600@uniontaproomwh.com
SUMMARY:Night Market 6-9pm\, Live Music: Travis Williams
DESCRIPTION:
URL:https://uniontaproomwh.com/event/night-market-6-9pm-live-music-travis-williams/
END:VEVENT
BEGIN:VEVENT
DTSTART;TZID=UTC:20220702T190000
DTEND;TZID=UTC:20220702T220000
DTSTAMP:20260421T223353
CREATED:20220616T135928Z
LAST-MODIFIED:20220616T135928Z
UID:4226-1656788400-1656799200@uniontaproomwh.com
SUMMARY:Ryan Joyce 7-10pm
DESCRIPTION:
URL:https://uniontaproomwh.com/event/ryan-joyce-7-10pm/
END:VEVENT
BEGIN:VEVENT
DTSTART;TZID=UTC:20220701T190000
DTEND;TZID=UTC:20220701T220000
DTSTAMP:20260421T223353
CREATED:20220616T135906Z
LAST-MODIFIED:20220616T135906Z
UID:4224-1656702000-1656712800@uniontaproomwh.com
SUMMARY:Micah Madore 7-10pm
DESCRIPTION:
URL:https://uniontaproomwh.com/event/micah-madore-7-10pm-2/
END:VEVENT
BEGIN:VEVENT
DTSTART;TZID=UTC:20220629T190000
DTEND;TZID=UTC:20220629T210000
DTSTAMP:20260421T223353
CREATED:20220616T135836Z
LAST-MODIFIED:20220616T135836Z
UID:4222-1656529200-1656536400@uniontaproomwh.com
SUMMARY:Themed Trivia: Disney 7pm
DESCRIPTION:
URL:https://uniontaproomwh.com/event/themed-trivia-disney-7pm/
END:VEVENT
BEGIN:VEVENT
DTSTART;TZID=UTC:20220625T190000
DTEND;TZID=UTC:20220625T220000
DTSTAMP:20260421T223353
CREATED:20220616T135806Z
LAST-MODIFIED:20220616T135806Z
UID:4220-1656183600-1656194400@uniontaproomwh.com
SUMMARY:Mike Monts De Oca 7-10pm
DESCRIPTION:
URL:https://uniontaproomwh.com/event/mike-monts-de-oca-7-10pm-3/
END:VEVENT
BEGIN:VEVENT
DTSTART;TZID=UTC:20220624T190000
DTEND;TZID=UTC:20220624T220000
DTSTAMP:20260421T223353
CREATED:20220616T135743Z
LAST-MODIFIED:20220616T135743Z
UID:4218-1656097200-1656108000@uniontaproomwh.com
SUMMARY:David Smith 7-10pm
DESCRIPTION:
URL:https://uniontaproomwh.com/event/david-smith-7-10pm/
END:VEVENT
BEGIN:VEVENT
DTSTART;TZID=UTC:20220619T120000
DTEND;TZID=UTC:20220619T190000
DTSTAMP:20260421T223353
CREATED:20220616T135712Z
LAST-MODIFIED:20220616T135712Z
UID:4216-1655640000-1655665200@uniontaproomwh.com
SUMMARY:Father's Day Brunch + Beer 12pm-7pm
DESCRIPTION:
URL:https://uniontaproomwh.com/event/fathers-day-brunch-beer-12pm-7pm/
END:VEVENT
BEGIN:VEVENT
DTSTART;TZID=UTC:20220618T190000
DTEND;TZID=UTC:20220618T220000
DTSTAMP:20260421T223353
CREATED:20220616T135648Z
LAST-MODIFIED:20220616T135648Z
UID:4214-1655578800-1655589600@uniontaproomwh.com
SUMMARY:David Brimer 7-10pm
DESCRIPTION:
URL:https://uniontaproomwh.com/event/david-brimer-7-10pm-2/
END:VEVENT
BEGIN:VEVENT
DTSTART;TZID=UTC:20220617T190000
DTEND;TZID=UTC:20220617T220000
DTSTAMP:20260421T223353
CREATED:20220616T135626Z
LAST-MODIFIED:20220616T135626Z
UID:4212-1655492400-1655503200@uniontaproomwh.com
SUMMARY:Daniel Pepin 7-10pm
DESCRIPTION:
URL:https://uniontaproomwh.com/event/daniel-pepin-7-10pm-2/
END:VEVENT
BEGIN:VEVENT
DTSTART;TZID=UTC:20220616T173000
DTEND;TZID=UTC:20220616T210000
DTSTAMP:20260421T223353
CREATED:20220616T135559Z
LAST-MODIFIED:20220616T135559Z
UID:4210-1655400600-1655413200@uniontaproomwh.com
SUMMARY:Downtown Craft Beer Crawl 5:30-9pm
DESCRIPTION:
URL:https://uniontaproomwh.com/event/downtown-craft-beer-crawl-530-9pm/
END:VEVENT
BEGIN:VEVENT
DTSTART;TZID=UTC:20220429T190000
DTEND;TZID=UTC:20220429T220000
DTSTAMP:20260421T223353
CREATED:20220118T162731Z
LAST-MODIFIED:20220118T162731Z
UID:3721-1651258800-1651269600@uniontaproomwh.com
SUMMARY:Dan Signor 7-10pm
DESCRIPTION:
URL:https://uniontaproomwh.com/event/dan-signor-7-10pm/
END:VEVENT
BEGIN:VEVENT
DTSTART;TZID=UTC:20220423T190000
DTEND;TZID=UTC:20220423T220000
DTSTAMP:20260421T223353
CREATED:20220118T162654Z
LAST-MODIFIED:20220118T162654Z
UID:3719-1650740400-1650751200@uniontaproomwh.com
SUMMARY:Laura + David Duo 7-10pm
DESCRIPTION:
URL:https://uniontaproomwh.com/event/laura-david-duo-7-10pm/
END:VEVENT
BEGIN:VEVENT
DTSTART;TZID=UTC:20220422T190000
DTEND;TZID=UTC:20220422T220000
DTSTAMP:20260421T223353
CREATED:20220118T162626Z
LAST-MODIFIED:20220118T162626Z
UID:3717-1650654000-1650664800@uniontaproomwh.com
SUMMARY:Mike Monts De Oca 7-10pm
DESCRIPTION:
URL:https://uniontaproomwh.com/event/mike-monts-de-oca-7-10pm-2/
END:VEVENT
BEGIN:VEVENT
DTSTART;VALUE=DATE:20220417
DTEND;VALUE=DATE:20220418
DTSTAMP:20260421T223353
CREATED:20220118T162605Z
LAST-MODIFIED:20220118T162605Z
UID:3715-1650153600-1650239999@uniontaproomwh.com
SUMMARY:TAPROOM CLOSED - Happy Easter!
DESCRIPTION:
URL:https://uniontaproomwh.com/event/taproom-closed-happy-easter/
END:VEVENT
BEGIN:VEVENT
DTSTART;TZID=UTC:20220416T190000
DTEND;TZID=UTC:20220416T220000
DTSTAMP:20260421T223353
CREATED:20220118T162547Z
LAST-MODIFIED:20220118T162547Z
UID:3713-1650135600-1650146400@uniontaproomwh.com
SUMMARY:Adrienne Richards 7-10pm
DESCRIPTION:
URL:https://uniontaproomwh.com/event/adrienne-richards-7-10pm/
END:VEVENT
END:VCALENDAR