BEGIN:VCALENDAR
VERSION:2.0
PRODID:-//Union Taproom - ECPv6.15.10//NONSGML v1.0//EN
CALSCALE:GREGORIAN
METHOD:PUBLISH
X-WR-CALNAME:Union Taproom
X-ORIGINAL-URL:https://uniontaproomwh.com
X-WR-CALDESC:Events for Union Taproom
REFRESH-INTERVAL;VALUE=DURATION:PT1H
X-Robots-Tag:noindex
X-PUBLISHED-TTL:PT1H
BEGIN:VTIMEZONE
TZID:UTC
BEGIN:STANDARD
TZOFFSETFROM:+0000
TZOFFSETTO:+0000
TZNAME:UTC
DTSTART:20230101T000000
END:STANDARD
END:VTIMEZONE
BEGIN:VEVENT
DTSTART;TZID=UTC:20241003T180000
DTEND;TZID=UTC:20241003T210000
DTSTAMP:20260420T172255
CREATED:20221018T122451Z
LAST-MODIFIED:20240124T012939Z
UID:5454-1727978400-1727989200@uniontaproomwh.com
SUMMARY:Night Market 6:00pm - 9:00pm
DESCRIPTION:
URL:https://uniontaproomwh.com/event/night-market-6-9pm-2-2024-10-03/
END:VEVENT
BEGIN:VEVENT
DTSTART;TZID=UTC:20241002T190000
DTEND;TZID=UTC:20241002T210000
DTSTAMP:20260420T172255
CREATED:20210915T133506Z
LAST-MODIFIED:20221228T125807Z
UID:4318-1727895600-1727902800@uniontaproomwh.com
SUMMARY:Trivia Night
DESCRIPTION:
URL:https://uniontaproomwh.com/event/trivia-night-2024-10-02/
END:VEVENT
BEGIN:VEVENT
DTSTART;TZID=UTC:20240925T190000
DTEND;TZID=UTC:20240925T210000
DTSTAMP:20260420T172255
CREATED:20210915T133506Z
LAST-MODIFIED:20221228T125807Z
UID:4316-1727290800-1727298000@uniontaproomwh.com
SUMMARY:Trivia Night
DESCRIPTION:
URL:https://uniontaproomwh.com/event/trivia-night-2024-09-25/
END:VEVENT
BEGIN:VEVENT
DTSTART;TZID=UTC:20240918T190000
DTEND;TZID=UTC:20240918T210000
DTSTAMP:20260420T172255
CREATED:20210915T133506Z
LAST-MODIFIED:20221228T125807Z
UID:4314-1726686000-1726693200@uniontaproomwh.com
SUMMARY:Trivia Night
DESCRIPTION:
URL:https://uniontaproomwh.com/event/trivia-night-2024-09-18/
END:VEVENT
BEGIN:VEVENT
DTSTART;TZID=UTC:20240911T190000
DTEND;TZID=UTC:20240911T210000
DTSTAMP:20260420T172255
CREATED:20210915T133506Z
LAST-MODIFIED:20221228T125807Z
UID:4311-1726081200-1726088400@uniontaproomwh.com
SUMMARY:Trivia Night
DESCRIPTION:
URL:https://uniontaproomwh.com/event/trivia-night-2024-09-11/
END:VEVENT
BEGIN:VEVENT
DTSTART;TZID=UTC:20240905T180000
DTEND;TZID=UTC:20240905T210000
DTSTAMP:20260420T172255
CREATED:20221018T122451Z
LAST-MODIFIED:20240124T012939Z
UID:5453-1725559200-1725570000@uniontaproomwh.com
SUMMARY:Night Market 6:00pm - 9:00pm
DESCRIPTION:
URL:https://uniontaproomwh.com/event/night-market-6-9pm-2-2024-09-05/
END:VEVENT
BEGIN:VEVENT
DTSTART;TZID=UTC:20240904T190000
DTEND;TZID=UTC:20240904T210000
DTSTAMP:20260420T172255
CREATED:20210915T133506Z
LAST-MODIFIED:20221228T125807Z
UID:4309-1725476400-1725483600@uniontaproomwh.com
SUMMARY:Trivia Night
DESCRIPTION:
URL:https://uniontaproomwh.com/event/trivia-night-2024-09-04/
END:VEVENT
BEGIN:VEVENT
DTSTART;TZID=UTC:20240828T190000
DTEND;TZID=UTC:20240828T210000
DTSTAMP:20260420T172255
CREATED:20210915T133506Z
LAST-MODIFIED:20221228T125807Z
UID:4303-1724871600-1724878800@uniontaproomwh.com
SUMMARY:Trivia Night
DESCRIPTION:
URL:https://uniontaproomwh.com/event/trivia-night-2024-08-28/
END:VEVENT
BEGIN:VEVENT
DTSTART;TZID=UTC:20240821T190000
DTEND;TZID=UTC:20240821T210000
DTSTAMP:20260420T172255
CREATED:20210915T133506Z
LAST-MODIFIED:20221228T125807Z
UID:4301-1724266800-1724274000@uniontaproomwh.com
SUMMARY:Trivia Night
DESCRIPTION:
URL:https://uniontaproomwh.com/event/trivia-night-2024-08-21/
END:VEVENT
BEGIN:VEVENT
DTSTART;VALUE=DATE:20240815
DTEND;VALUE=DATE:20240826
DTSTAMP:20260420T172255
CREATED:20240807T125551Z
LAST-MODIFIED:20240807T125551Z
UID:5906-1723680000-1724630399@uniontaproomwh.com
SUMMARY:Downtown Dining
DESCRIPTION:Here are the Union Taproom Specials for Downtown Dining Week: \n$15: Choose 2 Apps: Pretzel + Garlic Knots\, Cupcakes or Tots \n$25: 2 Pizza Combo: 1 Specialty Pizza & 1 Cheese Pizza \n$45: Pretzel & Specialty Pizza Combo: 1 Pretzel + 2 Specialty Pizzas
URL:https://uniontaproomwh.com/event/downtown-dining/
END:VEVENT
BEGIN:VEVENT
DTSTART;TZID=UTC:20240814T190000
DTEND;TZID=UTC:20240814T210000
DTSTAMP:20260420T172255
CREATED:20210915T133506Z
LAST-MODIFIED:20221228T125807Z
UID:4299-1723662000-1723669200@uniontaproomwh.com
SUMMARY:Trivia Night
DESCRIPTION:
URL:https://uniontaproomwh.com/event/trivia-night-2024-08-14/
END:VEVENT
BEGIN:VEVENT
DTSTART;TZID=UTC:20240807T190000
DTEND;TZID=UTC:20240807T210000
DTSTAMP:20260420T172255
CREATED:20210915T133506Z
LAST-MODIFIED:20221228T125807Z
UID:4297-1723057200-1723064400@uniontaproomwh.com
SUMMARY:Trivia Night
DESCRIPTION:
URL:https://uniontaproomwh.com/event/trivia-night-2024-08-07/
END:VEVENT
BEGIN:VEVENT
DTSTART;TZID=UTC:20240801T180000
DTEND;TZID=UTC:20240801T210000
DTSTAMP:20260420T172255
CREATED:20221018T122451Z
LAST-MODIFIED:20240124T012939Z
UID:5452-1722535200-1722546000@uniontaproomwh.com
SUMMARY:Night Market 6:00pm - 9:00pm
DESCRIPTION:
URL:https://uniontaproomwh.com/event/night-market-6-9pm-2-2024-08-01/
END:VEVENT
BEGIN:VEVENT
DTSTART;TZID=UTC:20240731T190000
DTEND;TZID=UTC:20240731T210000
DTSTAMP:20260420T172255
CREATED:20210915T133506Z
LAST-MODIFIED:20221228T125805Z
UID:4295-1722452400-1722459600@uniontaproomwh.com
SUMMARY:Trivia Night
DESCRIPTION:
URL:https://uniontaproomwh.com/event/trivia-night-2024-07-31/
END:VEVENT
BEGIN:VEVENT
DTSTART;TZID=UTC:20240724T190000
DTEND;TZID=UTC:20240724T210000
DTSTAMP:20260420T172255
CREATED:20210915T133506Z
LAST-MODIFIED:20221228T125805Z
UID:4293-1721847600-1721854800@uniontaproomwh.com
SUMMARY:Trivia Night
DESCRIPTION:
URL:https://uniontaproomwh.com/event/trivia-night-2024-07-24/
END:VEVENT
BEGIN:VEVENT
DTSTART;TZID=UTC:20240717T190000
DTEND;TZID=UTC:20240717T210000
DTSTAMP:20260420T172255
CREATED:20210915T133506Z
LAST-MODIFIED:20240710T133241Z
UID:4284-1721242800-1721250000@uniontaproomwh.com
SUMMARY:Game Night
DESCRIPTION:
URL:https://uniontaproomwh.com/event/trivia-night-2024-07-17/
END:VEVENT
BEGIN:VEVENT
DTSTART;TZID=UTC:20240710T190000
DTEND;TZID=UTC:20240710T210000
DTSTAMP:20260420T172255
CREATED:20210915T133506Z
LAST-MODIFIED:20240710T133142Z
UID:4282-1720638000-1720645200@uniontaproomwh.com
SUMMARY:Game Night
DESCRIPTION:
URL:https://uniontaproomwh.com/event/trivia-night-2024-07-10/
END:VEVENT
BEGIN:VEVENT
DTSTART;TZID=UTC:20240704T180000
DTEND;TZID=UTC:20240704T210000
DTSTAMP:20260420T172255
CREATED:20221018T122451Z
LAST-MODIFIED:20240124T012939Z
UID:5451-1720116000-1720126800@uniontaproomwh.com
SUMMARY:Night Market 6:00pm - 9:00pm
DESCRIPTION:
URL:https://uniontaproomwh.com/event/night-market-6-9pm-2-2024-07-04/
END:VEVENT
BEGIN:VEVENT
DTSTART;TZID=UTC:20240703T190000
DTEND;TZID=UTC:20240703T210000
DTSTAMP:20260420T172255
CREATED:20210915T133506Z
LAST-MODIFIED:20221228T125805Z
UID:4278-1720033200-1720040400@uniontaproomwh.com
SUMMARY:Trivia Night
DESCRIPTION:
URL:https://uniontaproomwh.com/event/trivia-night-2024-07-03/
END:VEVENT
BEGIN:VEVENT
DTSTART;TZID=UTC:20240626T190000
DTEND;TZID=UTC:20240626T210000
DTSTAMP:20260420T172255
CREATED:20210915T133506Z
LAST-MODIFIED:20221228T125805Z
UID:4275-1719428400-1719435600@uniontaproomwh.com
SUMMARY:Trivia Night
DESCRIPTION:
URL:https://uniontaproomwh.com/event/trivia-night-2024-06-26/
END:VEVENT
BEGIN:VEVENT
DTSTART;TZID=UTC:20240619T190000
DTEND;TZID=UTC:20240619T210000
DTSTAMP:20260420T172255
CREATED:20210915T133506Z
LAST-MODIFIED:20221228T125804Z
UID:4272-1718823600-1718830800@uniontaproomwh.com
SUMMARY:Trivia Night
DESCRIPTION:
URL:https://uniontaproomwh.com/event/trivia-night-2024-06-19/
END:VEVENT
BEGIN:VEVENT
DTSTART;TZID=UTC:20240612T190000
DTEND;TZID=UTC:20240612T210000
DTSTAMP:20260420T172255
CREATED:20210915T133506Z
LAST-MODIFIED:20221228T125804Z
UID:3785-1718218800-1718226000@uniontaproomwh.com
SUMMARY:Trivia Night
DESCRIPTION:
URL:https://uniontaproomwh.com/event/trivia-night-2024-06-12/
END:VEVENT
BEGIN:VEVENT
DTSTART;TZID=UTC:20240606T180000
DTEND;TZID=UTC:20240606T210000
DTSTAMP:20260420T172255
CREATED:20221018T122451Z
LAST-MODIFIED:20240124T012939Z
UID:5450-1717696800-1717707600@uniontaproomwh.com
SUMMARY:Night Market 6:00pm - 9:00pm
DESCRIPTION:
URL:https://uniontaproomwh.com/event/night-market-6-9pm-2-2024-06-06/
END:VEVENT
BEGIN:VEVENT
DTSTART;TZID=UTC:20240605T190000
DTEND;TZID=UTC:20240605T210000
DTSTAMP:20260420T172255
CREATED:20210915T133506Z
LAST-MODIFIED:20221228T125804Z
UID:3782-1717614000-1717621200@uniontaproomwh.com
SUMMARY:Trivia Night
DESCRIPTION:
URL:https://uniontaproomwh.com/event/trivia-night-2024-06-05/
END:VEVENT
BEGIN:VEVENT
DTSTART;TZID=UTC:20240529T190000
DTEND;TZID=UTC:20240529T210000
DTSTAMP:20260420T172255
CREATED:20210915T133506Z
LAST-MODIFIED:20221228T125804Z
UID:3779-1717009200-1717016400@uniontaproomwh.com
SUMMARY:Trivia Night
DESCRIPTION:
URL:https://uniontaproomwh.com/event/trivia-night-2024-05-29/
END:VEVENT
BEGIN:VEVENT
DTSTART;TZID=UTC:20240522T190000
DTEND;TZID=UTC:20240522T210000
DTSTAMP:20260420T172255
CREATED:20210915T133506Z
LAST-MODIFIED:20221228T125803Z
UID:3776-1716404400-1716411600@uniontaproomwh.com
SUMMARY:Trivia Night
DESCRIPTION:
URL:https://uniontaproomwh.com/event/trivia-night-2024-05-22/
END:VEVENT
BEGIN:VEVENT
DTSTART;TZID=UTC:20240515T190000
DTEND;TZID=UTC:20240515T210000
DTSTAMP:20260420T172255
CREATED:20210915T133506Z
LAST-MODIFIED:20221228T125803Z
UID:3773-1715799600-1715806800@uniontaproomwh.com
SUMMARY:Trivia Night
DESCRIPTION:
URL:https://uniontaproomwh.com/event/trivia-night-2024-05-15/
END:VEVENT
BEGIN:VEVENT
DTSTART;TZID=UTC:20240508T190000
DTEND;TZID=UTC:20240508T210000
DTSTAMP:20260420T172255
CREATED:20210915T133506Z
LAST-MODIFIED:20221228T125803Z
UID:3770-1715194800-1715202000@uniontaproomwh.com
SUMMARY:Trivia Night
DESCRIPTION:
URL:https://uniontaproomwh.com/event/trivia-night-2024-05-08/
END:VEVENT
BEGIN:VEVENT
DTSTART;TZID=UTC:20240502T180000
DTEND;TZID=UTC:20240502T210000
DTSTAMP:20260420T172255
CREATED:20221018T122451Z
LAST-MODIFIED:20240124T012939Z
UID:5449-1714672800-1714683600@uniontaproomwh.com
SUMMARY:Night Market 6:00pm - 9:00pm
DESCRIPTION:
URL:https://uniontaproomwh.com/event/night-market-6-9pm-2-2024-05-02/
END:VEVENT
BEGIN:VEVENT
DTSTART;TZID=UTC:20240501T190000
DTEND;TZID=UTC:20240501T210000
DTSTAMP:20260420T172255
CREATED:20210915T133506Z
LAST-MODIFIED:20221228T125802Z
UID:3767-1714590000-1714597200@uniontaproomwh.com
SUMMARY:Trivia Night
DESCRIPTION:
URL:https://uniontaproomwh.com/event/trivia-night-2024-05-01/
END:VEVENT
END:VCALENDAR