BEGIN:VCALENDAR
VERSION:2.0
PRODID:-//Union Taproom - ECPv6.15.10//NONSGML v1.0//EN
CALSCALE:GREGORIAN
METHOD:PUBLISH
X-WR-CALNAME:Union Taproom
X-ORIGINAL-URL:https://uniontaproomwh.com
X-WR-CALDESC:Events for Union Taproom
REFRESH-INTERVAL;VALUE=DURATION:PT1H
X-Robots-Tag:noindex
X-PUBLISHED-TTL:PT1H
BEGIN:VTIMEZONE
TZID:UTC
BEGIN:STANDARD
TZOFFSETFROM:+0000
TZOFFSETTO:+0000
TZNAME:UTC
DTSTART:20210101T000000
END:STANDARD
END:VTIMEZONE
BEGIN:VEVENT
DTSTART;TZID=UTC:20220408T190000
DTEND;TZID=UTC:20220408T220000
DTSTAMP:20260423T114327
CREATED:20220118T162411Z
LAST-MODIFIED:20220118T162411Z
UID:3707-1649444400-1649455200@uniontaproomwh.com
SUMMARY:David Brimer 7-10pm
DESCRIPTION:
URL:https://uniontaproomwh.com/event/david-brimer-7-10pm/
END:VEVENT
BEGIN:VEVENT
DTSTART;TZID=UTC:20220407T180000
DTEND;TZID=UTC:20220407T210000
DTSTAMP:20260423T114327
CREATED:20220118T162343Z
LAST-MODIFIED:20220118T162343Z
UID:3705-1649354400-1649365200@uniontaproomwh.com
SUMMARY:Night Market
DESCRIPTION:
URL:https://uniontaproomwh.com/event/night-market-2/
END:VEVENT
BEGIN:VEVENT
DTSTART;TZID=UTC:20220402T190000
DTEND;TZID=UTC:20220402T220000
DTSTAMP:20260423T114327
CREATED:20220118T162249Z
LAST-MODIFIED:20220118T162249Z
UID:3703-1648926000-1648936800@uniontaproomwh.com
SUMMARY:Micah Madore 7-10pm
DESCRIPTION:
URL:https://uniontaproomwh.com/event/micah-madore-7-10pm/
END:VEVENT
BEGIN:VEVENT
DTSTART;TZID=UTC:20220401T190000
DTEND;TZID=UTC:20220401T220000
DTSTAMP:20260423T114327
CREATED:20220118T162224Z
LAST-MODIFIED:20220118T162224Z
UID:3701-1648839600-1648850400@uniontaproomwh.com
SUMMARY:Ashton Rey 7-10pm
DESCRIPTION:
URL:https://uniontaproomwh.com/event/ashton-rey-7-10pm/
END:VEVENT
BEGIN:VEVENT
DTSTART;TZID=UTC:20220326T190000
DTEND;TZID=UTC:20220326T220000
DTSTAMP:20260423T114327
CREATED:20220118T162158Z
LAST-MODIFIED:20220118T162158Z
UID:3699-1648321200-1648332000@uniontaproomwh.com
SUMMARY:Blake Free 7-10pm
DESCRIPTION:
URL:https://uniontaproomwh.com/event/blake-free-7-10pm/
END:VEVENT
BEGIN:VEVENT
DTSTART;TZID=UTC:20220325T190000
DTEND;TZID=UTC:20220325T220000
DTSTAMP:20260423T114327
CREATED:20220118T162137Z
LAST-MODIFIED:20220118T162137Z
UID:3697-1648234800-1648245600@uniontaproomwh.com
SUMMARY:Daniel Pepin 7-10pm
DESCRIPTION:
URL:https://uniontaproomwh.com/event/daniel-pepin-7-10pm/
END:VEVENT
BEGIN:VEVENT
DTSTART;TZID=UTC:20220318T190000
DTEND;TZID=UTC:20220318T220000
DTSTAMP:20260423T114327
CREATED:20220118T162116Z
LAST-MODIFIED:20220118T162116Z
UID:3694-1647630000-1647640800@uniontaproomwh.com
SUMMARY:Mike Monts De Oca 7-10pm
DESCRIPTION:
URL:https://uniontaproomwh.com/event/mike-monts-de-oca-7-10pm/
END:VEVENT
BEGIN:VEVENT
DTSTART;TZID=UTC:20220317T180000
DTEND;TZID=UTC:20220317T210000
DTSTAMP:20260423T114327
CREATED:20220118T162047Z
LAST-MODIFIED:20220118T162047Z
UID:3691-1647540000-1647550800@uniontaproomwh.com
SUMMARY:St. Patrick's Day Celebration! Just Fun Celtic Band 6-9pm
DESCRIPTION:
URL:https://uniontaproomwh.com/event/st-patricks-day-celebration-just-fun-celtic-band-6-9pm/
END:VEVENT
BEGIN:VEVENT
DTSTART;TZID=UTC:20220312T190000
DTEND;TZID=UTC:20220312T220000
DTSTAMP:20260423T114327
CREATED:20220118T162013Z
LAST-MODIFIED:20220118T162013Z
UID:3689-1647111600-1647122400@uniontaproomwh.com
SUMMARY:Live Music: David Brimer 7-10pm
DESCRIPTION:
URL:https://uniontaproomwh.com/event/live-music-david-brimer-7-10pm-6/
END:VEVENT
BEGIN:VEVENT
DTSTART;TZID=UTC:20220305T190000
DTEND;TZID=UTC:20220305T220000
DTSTAMP:20260423T114327
CREATED:20220118T161945Z
LAST-MODIFIED:20220118T161945Z
UID:3687-1646506800-1646517600@uniontaproomwh.com
SUMMARY:Live Music: Ashton Rey 7-10pm
DESCRIPTION:
URL:https://uniontaproomwh.com/event/live-music-ashton-rey-7-10pm/
END:VEVENT
BEGIN:VEVENT
DTSTART;TZID=UTC:20220304T190000
DTEND;TZID=UTC:20220304T220000
DTSTAMP:20260423T114327
CREATED:20220118T161915Z
LAST-MODIFIED:20220118T161915Z
UID:3684-1646420400-1646431200@uniontaproomwh.com
SUMMARY:Live Music: Luke Wilmoth 7-10pm
DESCRIPTION:
URL:https://uniontaproomwh.com/event/live-music-luke-wilmoth-7-10pm-2/
END:VEVENT
BEGIN:VEVENT
DTSTART;TZID=UTC:20220303T180000
DTEND;TZID=UTC:20220303T210000
DTSTAMP:20260423T114327
CREATED:20220118T161845Z
LAST-MODIFIED:20220118T161845Z
UID:3681-1646330400-1646341200@uniontaproomwh.com
SUMMARY:Night Market + Live Music: Adrienne Richards 6-9pm
DESCRIPTION:
URL:https://uniontaproomwh.com/event/night-market-live-music-adrienne-richards-6-9pm/
END:VEVENT
BEGIN:VEVENT
DTSTART;TZID=UTC:20220226T190000
DTEND;TZID=UTC:20220226T220000
DTSTAMP:20260423T114327
CREATED:20220118T161808Z
LAST-MODIFIED:20220118T161808Z
UID:3679-1645902000-1645912800@uniontaproomwh.com
SUMMARY:Live Music: Micah Madore 7-10pm
DESCRIPTION:
URL:https://uniontaproomwh.com/event/live-music-micah-madore-7-10pm-8/
END:VEVENT
BEGIN:VEVENT
DTSTART;TZID=UTC:20220225T190000
DTEND;TZID=UTC:20220225T220000
DTSTAMP:20260423T114327
CREATED:20220118T161731Z
LAST-MODIFIED:20220118T161731Z
UID:3677-1645815600-1645826400@uniontaproomwh.com
SUMMARY:Live Music: Chase Dixson 7-10pm
DESCRIPTION:
URL:https://uniontaproomwh.com/event/live-music-chase-dixson-7-10pm-7/
END:VEVENT
BEGIN:VEVENT
DTSTART;TZID=UTC:20220219T190000
DTEND;TZID=UTC:20220219T220000
DTSTAMP:20260423T114327
CREATED:20220118T161654Z
LAST-MODIFIED:20220118T161654Z
UID:3675-1645297200-1645308000@uniontaproomwh.com
SUMMARY:Live Music: Travis Williams 7-10pm
DESCRIPTION:
URL:https://uniontaproomwh.com/event/live-music-travis-williams-7-10pm-3/
END:VEVENT
BEGIN:VEVENT
DTSTART;TZID=UTC:20220218T190000
DTEND;TZID=UTC:20220218T220000
DTSTAMP:20260423T114327
CREATED:20220118T161620Z
LAST-MODIFIED:20220118T161620Z
UID:3673-1645210800-1645221600@uniontaproomwh.com
SUMMARY:Live Music: Blake Free 7-10pm
DESCRIPTION:
URL:https://uniontaproomwh.com/event/live-music-blake-free-7-10pm-2/
END:VEVENT
BEGIN:VEVENT
DTSTART;TZID=UTC:20220211T190000
DTEND;TZID=UTC:20220211T220000
DTSTAMP:20260423T114327
CREATED:20220118T161544Z
LAST-MODIFIED:20220118T161544Z
UID:3671-1644606000-1644616800@uniontaproomwh.com
SUMMARY:Live Music: Daniel Pepin 7-10pm
DESCRIPTION:
URL:https://uniontaproomwh.com/event/live-music-daniel-pepin-7-10pm-2/
END:VEVENT
BEGIN:VEVENT
DTSTART;TZID=UTC:20220205T190000
DTEND;TZID=UTC:20220205T220000
DTSTAMP:20260423T114327
CREATED:20220118T161455Z
LAST-MODIFIED:20220118T161455Z
UID:3669-1644087600-1644098400@uniontaproomwh.com
SUMMARY:Live Music: Micah Madore 7-10pm
DESCRIPTION:
URL:https://uniontaproomwh.com/event/live-music-micah-madore-7-10pm-7/
END:VEVENT
BEGIN:VEVENT
DTSTART;TZID=UTC:20220204T190000
DTEND;TZID=UTC:20220204T220000
DTSTAMP:20260423T114327
CREATED:20220118T161359Z
LAST-MODIFIED:20220118T161359Z
UID:3667-1644001200-1644012000@uniontaproomwh.com
SUMMARY:Live Music: Hanah Liz 7-10pm
DESCRIPTION:
URL:https://uniontaproomwh.com/event/live-music-hanah-liz-7-10pm/
END:VEVENT
BEGIN:VEVENT
DTSTART;TZID=UTC:20220203T180000
DTEND;TZID=UTC:20220203T210000
DTSTAMP:20260423T114327
CREATED:20220118T161316Z
LAST-MODIFIED:20220118T161316Z
UID:3665-1643911200-1643922000@uniontaproomwh.com
SUMMARY:Night Market + Live Music: Layla Brisbois 6-9pm
DESCRIPTION:
URL:https://uniontaproomwh.com/event/night-market-live-music-layla-brisbois-6-9pm/
END:VEVENT
BEGIN:VEVENT
DTSTART;TZID=UTC:20220129T190000
DTEND;TZID=UTC:20220129T220000
DTSTAMP:20260423T114327
CREATED:20220118T161210Z
LAST-MODIFIED:20220118T161210Z
UID:3663-1643482800-1643493600@uniontaproomwh.com
SUMMARY:Live Music: Paul Fournier 7-10pm
DESCRIPTION:
URL:https://uniontaproomwh.com/event/live-music-paul-fournier-7-10pm/
END:VEVENT
BEGIN:VEVENT
DTSTART;TZID=UTC:20220128T190000
DTEND;TZID=UTC:20220128T220000
DTSTAMP:20260423T114327
CREATED:20211122T165550Z
LAST-MODIFIED:20211122T165550Z
UID:3576-1643396400-1643407200@uniontaproomwh.com
SUMMARY:Live Music- Eklectik Haze 7-10pm
DESCRIPTION:
URL:https://uniontaproomwh.com/event/live-music-eklectik-haze-7-10pm-2/
END:VEVENT
BEGIN:VEVENT
DTSTART;TZID=UTC:20220122T120000
DTEND;TZID=UTC:20220122T160000
DTSTAMP:20260423T114327
CREATED:20211122T165523Z
LAST-MODIFIED:20220118T161014Z
UID:3574-1642852800-1642867200@uniontaproomwh.com
SUMMARY:Live Music: Carly Tefft 7-10pm
DESCRIPTION:
URL:https://uniontaproomwh.com/event/live-music-carly-tefft-7-10pm/
END:VEVENT
BEGIN:VEVENT
DTSTART;TZID=UTC:20220121T190000
DTEND;TZID=UTC:20220121T220000
DTSTAMP:20260423T114327
CREATED:20211122T165503Z
LAST-MODIFIED:20211122T165503Z
UID:3572-1642791600-1642802400@uniontaproomwh.com
SUMMARY:Live Music- Chase Dixson 7-10pm
DESCRIPTION:
URL:https://uniontaproomwh.com/event/live-music-chase-dixson-7-10pm-6/
END:VEVENT
BEGIN:VEVENT
DTSTART;TZID=UTC:20220115T190000
DTEND;TZID=UTC:20220115T220000
DTSTAMP:20260423T114327
CREATED:20211122T165438Z
LAST-MODIFIED:20211122T165438Z
UID:3570-1642273200-1642284000@uniontaproomwh.com
SUMMARY:Live Music- David Brimer 7-10pm
DESCRIPTION:
URL:https://uniontaproomwh.com/event/live-music-david-brimer-7-10pm-5/
END:VEVENT
BEGIN:VEVENT
DTSTART;TZID=UTC:20220114T190000
DTEND;TZID=UTC:20220114T220000
DTSTAMP:20260423T114327
CREATED:20211122T165412Z
LAST-MODIFIED:20211122T165412Z
UID:3568-1642186800-1642197600@uniontaproomwh.com
SUMMARY:Live Music- Adrienne Richards 7-10pm
DESCRIPTION:
URL:https://uniontaproomwh.com/event/live-music-adrienne-richards-7-10pm-6/
END:VEVENT
BEGIN:VEVENT
DTSTART;TZID=UTC:20220108T190000
DTEND;TZID=UTC:20220108T220000
DTSTAMP:20260423T114327
CREATED:20211122T165348Z
LAST-MODIFIED:20211122T165348Z
UID:3566-1641668400-1641679200@uniontaproomwh.com
SUMMARY:Live Music- Travis Williams 7-10pm
DESCRIPTION:
URL:https://uniontaproomwh.com/event/live-music-travis-williams-7-10pm-2/
END:VEVENT
BEGIN:VEVENT
DTSTART;TZID=UTC:20220107T190000
DTEND;TZID=UTC:20220107T220000
DTSTAMP:20260423T114327
CREATED:20211122T165326Z
LAST-MODIFIED:20211122T165326Z
UID:3564-1641582000-1641592800@uniontaproomwh.com
SUMMARY:Live Music- Blake Free 7-10pm
DESCRIPTION:
URL:https://uniontaproomwh.com/event/live-music-blake-free-7-10pm/
END:VEVENT
BEGIN:VEVENT
DTSTART;TZID=UTC:20220106T180000
DTEND;TZID=UTC:20220106T210000
DTSTAMP:20260423T114327
CREATED:20211122T165305Z
LAST-MODIFIED:20211122T165305Z
UID:3562-1641492000-1641502800@uniontaproomwh.com
SUMMARY:Night Market 6-9pm. Live Music- Mike Monts De Oca 6-9pm
DESCRIPTION:
URL:https://uniontaproomwh.com/event/night-market-6-9pm-live-music-mike-monts-de-oca-6-9pm/
END:VEVENT
BEGIN:VEVENT
DTSTART;VALUE=DATE:20220101
DTEND;VALUE=DATE:20220102
DTSTAMP:20260423T114327
CREATED:20211122T165242Z
LAST-MODIFIED:20211122T165242Z
UID:3560-1640995200-1641081599@uniontaproomwh.com
SUMMARY:CLOSED Happy New Year!!
DESCRIPTION:
URL:https://uniontaproomwh.com/event/closed-happy-new-year-2/
END:VEVENT
END:VCALENDAR