BEGIN:VCALENDAR
VERSION:2.0
PRODID:-//Union Taproom - ECPv6.15.10//NONSGML v1.0//EN
CALSCALE:GREGORIAN
METHOD:PUBLISH
X-WR-CALNAME:Union Taproom
X-ORIGINAL-URL:https://uniontaproomwh.com
X-WR-CALDESC:Events for Union Taproom
REFRESH-INTERVAL;VALUE=DURATION:PT1H
X-Robots-Tag:noindex
X-PUBLISHED-TTL:PT1H
BEGIN:VTIMEZONE
TZID:UTC
BEGIN:STANDARD
TZOFFSETFROM:+0000
TZOFFSETTO:+0000
TZNAME:UTC
DTSTART:20210101T000000
END:STANDARD
END:VTIMEZONE
BEGIN:VEVENT
DTSTART;TZID=UTC:20221202T190000
DTEND;TZID=UTC:20221202T220000
DTSTAMP:20260422T222027
CREATED:20221018T122534Z
LAST-MODIFIED:20221018T122534Z
UID:4373-1670007600-1670018400@uniontaproomwh.com
SUMMARY:Live Music 7-10pm Chasm Deep
DESCRIPTION:
URL:https://uniontaproomwh.com/event/live-music-7-10pm-chasm-deep/
END:VEVENT
BEGIN:VEVENT
DTSTART;TZID=UTC:20221201T180000
DTEND;TZID=UTC:20221201T210000
DTSTAMP:20260422T222027
CREATED:20221018T122515Z
LAST-MODIFIED:20221018T122515Z
UID:4371-1669917600-1669928400@uniontaproomwh.com
SUMMARY:Live Music 6-9pm Adrienne Richards
DESCRIPTION:
URL:https://uniontaproomwh.com/event/live-music-6-9pm-adrienne-richards/
END:VEVENT
BEGIN:VEVENT
DTSTART;TZID=UTC:20221130T190000
DTEND;TZID=UTC:20221130T210000
DTSTAMP:20260422T222027
CREATED:20221018T122421Z
LAST-MODIFIED:20221018T122421Z
UID:4367-1669834800-1669842000@uniontaproomwh.com
SUMMARY:Friends Trivia 7pm
DESCRIPTION:
URL:https://uniontaproomwh.com/event/friends-trivia-7pm/
END:VEVENT
BEGIN:VEVENT
DTSTART;TZID=UTC:20221126T190000
DTEND;TZID=UTC:20221126T220000
DTSTAMP:20260422T222027
CREATED:20221018T122359Z
LAST-MODIFIED:20221018T122359Z
UID:4365-1669489200-1669500000@uniontaproomwh.com
SUMMARY:Live Music 7-10pm Ashton Rey
DESCRIPTION:
URL:https://uniontaproomwh.com/event/live-music-7-10pm-ashton-rey/
END:VEVENT
BEGIN:VEVENT
DTSTART;TZID=UTC:20221125T190000
DTEND;TZID=UTC:20221125T220000
DTSTAMP:20260422T222027
CREATED:20221018T122337Z
LAST-MODIFIED:20221018T122337Z
UID:4363-1669402800-1669413600@uniontaproomwh.com
SUMMARY:Live Music 7-10pm Daniel Pepin
DESCRIPTION:
URL:https://uniontaproomwh.com/event/live-music-7-10pm-daniel-pepin-2/
END:VEVENT
BEGIN:VEVENT
DTSTART;VALUE=DATE:20221123
DTEND;VALUE=DATE:20221124
DTSTAMP:20260422T222027
CREATED:20221018T122313Z
LAST-MODIFIED:20221018T132549Z
UID:4361-1669161600-1669247999@uniontaproomwh.com
SUMMARY:Thanksgiving Eve - No trivia
DESCRIPTION:
URL:https://uniontaproomwh.com/event/thanksgiving-eve-no-trivia/
END:VEVENT
BEGIN:VEVENT
DTSTART;TZID=UTC:20221119T190000
DTEND;TZID=UTC:20221119T220000
DTSTAMP:20260422T222027
CREATED:20221018T122258Z
LAST-MODIFIED:20221018T122258Z
UID:4359-1668884400-1668895200@uniontaproomwh.com
SUMMARY:Live Music 7-10pm Jason Stallworth
DESCRIPTION:
URL:https://uniontaproomwh.com/event/live-music-7-10pm-jason-stallworth/
END:VEVENT
BEGIN:VEVENT
DTSTART;TZID=UTC:20221118T190000
DTEND;TZID=UTC:20221118T220000
DTSTAMP:20260422T222027
CREATED:20221018T122232Z
LAST-MODIFIED:20221018T122232Z
UID:4357-1668798000-1668808800@uniontaproomwh.com
SUMMARY:Live Music 7-10pm T. Michael Stavres
DESCRIPTION:
URL:https://uniontaproomwh.com/event/live-music-7-10pm-t-michael-stavres-2/
END:VEVENT
BEGIN:VEVENT
DTSTART;TZID=UTC:20221116T190000
DTEND;TZID=UTC:20221116T210000
DTSTAMP:20260422T222027
CREATED:20221018T122209Z
LAST-MODIFIED:20221018T122209Z
UID:4355-1668625200-1668632400@uniontaproomwh.com
SUMMARY:Trivia 7pm
DESCRIPTION:
URL:https://uniontaproomwh.com/event/trivia-7pm-3/
END:VEVENT
BEGIN:VEVENT
DTSTART;TZID=UTC:20221112T190000
DTEND;TZID=UTC:20221112T220000
DTSTAMP:20260422T222027
CREATED:20221018T122149Z
LAST-MODIFIED:20221018T122149Z
UID:4353-1668279600-1668290400@uniontaproomwh.com
SUMMARY:Live Music 7-10pm Paul Wilson
DESCRIPTION:
URL:https://uniontaproomwh.com/event/live-music-7-10pm-paul-wilson-2/
END:VEVENT
BEGIN:VEVENT
DTSTART;TZID=UTC:20221111T190000
DTEND;TZID=UTC:20221111T220000
DTSTAMP:20260422T222027
CREATED:20221018T122129Z
LAST-MODIFIED:20221018T122129Z
UID:4351-1668193200-1668204000@uniontaproomwh.com
SUMMARY:Live Music 7-10pm David Smith
DESCRIPTION:
URL:https://uniontaproomwh.com/event/live-music-7-10pm-david-smith/
END:VEVENT
BEGIN:VEVENT
DTSTART;TZID=UTC:20221109T190000
DTEND;TZID=UTC:20221109T210000
DTSTAMP:20260422T222027
CREATED:20221018T122104Z
LAST-MODIFIED:20221018T122104Z
UID:4349-1668020400-1668027600@uniontaproomwh.com
SUMMARY:Trivia 7pm
DESCRIPTION:
URL:https://uniontaproomwh.com/event/trivia-7pm-2/
END:VEVENT
BEGIN:VEVENT
DTSTART;TZID=UTC:20221105T190000
DTEND;TZID=UTC:20221105T220000
DTSTAMP:20260422T222027
CREATED:20221018T122041Z
LAST-MODIFIED:20221018T122041Z
UID:4347-1667674800-1667685600@uniontaproomwh.com
SUMMARY:Live Music 7-10pm David Jones
DESCRIPTION:
URL:https://uniontaproomwh.com/event/live-music-7-10pm-david-jones/
END:VEVENT
BEGIN:VEVENT
DTSTART;TZID=UTC:20221104T190000
DTEND;TZID=UTC:20221104T220000
DTSTAMP:20260422T222027
CREATED:20221018T122019Z
LAST-MODIFIED:20221018T122019Z
UID:4345-1667588400-1667599200@uniontaproomwh.com
SUMMARY:Live Music 7-10pm Eklektic Haze
DESCRIPTION:
URL:https://uniontaproomwh.com/event/live-music-7-10pm-eklektic-haze/
END:VEVENT
BEGIN:VEVENT
DTSTART;TZID=UTC:20221103T180000
DTEND;TZID=UTC:20221103T210000
DTSTAMP:20260422T222027
CREATED:20221018T121954Z
LAST-MODIFIED:20221018T121954Z
UID:4343-1667498400-1667509200@uniontaproomwh.com
SUMMARY:Live Music 6-9pm Mike Monts de Oca
DESCRIPTION:
URL:https://uniontaproomwh.com/event/live-music-6-9pm-mike-monts-de-oca/
END:VEVENT
BEGIN:VEVENT
DTSTART;TZID=UTC:20221103T180000
DTEND;TZID=UTC:20221103T210000
DTSTAMP:20260422T222027
CREATED:20221018T121916Z
LAST-MODIFIED:20221018T121916Z
UID:4341-1667498400-1667509200@uniontaproomwh.com
SUMMARY:Night Market 6-9pm
DESCRIPTION:
URL:https://uniontaproomwh.com/event/night-market-6-9pm/
END:VEVENT
BEGIN:VEVENT
DTSTART;TZID=UTC:20221102T190000
DTEND;TZID=UTC:20221102T210000
DTSTAMP:20260422T222027
CREATED:20221018T121846Z
LAST-MODIFIED:20221018T121846Z
UID:4339-1667415600-1667422800@uniontaproomwh.com
SUMMARY:Trivia 7pm
DESCRIPTION:
URL:https://uniontaproomwh.com/event/trivia-7pm/
END:VEVENT
BEGIN:VEVENT
DTSTART;TZID=UTC:20221029T190000
DTEND;TZID=UTC:20221029T220000
DTSTAMP:20260422T222027
CREATED:20221018T121822Z
LAST-MODIFIED:20221018T121822Z
UID:4337-1667070000-1667080800@uniontaproomwh.com
SUMMARY:Live Music 7-10pm Daniel Pepin
DESCRIPTION:
URL:https://uniontaproomwh.com/event/live-music-7-10pm-daniel-pepin/
END:VEVENT
BEGIN:VEVENT
DTSTART;TZID=UTC:20221029T180000
DTEND;TZID=UTC:20221029T220000
DTSTAMP:20260422T222027
CREATED:20221018T121801Z
LAST-MODIFIED:20221018T121801Z
UID:4335-1667066400-1667080800@uniontaproomwh.com
SUMMARY:Halloween Bash 6-10pm
DESCRIPTION:
URL:https://uniontaproomwh.com/event/halloween-bash-6-10pm/
END:VEVENT
BEGIN:VEVENT
DTSTART;TZID=UTC:20221028T190000
DTEND;TZID=UTC:20221028T220000
DTSTAMP:20260422T222027
CREATED:20221018T121640Z
LAST-MODIFIED:20221018T121640Z
UID:4333-1666983600-1666994400@uniontaproomwh.com
SUMMARY:Live Music 7-10pm Nathan Allen
DESCRIPTION:
URL:https://uniontaproomwh.com/event/live-music-7-10pm-nathan-allen/
END:VEVENT
BEGIN:VEVENT
DTSTART;TZID=UTC:20221027T173000
DTEND;TZID=UTC:20221027T193000
DTSTAMP:20260422T222027
CREATED:20221018T121618Z
LAST-MODIFIED:20221018T121618Z
UID:4331-1666891800-1666899000@uniontaproomwh.com
SUMMARY:Downtown Winter Haven Ladies Night Disco 5:30pm
DESCRIPTION:
URL:https://uniontaproomwh.com/event/downtown-winter-haven-ladies-night-disco-530pm/
END:VEVENT
BEGIN:VEVENT
DTSTART;TZID=UTC:20221026T190000
DTEND;TZID=UTC:20221026T210000
DTSTAMP:20260422T222027
CREATED:20221018T121552Z
LAST-MODIFIED:20221018T121552Z
UID:4328-1666810800-1666818000@uniontaproomwh.com
SUMMARY:Halloween Trivia 7pm
DESCRIPTION:
URL:https://uniontaproomwh.com/event/halloween-trivia-7pm/
END:VEVENT
BEGIN:VEVENT
DTSTART;TZID=UTC:20221022T190000
DTEND;TZID=UTC:20221022T220000
DTSTAMP:20260422T222027
CREATED:20221018T121521Z
LAST-MODIFIED:20221018T121521Z
UID:4326-1666465200-1666476000@uniontaproomwh.com
SUMMARY:Live Music 7-10pm T. Michael Stavres
DESCRIPTION:
URL:https://uniontaproomwh.com/event/live-music-7-10pm-t-michael-stavres/
END:VEVENT
BEGIN:VEVENT
DTSTART;TZID=UTC:20221021T190000
DTEND;TZID=UTC:20221021T220000
DTSTAMP:20260422T222027
CREATED:20221018T121451Z
LAST-MODIFIED:20221018T121451Z
UID:4324-1666378800-1666389600@uniontaproomwh.com
SUMMARY:Live Music 7-10pm Paul Wilson
DESCRIPTION:
URL:https://uniontaproomwh.com/event/live-music-7-10pm-paul-wilson/
END:VEVENT
BEGIN:VEVENT
DTSTART;TZID=UTC:20220903T190000
DTEND;TZID=UTC:20220903T220000
DTSTAMP:20260422T222027
CREATED:20220616T140729Z
LAST-MODIFIED:20220616T140729Z
UID:4268-1662231600-1662242400@uniontaproomwh.com
SUMMARY:Nathan Allen 7-10pm
DESCRIPTION:
URL:https://uniontaproomwh.com/event/nathan-allen-7-10pm/
END:VEVENT
BEGIN:VEVENT
DTSTART;TZID=UTC:20220902T190000
DTEND;TZID=UTC:20220902T220000
DTSTAMP:20260422T222027
CREATED:20220616T140705Z
LAST-MODIFIED:20220616T140705Z
UID:4266-1662145200-1662156000@uniontaproomwh.com
SUMMARY:Chase Dixson 7-10pm
DESCRIPTION:
URL:https://uniontaproomwh.com/event/chase-dixson-7-10pm-2/
END:VEVENT
BEGIN:VEVENT
DTSTART;TZID=UTC:20220901T180000
DTEND;TZID=UTC:20220901T210000
DTSTAMP:20260422T222027
CREATED:20220616T140645Z
LAST-MODIFIED:20220616T140645Z
UID:4264-1662055200-1662066000@uniontaproomwh.com
SUMMARY:Night Market 6-9pm\, Live Music: David Smith
DESCRIPTION:
URL:https://uniontaproomwh.com/event/night-market-6-9pm-live-music-david-smith/
END:VEVENT
BEGIN:VEVENT
DTSTART;TZID=UTC:20220831T190000
DTEND;TZID=UTC:20220831T210000
DTSTAMP:20260422T222027
CREATED:20220616T140617Z
LAST-MODIFIED:20220616T140617Z
UID:4262-1661972400-1661979600@uniontaproomwh.com
SUMMARY:Themed Trivia: Star Wars 7pm
DESCRIPTION:
URL:https://uniontaproomwh.com/event/themed-trivia-star-wars-7pm/
END:VEVENT
BEGIN:VEVENT
DTSTART;TZID=UTC:20220827T190000
DTEND;TZID=UTC:20220827T220000
DTSTAMP:20260422T222027
CREATED:20220616T140555Z
LAST-MODIFIED:20220616T140555Z
UID:4260-1661626800-1661637600@uniontaproomwh.com
SUMMARY:Daniel Pepin 7-10pm
DESCRIPTION:
URL:https://uniontaproomwh.com/event/daniel-pepin-7-10pm-4/
END:VEVENT
BEGIN:VEVENT
DTSTART;TZID=UTC:20220826T190000
DTEND;TZID=UTC:20220826T220000
DTSTAMP:20260422T222027
CREATED:20220616T140534Z
LAST-MODIFIED:20220616T140534Z
UID:4258-1661540400-1661551200@uniontaproomwh.com
SUMMARY:Mike Monts De Oca 7-10pm
DESCRIPTION:
URL:https://uniontaproomwh.com/event/mike-monts-de-oca-7-10pm-4/
END:VEVENT
END:VCALENDAR