BEGIN:VCALENDAR
VERSION:2.0
PRODID:-//Union Taproom - ECPv6.15.10//NONSGML v1.0//EN
CALSCALE:GREGORIAN
METHOD:PUBLISH
X-WR-CALNAME:Union Taproom
X-ORIGINAL-URL:https://uniontaproomwh.com
X-WR-CALDESC:Events for Union Taproom
REFRESH-INTERVAL;VALUE=DURATION:PT1H
X-Robots-Tag:noindex
X-PUBLISHED-TTL:PT1H
BEGIN:VTIMEZONE
TZID:UTC
BEGIN:STANDARD
TZOFFSETFROM:+0000
TZOFFSETTO:+0000
TZNAME:UTC
DTSTART:20200101T000000
END:STANDARD
END:VTIMEZONE
BEGIN:VEVENT
DTSTART;TZID=UTC:20220204T190000
DTEND;TZID=UTC:20220204T220000
DTSTAMP:20260422T054229
CREATED:20220118T161359Z
LAST-MODIFIED:20220118T161359Z
UID:3667-1644001200-1644012000@uniontaproomwh.com
SUMMARY:Live Music: Hanah Liz 7-10pm
DESCRIPTION:
URL:https://uniontaproomwh.com/event/live-music-hanah-liz-7-10pm/
END:VEVENT
BEGIN:VEVENT
DTSTART;TZID=UTC:20220203T180000
DTEND;TZID=UTC:20220203T210000
DTSTAMP:20260422T054229
CREATED:20220118T161316Z
LAST-MODIFIED:20220118T161316Z
UID:3665-1643911200-1643922000@uniontaproomwh.com
SUMMARY:Night Market + Live Music: Layla Brisbois 6-9pm
DESCRIPTION:
URL:https://uniontaproomwh.com/event/night-market-live-music-layla-brisbois-6-9pm/
END:VEVENT
BEGIN:VEVENT
DTSTART;TZID=UTC:20220129T190000
DTEND;TZID=UTC:20220129T220000
DTSTAMP:20260422T054229
CREATED:20220118T161210Z
LAST-MODIFIED:20220118T161210Z
UID:3663-1643482800-1643493600@uniontaproomwh.com
SUMMARY:Live Music: Paul Fournier 7-10pm
DESCRIPTION:
URL:https://uniontaproomwh.com/event/live-music-paul-fournier-7-10pm/
END:VEVENT
BEGIN:VEVENT
DTSTART;TZID=UTC:20220128T190000
DTEND;TZID=UTC:20220128T220000
DTSTAMP:20260422T054229
CREATED:20211122T165550Z
LAST-MODIFIED:20211122T165550Z
UID:3576-1643396400-1643407200@uniontaproomwh.com
SUMMARY:Live Music- Eklectik Haze 7-10pm
DESCRIPTION:
URL:https://uniontaproomwh.com/event/live-music-eklectik-haze-7-10pm-2/
END:VEVENT
BEGIN:VEVENT
DTSTART;TZID=UTC:20220122T120000
DTEND;TZID=UTC:20220122T160000
DTSTAMP:20260422T054229
CREATED:20211122T165523Z
LAST-MODIFIED:20220118T161014Z
UID:3574-1642852800-1642867200@uniontaproomwh.com
SUMMARY:Live Music: Carly Tefft 7-10pm
DESCRIPTION:
URL:https://uniontaproomwh.com/event/live-music-carly-tefft-7-10pm/
END:VEVENT
BEGIN:VEVENT
DTSTART;TZID=UTC:20220121T190000
DTEND;TZID=UTC:20220121T220000
DTSTAMP:20260422T054229
CREATED:20211122T165503Z
LAST-MODIFIED:20211122T165503Z
UID:3572-1642791600-1642802400@uniontaproomwh.com
SUMMARY:Live Music- Chase Dixson 7-10pm
DESCRIPTION:
URL:https://uniontaproomwh.com/event/live-music-chase-dixson-7-10pm-6/
END:VEVENT
BEGIN:VEVENT
DTSTART;TZID=UTC:20220115T190000
DTEND;TZID=UTC:20220115T220000
DTSTAMP:20260422T054229
CREATED:20211122T165438Z
LAST-MODIFIED:20211122T165438Z
UID:3570-1642273200-1642284000@uniontaproomwh.com
SUMMARY:Live Music- David Brimer 7-10pm
DESCRIPTION:
URL:https://uniontaproomwh.com/event/live-music-david-brimer-7-10pm-5/
END:VEVENT
BEGIN:VEVENT
DTSTART;TZID=UTC:20220114T190000
DTEND;TZID=UTC:20220114T220000
DTSTAMP:20260422T054229
CREATED:20211122T165412Z
LAST-MODIFIED:20211122T165412Z
UID:3568-1642186800-1642197600@uniontaproomwh.com
SUMMARY:Live Music- Adrienne Richards 7-10pm
DESCRIPTION:
URL:https://uniontaproomwh.com/event/live-music-adrienne-richards-7-10pm-6/
END:VEVENT
BEGIN:VEVENT
DTSTART;TZID=UTC:20220108T190000
DTEND;TZID=UTC:20220108T220000
DTSTAMP:20260422T054229
CREATED:20211122T165348Z
LAST-MODIFIED:20211122T165348Z
UID:3566-1641668400-1641679200@uniontaproomwh.com
SUMMARY:Live Music- Travis Williams 7-10pm
DESCRIPTION:
URL:https://uniontaproomwh.com/event/live-music-travis-williams-7-10pm-2/
END:VEVENT
BEGIN:VEVENT
DTSTART;TZID=UTC:20220107T190000
DTEND;TZID=UTC:20220107T220000
DTSTAMP:20260422T054229
CREATED:20211122T165326Z
LAST-MODIFIED:20211122T165326Z
UID:3564-1641582000-1641592800@uniontaproomwh.com
SUMMARY:Live Music- Blake Free 7-10pm
DESCRIPTION:
URL:https://uniontaproomwh.com/event/live-music-blake-free-7-10pm/
END:VEVENT
BEGIN:VEVENT
DTSTART;TZID=UTC:20220106T180000
DTEND;TZID=UTC:20220106T210000
DTSTAMP:20260422T054229
CREATED:20211122T165305Z
LAST-MODIFIED:20211122T165305Z
UID:3562-1641492000-1641502800@uniontaproomwh.com
SUMMARY:Night Market 6-9pm. Live Music- Mike Monts De Oca 6-9pm
DESCRIPTION:
URL:https://uniontaproomwh.com/event/night-market-6-9pm-live-music-mike-monts-de-oca-6-9pm/
END:VEVENT
BEGIN:VEVENT
DTSTART;VALUE=DATE:20220101
DTEND;VALUE=DATE:20220102
DTSTAMP:20260422T054229
CREATED:20211122T165242Z
LAST-MODIFIED:20211122T165242Z
UID:3560-1640995200-1641081599@uniontaproomwh.com
SUMMARY:CLOSED Happy New Year!!
DESCRIPTION:
URL:https://uniontaproomwh.com/event/closed-happy-new-year-2/
END:VEVENT
BEGIN:VEVENT
DTSTART;VALUE=DATE:20211225
DTEND;VALUE=DATE:20211226
DTSTAMP:20260422T054229
CREATED:20211122T165217Z
LAST-MODIFIED:20211122T165217Z
UID:3558-1640390400-1640476799@uniontaproomwh.com
SUMMARY:CLOSED Merry Christmas
DESCRIPTION:
URL:https://uniontaproomwh.com/event/closed-merry-christmas-2/
END:VEVENT
BEGIN:VEVENT
DTSTART;TZID=UTC:20211223T183000
DTEND;TZID=UTC:20211223T210000
DTSTAMP:20260422T054229
CREATED:20211122T165157Z
LAST-MODIFIED:20211122T165157Z
UID:3556-1640284200-1640293200@uniontaproomwh.com
SUMMARY:Christmas Movie Night- The Grinch 6:30pm
DESCRIPTION:
URL:https://uniontaproomwh.com/event/christmas-movie-night-the-grinch-630pm/
END:VEVENT
BEGIN:VEVENT
DTSTART;TZID=UTC:20211218T190000
DTEND;TZID=UTC:20211218T230000
DTSTAMP:20260422T054229
CREATED:20211122T165127Z
LAST-MODIFIED:20211122T165127Z
UID:3554-1639854000-1639868400@uniontaproomwh.com
SUMMARY:Ugly Christmas Sweater Party 7-11pm. Live music- Layla Brisbois 7-10pm.
DESCRIPTION:
URL:https://uniontaproomwh.com/event/ugly-christmas-sweater-party-7-11pm-live-music-layla-brisbois-7-10pm/
END:VEVENT
BEGIN:VEVENT
DTSTART;TZID=UTC:20211217T190000
DTEND;TZID=UTC:20211217T220000
DTSTAMP:20260422T054229
CREATED:20211122T165058Z
LAST-MODIFIED:20211122T165058Z
UID:3552-1639767600-1639778400@uniontaproomwh.com
SUMMARY:Live Music- Luke Wilmoth 7-10pm
DESCRIPTION:
URL:https://uniontaproomwh.com/event/live-music-luke-wilmoth-7-10pm/
END:VEVENT
BEGIN:VEVENT
DTSTART;TZID=UTC:20211215T190000
DTEND;TZID=UTC:20211215T210000
DTSTAMP:20260422T054229
CREATED:20211122T165033Z
LAST-MODIFIED:20211122T165033Z
UID:3550-1639594800-1639602000@uniontaproomwh.com
SUMMARY:Christmas Vacation Trivia 7pm
DESCRIPTION:
URL:https://uniontaproomwh.com/event/christmas-vacation-trivia-7pm/
END:VEVENT
BEGIN:VEVENT
DTSTART;TZID=UTC:20211211T190000
DTEND;TZID=UTC:20211211T220000
DTSTAMP:20260422T054229
CREATED:20211122T165003Z
LAST-MODIFIED:20211122T165003Z
UID:3548-1639249200-1639260000@uniontaproomwh.com
SUMMARY:Live music- Adrienne Richards 7-10pm
DESCRIPTION:
URL:https://uniontaproomwh.com/event/live-music-adrienne-richards-7-10pm-5/
END:VEVENT
BEGIN:VEVENT
DTSTART;TZID=UTC:20211210T190000
DTEND;TZID=UTC:20211210T220000
DTSTAMP:20260422T054229
CREATED:20211122T164939Z
LAST-MODIFIED:20211122T164939Z
UID:3546-1639162800-1639173600@uniontaproomwh.com
SUMMARY:Live music- Daniel Pepin 7-10pm
DESCRIPTION:
URL:https://uniontaproomwh.com/event/live-music-daniel-pepin-7-10pm/
END:VEVENT
BEGIN:VEVENT
DTSTART;TZID=UTC:20211204T190000
DTEND;TZID=UTC:20211204T220000
DTSTAMP:20260422T054229
CREATED:20211122T164912Z
LAST-MODIFIED:20211122T164912Z
UID:3544-1638644400-1638655200@uniontaproomwh.com
SUMMARY:Live music- Anisette Mayer 7-10pm
DESCRIPTION:
URL:https://uniontaproomwh.com/event/live-music-anisette-mayer-7-10pm/
END:VEVENT
BEGIN:VEVENT
DTSTART;TZID=UTC:20211203T190000
DTEND;TZID=UTC:20211203T220000
DTSTAMP:20260422T054229
CREATED:20211122T164850Z
LAST-MODIFIED:20211122T164850Z
UID:3542-1638558000-1638568800@uniontaproomwh.com
SUMMARY:Live music- Micah Madore 7-10pm
DESCRIPTION:
URL:https://uniontaproomwh.com/event/live-music-micah-madore-7-10pm-6/
END:VEVENT
BEGIN:VEVENT
DTSTART;TZID=UTC:20211202T180000
DTEND;TZID=UTC:20211202T210000
DTSTAMP:20260422T054229
CREATED:20211122T164819Z
LAST-MODIFIED:20211122T164819Z
UID:3540-1638468000-1638478800@uniontaproomwh.com
SUMMARY:Holiday Night Market 6-9pm. Live music- Travis Williams 6-9pm.
DESCRIPTION:
URL:https://uniontaproomwh.com/event/holiday-night-market-6-9pm-live-music-travis-williams-6-9pm/
END:VEVENT
BEGIN:VEVENT
DTSTART;TZID=UTC:20211127T120000
DTEND;TZID=UTC:20211127T160000
DTSTAMP:20260422T054229
CREATED:20211122T164748Z
LAST-MODIFIED:20211122T164748Z
UID:3538-1638014400-1638028800@uniontaproomwh.com
SUMMARY:Florida VS Florida State Game 12pm
DESCRIPTION:
URL:https://uniontaproomwh.com/event/florida-vs-florida-state-game-12pm/
END:VEVENT
BEGIN:VEVENT
DTSTART;TZID=UTC:20211126T190000
DTEND;TZID=UTC:20211126T220000
DTSTAMP:20260422T054229
CREATED:20211122T164722Z
LAST-MODIFIED:20211122T164722Z
UID:3536-1637953200-1637964000@uniontaproomwh.com
SUMMARY:Black Friday Stout Out. Live Music- Blake Free 7-10pm
DESCRIPTION:
URL:https://uniontaproomwh.com/event/black-friday-stout-out-live-music-blake-free-7-10pm/
END:VEVENT
BEGIN:VEVENT
DTSTART;VALUE=DATE:20211125
DTEND;VALUE=DATE:20211126
DTSTAMP:20260422T054229
CREATED:20211122T164644Z
LAST-MODIFIED:20211122T164644Z
UID:3534-1637798400-1637884799@uniontaproomwh.com
SUMMARY:CLOSED Happy Thanksgiving!
DESCRIPTION:
URL:https://uniontaproomwh.com/event/closed-happy-thanksgiving-3/
END:VEVENT
BEGIN:VEVENT
DTSTART;TZID=UTC:20211124T160000
DTEND;TZID=UTC:20211124T230000
DTSTAMP:20260422T054229
CREATED:20211122T164625Z
LAST-MODIFIED:20211122T164625Z
UID:3532-1637769600-1637794800@uniontaproomwh.com
SUMMARY:Drinksgiving- Thanksgiving Eve Party 4-11pm. Live Music- Micah Shane 6-9pm.
DESCRIPTION:
URL:https://uniontaproomwh.com/event/drinksgiving-thanksgiving-eve-party-4-11pm-live-music-micah-shane-6-9pm/
END:VEVENT
BEGIN:VEVENT
DTSTART;TZID=UTC:20211030T190000
DTEND;TZID=UTC:20211030T220000
DTSTAMP:20260422T054229
CREATED:20210915T142255Z
LAST-MODIFIED:20210915T142255Z
UID:3468-1635620400-1635631200@uniontaproomwh.com
SUMMARY:Live Music: Eklectik Haze 7-10pm
DESCRIPTION:
URL:https://uniontaproomwh.com/event/live-music-eklectik-haze-7-10pm/
END:VEVENT
BEGIN:VEVENT
DTSTART;TZID=UTC:20211030T170000
DTEND;TZID=UTC:20211030T230000
DTSTAMP:20260422T054229
CREATED:20210915T142231Z
LAST-MODIFIED:20210915T142231Z
UID:3466-1635613200-1635634800@uniontaproomwh.com
SUMMARY:BOO'S & BREWS: UT Halloween Party 5-11pm
DESCRIPTION:
URL:https://uniontaproomwh.com/event/boos-brews-ut-halloween-party-5-11pm/
END:VEVENT
BEGIN:VEVENT
DTSTART;TZID=UTC:20211029T190000
DTEND;TZID=UTC:20211029T220000
DTSTAMP:20260422T054229
CREATED:20210915T142202Z
LAST-MODIFIED:20210915T142202Z
UID:3464-1635534000-1635544800@uniontaproomwh.com
SUMMARY:Live Music: Dan Signor 7-10pm
DESCRIPTION:
URL:https://uniontaproomwh.com/event/live-music-dan-signor-7-10pm/
END:VEVENT
BEGIN:VEVENT
DTSTART;TZID=UTC:20211028T183000
DTEND;TZID=UTC:20211028T203000
DTSTAMP:20260422T054229
CREATED:20210915T142132Z
LAST-MODIFIED:20210915T142132Z
UID:3462-1635445800-1635453000@uniontaproomwh.com
SUMMARY:BREW & VIEW: Hocus Pocus Movie Night 6:30pm
DESCRIPTION:
URL:https://uniontaproomwh.com/event/brew-view-hocus-pocus-movie-night-630pm/
END:VEVENT
END:VCALENDAR