BEGIN:VCALENDAR
VERSION:2.0
PRODID:-//Union Taproom - ECPv6.15.10//NONSGML v1.0//EN
CALSCALE:GREGORIAN
METHOD:PUBLISH
X-WR-CALNAME:Union Taproom
X-ORIGINAL-URL:https://uniontaproomwh.com
X-WR-CALDESC:Events for Union Taproom
REFRESH-INTERVAL;VALUE=DURATION:PT1H
X-Robots-Tag:noindex
X-PUBLISHED-TTL:PT1H
BEGIN:VTIMEZONE
TZID:UTC
BEGIN:STANDARD
TZOFFSETFROM:+0000
TZOFFSETTO:+0000
TZNAME:UTC
DTSTART:20190101T000000
END:STANDARD
END:VTIMEZONE
BEGIN:VEVENT
DTSTART;TZID=UTC:20201202T183000
DTEND;TZID=UTC:20201202T213000
DTSTAMP:20260422T195958
CREATED:20201006T112115Z
LAST-MODIFIED:20201214T233141Z
UID:2771-1606933800-1606944600@uniontaproomwh.com
SUMMARY:Movie Night – Die Hard (18+ ONLY)
DESCRIPTION:
URL:https://uniontaproomwh.com/event/movie-night-die-hard-18-only/
END:VEVENT
BEGIN:VEVENT
DTSTART;TZID=UTC:20201201T200000
DTEND;TZID=UTC:20201201T210000
DTSTAMP:20260422T195958
CREATED:20201130T122656Z
LAST-MODIFIED:20201130T122656Z
UID:2964-1606852800-1606856400@uniontaproomwh.com
SUMMARY:Bachelorette Watch Party
DESCRIPTION:
URL:https://uniontaproomwh.com/event/bachelorette-watch-party-2/
END:VEVENT
BEGIN:VEVENT
DTSTART;TZID=UTC:20201128T190000
DTEND;TZID=UTC:20201128T220000
DTSTAMP:20260422T195958
CREATED:20201006T112045Z
LAST-MODIFIED:20201006T112045Z
UID:2769-1606590000-1606600800@uniontaproomwh.com
SUMMARY:LIVE MUSIC – Ocean Steeze
DESCRIPTION:
URL:https://uniontaproomwh.com/event/live-music-ocean-steeze/
END:VEVENT
BEGIN:VEVENT
DTSTART;VALUE=DATE:20201128
DTEND;VALUE=DATE:20201129
DTSTAMP:20260422T195958
CREATED:20201020T114059Z
LAST-MODIFIED:20201020T114059Z
UID:2896-1606521600-1606607999@uniontaproomwh.com
SUMMARY:Small Business Saturday
DESCRIPTION:
URL:https://uniontaproomwh.com/event/small-business-saturday/
END:VEVENT
BEGIN:VEVENT
DTSTART;VALUE=DATE:20201126
DTEND;VALUE=DATE:20201127
DTSTAMP:20260422T195958
CREATED:20201006T111952Z
LAST-MODIFIED:20201006T111952Z
UID:2767-1606348800-1606435199@uniontaproomwh.com
SUMMARY:CLOSED – HAPPY THANKSGIVING
DESCRIPTION:
URL:https://uniontaproomwh.com/event/closed-happy-thanksgiving-2/
END:VEVENT
BEGIN:VEVENT
DTSTART;TZID=UTC:20201125T180000
DTEND;TZID=UTC:20201125T210000
DTSTAMP:20260422T195958
CREATED:20201006T111927Z
LAST-MODIFIED:20201006T111927Z
UID:2765-1606327200-1606338000@uniontaproomwh.com
SUMMARY:THANKSGIVING EVE – 6-9PM LIVE MUSIC – Adrienne Richards
DESCRIPTION:
URL:https://uniontaproomwh.com/event/thanksgiving-eve-6-9pm-live-music-adrienne-richards/
END:VEVENT
BEGIN:VEVENT
DTSTART;TZID=UTC:20201124T180000
DTEND;TZID=UTC:20201124T210000
DTSTAMP:20260422T195958
CREATED:20201020T114023Z
LAST-MODIFIED:20201020T114023Z
UID:2894-1606240800-1606251600@uniontaproomwh.com
SUMMARY:Fig & Berry Cheese Boxes
DESCRIPTION:
URL:https://uniontaproomwh.com/event/fig-berry-cheese-boxes/
END:VEVENT
BEGIN:VEVENT
DTSTART;TZID=UTC:20201121T190000
DTEND;TZID=UTC:20201121T220000
DTSTAMP:20260422T195958
CREATED:20201006T111849Z
LAST-MODIFIED:20201006T111849Z
UID:2763-1605985200-1605996000@uniontaproomwh.com
SUMMARY:LIVE MUSIC – Justin Grimes
DESCRIPTION:
URL:https://uniontaproomwh.com/event/live-music-justin-grimes-3/
END:VEVENT
BEGIN:VEVENT
DTSTART;TZID=UTC:20201118T183000
DTEND;TZID=UTC:20201118T213000
DTSTAMP:20260422T195958
CREATED:20201006T111815Z
LAST-MODIFIED:20201214T233210Z
UID:2761-1605724200-1605735000@uniontaproomwh.com
SUMMARY:Movie Night – Home for the Holidays
DESCRIPTION:
URL:https://uniontaproomwh.com/event/movie-night-home-for-the-holidays/
END:VEVENT
BEGIN:VEVENT
DTSTART;TZID=UTC:20201113T190000
DTEND;TZID=UTC:20201113T220000
DTSTAMP:20260422T195958
CREATED:20201006T111729Z
LAST-MODIFIED:20201006T111729Z
UID:2758-1605294000-1605304800@uniontaproomwh.com
SUMMARY:LIVE MUSIC – Travis Williams
DESCRIPTION:
URL:https://uniontaproomwh.com/event/live-music-travis-williams/
END:VEVENT
BEGIN:VEVENT
DTSTART;TZID=UTC:20201111T183000
DTEND;TZID=UTC:20201111T213000
DTSTAMP:20260422T195958
CREATED:20201006T225251Z
LAST-MODIFIED:20201214T232843Z
UID:2797-1605119400-1605130200@uniontaproomwh.com
SUMMARY:Movie Night - Planes\, Trains\, and Automobiles (18+ ONLY)
DESCRIPTION:
URL:https://uniontaproomwh.com/event/movie-night-planes-trains-and-automobiles-18-only/
END:VEVENT
BEGIN:VEVENT
DTSTART;TZID=UTC:20201106T190000
DTEND;TZID=UTC:20201106T220000
DTSTAMP:20260422T195958
CREATED:20201006T111620Z
LAST-MODIFIED:20201006T111620Z
UID:2754-1604689200-1604700000@uniontaproomwh.com
SUMMARY:LIVE MUSIC - Mike MontsDeOca
DESCRIPTION:
URL:https://uniontaproomwh.com/event/live-music-mike-montsdeoca/
END:VEVENT
BEGIN:VEVENT
DTSTART;TZID=UTC:20201104T183000
DTEND;TZID=UTC:20201104T213000
DTSTAMP:20260422T195958
CREATED:20201006T111531Z
LAST-MODIFIED:20201214T233240Z
UID:2752-1604514600-1604525400@uniontaproomwh.com
SUMMARY:Movie Night - Son In Law
DESCRIPTION:
URL:https://uniontaproomwh.com/event/movie-night-son-in-law/
END:VEVENT
BEGIN:VEVENT
DTSTART;TZID=UTC:20201031T190000
DTEND;TZID=UTC:20201031T220000
DTSTAMP:20260422T195958
CREATED:20201020T113943Z
LAST-MODIFIED:20201020T113943Z
UID:2892-1604170800-1604181600@uniontaproomwh.com
SUMMARY:HALLOWEEN – Costume Night
DESCRIPTION:
URL:https://uniontaproomwh.com/event/halloween-costume-night/
END:VEVENT
BEGIN:VEVENT
DTSTART;TZID=UTC:20201030T190000
DTEND;TZID=UTC:20201030T220000
DTSTAMP:20260422T195958
CREATED:20201005T234756Z
LAST-MODIFIED:20201005T234756Z
UID:2749-1604084400-1604095200@uniontaproomwh.com
SUMMARY:LIVE MUSIC - Justin Grimes
DESCRIPTION:
URL:https://uniontaproomwh.com/event/live-music-justin-grimes-2/
END:VEVENT
BEGIN:VEVENT
DTSTART;TZID=UTC:20201028T183000
DTEND;TZID=UTC:20201028T213000
DTSTAMP:20260422T195958
CREATED:20201005T234725Z
LAST-MODIFIED:20201214T233305Z
UID:2747-1603909800-1603920600@uniontaproomwh.com
SUMMARY:Movie Night – Halloween *1978 Original (18+ ONLY)
DESCRIPTION:
URL:https://uniontaproomwh.com/event/movie-night-halloween-1978-original-18-only/
END:VEVENT
BEGIN:VEVENT
DTSTART;TZID=UTC:20201024T190000
DTEND;TZID=UTC:20201024T220000
DTSTAMP:20260422T195958
CREATED:20201005T234652Z
LAST-MODIFIED:20201005T234652Z
UID:2745-1603566000-1603576800@uniontaproomwh.com
SUMMARY:LIVE MUSIC - Gene Eanett
DESCRIPTION:
URL:https://uniontaproomwh.com/event/live-music-gene-eanett/
END:VEVENT
BEGIN:VEVENT
DTSTART;TZID=UTC:20201023T200000
DTEND;TZID=UTC:20201023T230000
DTSTAMP:20260422T195958
CREATED:20201020T113757Z
LAST-MODIFIED:20201020T113757Z
UID:2880-1603483200-1603494000@uniontaproomwh.com
SUMMARY:World Series: Game 3 Watch Party
DESCRIPTION:
URL:https://uniontaproomwh.com/event/world-series-game-3-watch-party/
END:VEVENT
BEGIN:VEVENT
DTSTART;TZID=UTC:20201021T183000
DTEND;TZID=UTC:20201021T213000
DTSTAMP:20260422T195958
CREATED:20201005T234614Z
LAST-MODIFIED:20201214T233355Z
UID:2743-1603305000-1603315800@uniontaproomwh.com
SUMMARY:Movie Night – The Rocky Horror Picture Show (18+ ONLY)
DESCRIPTION:
URL:https://uniontaproomwh.com/event/movie-night-the-rocky-horror-picture-show-18-only/
END:VEVENT
BEGIN:VEVENT
DTSTART;TZID=UTC:20201020T200000
DTEND;TZID=UTC:20201020T220000
DTSTAMP:20260422T195958
CREATED:20201020T113239Z
LAST-MODIFIED:20201020T113239Z
UID:2811-1603224000-1603231200@uniontaproomwh.com
SUMMARY:Bachelorette Watch Party
DESCRIPTION:
URL:https://uniontaproomwh.com/event/bachelorette-watch-party/
END:VEVENT
BEGIN:VEVENT
DTSTART;TZID=UTC:20201016T190000
DTEND;TZID=UTC:20201016T220000
DTSTAMP:20260422T195958
CREATED:20201005T234532Z
LAST-MODIFIED:20201005T234532Z
UID:2741-1602874800-1602885600@uniontaproomwh.com
SUMMARY:LIVE MUSIC - Ryan Lear
DESCRIPTION:
URL:https://uniontaproomwh.com/event/live-music-ryan-lear/
END:VEVENT
BEGIN:VEVENT
DTSTART;TZID=UTC:20201014T193000
DTEND;TZID=UTC:20201014T213000
DTSTAMP:20260422T195958
CREATED:20201005T234455Z
LAST-MODIFIED:20201005T235512Z
UID:2739-1602703800-1602711000@uniontaproomwh.com
SUMMARY:Movie Night – Hocus Pocus
DESCRIPTION:
URL:https://uniontaproomwh.com/event/movie-night-hocus-pocus/
END:VEVENT
BEGIN:VEVENT
DTSTART;TZID=UTC:20201009T190000
DTEND;TZID=UTC:20201009T220000
DTSTAMP:20260422T195958
CREATED:20201005T234416Z
LAST-MODIFIED:20201005T234416Z
UID:2737-1602270000-1602280800@uniontaproomwh.com
SUMMARY:LIVE MUSIC - Justin Grimes
DESCRIPTION:
URL:https://uniontaproomwh.com/event/live-music-justin-grimes/
END:VEVENT
BEGIN:VEVENT
DTSTART;TZID=UTC:20201007T193000
DTEND;TZID=UTC:20201007T213000
DTSTAMP:20260422T195958
CREATED:20201005T234336Z
LAST-MODIFIED:20201005T234336Z
UID:2735-1602099000-1602106200@uniontaproomwh.com
SUMMARY:Movie Night – Addams Family
DESCRIPTION:
URL:https://uniontaproomwh.com/event/movie-night-addams-family/
END:VEVENT
BEGIN:VEVENT
DTSTART;TZID=UTC:20200925T160000
DTEND;TZID=UTC:20200927T190000
DTSTAMP:20260422T195958
CREATED:20200924T153239Z
LAST-MODIFIED:20200924T153239Z
UID:2716-1601049600-1601233200@uniontaproomwh.com
SUMMARY:Union’s Anniversary Weekend
DESCRIPTION:YOU’RE INVITED….🥳🥳 \nWe can’t THANK everyone enough for all the support over the past year! It has definitely been a tough one\, but HERE WE ARE! As a THANK YOU — YOUR 2ND POUR IS ON US…ALL WEEKEND LONG!!! 🍻🍻 \nJoin us this weekend — Let’s celebrate with new beers\, music\, sports\, and food!!! 🤙🏼✨ \nFRIDAY:\nRyan Lear | 7-10PM 🎵\nFood by Tempo 1930 | 6-9PM 🥓🍗 \nSATURDAY:\nTapola’s Italian Ice | 12-4PM 🍧\nJustin Grimes Music | 7-10PM 🎶\nFood by Tallulah’s Table by the Sea | 5-9PM 🍤\n✴️ YES — We WILL have the SEC games on the TVs! 🏈🙌🏼 \nSUNDAY:\nMike Monts De Oca | 2-5PM 🎼\nFood by Da Chef Truck | 1-5PM 🍜🌯 **1st time in WH!\n✴️ AGAIN — Football takes over the TV’s! 🏈 \n…..and more! 👏🏼👏🏼👏🏼👏🏼 \nWe cannot wait to have a beer with you!\nSee you this weekend!! 🍻🍻🤙🏼✨
URL:https://uniontaproomwh.com/event/unions-anniversary-weekend/
END:VEVENT
BEGIN:VEVENT
DTSTART;TZID=UTC:20200628T130000
DTEND;TZID=UTC:20200628T170000
DTSTAMP:20260422T195958
CREATED:20200602T104856Z
LAST-MODIFIED:20200602T105114Z
UID:2501-1593349200-1593363600@uniontaproomwh.com
SUMMARY:Food Truck - Smokin Oak 1-5PM
DESCRIPTION:
URL:https://uniontaproomwh.com/event/smokin-oak-1-5pm/
CATEGORIES:Food Trucks
END:VEVENT
BEGIN:VEVENT
DTSTART;TZID=UTC:20200627T190000
DTEND;TZID=UTC:20200627T220000
DTSTAMP:20260422T195958
CREATED:20200616T204531Z
LAST-MODIFIED:20200616T204531Z
UID:2532-1593284400-1593295200@uniontaproomwh.com
SUMMARY:Micah Madore
DESCRIPTION:
URL:https://uniontaproomwh.com/event/micah-madore-3/
END:VEVENT
BEGIN:VEVENT
DTSTART;TZID=UTC:20200627T160000
DTEND;TZID=UTC:20200627T210000
DTSTAMP:20260422T195958
CREATED:20200602T104837Z
LAST-MODIFIED:20200602T105130Z
UID:2499-1593273600-1593291600@uniontaproomwh.com
SUMMARY:Food Truck - Willy T’s Crab Shack 4-9PM
DESCRIPTION:
URL:https://uniontaproomwh.com/event/willy-ts-crab-shack-4-9pm-2/
CATEGORIES:Food Trucks
END:VEVENT
BEGIN:VEVENT
DTSTART;TZID=UTC:20200626T160000
DTEND;TZID=UTC:20200626T210000
DTSTAMP:20260422T195958
CREATED:20200602T104815Z
LAST-MODIFIED:20200602T105137Z
UID:2497-1593187200-1593205200@uniontaproomwh.com
SUMMARY:Food Truck - K&E’s Italian Kitchen 4-9PM
DESCRIPTION:
URL:https://uniontaproomwh.com/event/kes-italian-kitchen-4-9pm-2/
CATEGORIES:Food Trucks
END:VEVENT
BEGIN:VEVENT
DTSTART;TZID=UTC:20200625T160000
DTEND;TZID=UTC:20200625T210000
DTSTAMP:20260422T195958
CREATED:20200602T104935Z
LAST-MODIFIED:20200602T105144Z
UID:2503-1593100800-1593118800@uniontaproomwh.com
SUMMARY:Food Truck - Holy Cannoli 4-9pm
DESCRIPTION:
URL:https://uniontaproomwh.com/event/holy-cannoli-4-9pm/
CATEGORIES:Food Trucks
END:VEVENT
END:VCALENDAR