BEGIN:VCALENDAR
VERSION:2.0
PRODID:-//Union Taproom - ECPv6.15.10//NONSGML v1.0//EN
CALSCALE:GREGORIAN
METHOD:PUBLISH
X-WR-CALNAME:Union Taproom
X-ORIGINAL-URL:https://uniontaproomwh.com
X-WR-CALDESC:Events for Union Taproom
REFRESH-INTERVAL;VALUE=DURATION:PT1H
X-Robots-Tag:noindex
X-PUBLISHED-TTL:PT1H
BEGIN:VTIMEZONE
TZID:UTC
BEGIN:STANDARD
TZOFFSETFROM:+0000
TZOFFSETTO:+0000
TZNAME:UTC
DTSTART:20200101T000000
END:STANDARD
END:VTIMEZONE
BEGIN:VEVENT
DTSTART;TZID=UTC:20210414T183000
DTEND;TZID=UTC:20210414T203000
DTSTAMP:20260423T153314
CREATED:20210406T155136Z
LAST-MODIFIED:20210406T155136Z
UID:3300-1618425000-1618432200@uniontaproomwh.com
SUMMARY:Movie Night: Greatest Showman 6:30pm
DESCRIPTION:
URL:https://uniontaproomwh.com/event/movie-night-greatest-showman-630pm/
END:VEVENT
BEGIN:VEVENT
DTSTART;TZID=UTC:20210411T130000
DTEND;TZID=UTC:20210411T190000
DTSTAMP:20260423T153314
CREATED:20210406T155105Z
LAST-MODIFIED:20210406T155105Z
UID:3298-1618146000-1618167600@uniontaproomwh.com
SUMMARY:Masters Par-Tee 1:00-Close
DESCRIPTION:Click here for more details.
URL:https://uniontaproomwh.com/event/masters-par-tee-100-close/
END:VEVENT
BEGIN:VEVENT
DTSTART;TZID=UTC:20210410T190000
DTEND;TZID=UTC:20210410T220000
DTSTAMP:20260423T153314
CREATED:20210406T154831Z
LAST-MODIFIED:20210406T154831Z
UID:3296-1618081200-1618092000@uniontaproomwh.com
SUMMARY:Live Music: Adrienne Richards 7-10pm
DESCRIPTION:
URL:https://uniontaproomwh.com/event/live-music-adrienne-richards-7-10pm-4/
END:VEVENT
BEGIN:VEVENT
DTSTART;TZID=UTC:20210409T190000
DTEND;TZID=UTC:20210409T220000
DTSTAMP:20260423T153314
CREATED:20210406T154746Z
LAST-MODIFIED:20210406T154746Z
UID:3294-1617994800-1618005600@uniontaproomwh.com
SUMMARY:Live Music: Micah Madore 7-10pm
DESCRIPTION:
URL:https://uniontaproomwh.com/event/live-music-micah-madore-7-10pm-3/
END:VEVENT
BEGIN:VEVENT
DTSTART;TZID=UTC:20210407T183000
DTEND;TZID=UTC:20210407T203000
DTSTAMP:20260423T153314
CREATED:20210406T154604Z
LAST-MODIFIED:20210406T154604Z
UID:3292-1617820200-1617827400@uniontaproomwh.com
SUMMARY:Movie Night: Caddyshack 6:30pm
DESCRIPTION:
URL:https://uniontaproomwh.com/event/movie-night-caddyshack-630pm/
END:VEVENT
BEGIN:VEVENT
DTSTART;VALUE=DATE:20210407
DTEND;VALUE=DATE:20210408
DTSTAMP:20260423T153314
CREATED:20210406T154516Z
LAST-MODIFIED:20210406T154516Z
UID:3290-1617753600-1617839999@uniontaproomwh.com
SUMMARY:NATIONAL BEER DAY
DESCRIPTION:
URL:https://uniontaproomwh.com/event/national-beer-day/
END:VEVENT
BEGIN:VEVENT
DTSTART;VALUE=DATE:20210406
DTEND;VALUE=DATE:20210407
DTSTAMP:20260423T153314
CREATED:20210406T154422Z
LAST-MODIFIED:20210406T154422Z
UID:3283-1617667200-1617753599@uniontaproomwh.com
SUMMARY:MASTERS WEEK (LIVE Footage from the 2021 Masters Tournament)
DESCRIPTION:
URL:https://uniontaproomwh.com/event/masters-week-live-footage-from-the-2021-masters-tournament/
END:VEVENT
BEGIN:VEVENT
DTSTART;TZID=UTC:20210402T190000
DTEND;TZID=UTC:20210402T220000
DTSTAMP:20260423T153314
CREATED:20210224T003200Z
LAST-MODIFIED:20210224T003200Z
UID:3252-1617390000-1617400800@uniontaproomwh.com
SUMMARY:Live Music: Jay Taylor 7-10pm
DESCRIPTION:
URL:https://uniontaproomwh.com/event/live-music-jay-taylor-7-10pm/
END:VEVENT
BEGIN:VEVENT
DTSTART;TZID=UTC:20210327T190000
DTEND;TZID=UTC:20210327T220000
DTSTAMP:20260423T153314
CREATED:20210224T003120Z
LAST-MODIFIED:20210224T003120Z
UID:3250-1616871600-1616882400@uniontaproomwh.com
SUMMARY:Live Music: Adrienne Richards 7-10pm
DESCRIPTION:
URL:https://uniontaproomwh.com/event/live-music-adrienne-richards-7-10pm-2/
END:VEVENT
BEGIN:VEVENT
DTSTART;TZID=UTC:20210326T190000
DTEND;TZID=UTC:20210326T220000
DTSTAMP:20260423T153314
CREATED:20210224T003042Z
LAST-MODIFIED:20210224T003042Z
UID:3248-1616785200-1616796000@uniontaproomwh.com
SUMMARY:Live Music: Micah Madore 7-10pm
DESCRIPTION:
URL:https://uniontaproomwh.com/event/live-music-micah-madore-7-10pm-2/
END:VEVENT
BEGIN:VEVENT
DTSTART;TZID=UTC:20210320T190000
DTEND;TZID=UTC:20210320T220000
DTSTAMP:20260423T153314
CREATED:20210224T002953Z
LAST-MODIFIED:20210224T002953Z
UID:3246-1616266800-1616277600@uniontaproomwh.com
SUMMARY:Live Music: Chase Dixson 7-10pm
DESCRIPTION:
URL:https://uniontaproomwh.com/event/live-music-chase-dixson-7-10pm-2/
END:VEVENT
BEGIN:VEVENT
DTSTART;TZID=UTC:20210319T190000
DTEND;TZID=UTC:20210319T220000
DTSTAMP:20260423T153314
CREATED:20210224T002722Z
LAST-MODIFIED:20210224T002722Z
UID:3244-1616180400-1616191200@uniontaproomwh.com
SUMMARY:Live Music: Gene Eanett 7-10pm
DESCRIPTION:
URL:https://uniontaproomwh.com/event/live-music-gene-eanett-7-10pm-2/
END:VEVENT
BEGIN:VEVENT
DTSTART;TZID=UTC:20210317T173000
DTEND;TZID=UTC:20210317T210000
DTSTAMP:20260423T153314
CREATED:20210224T002641Z
LAST-MODIFIED:20210224T002641Z
UID:3242-1616002200-1616014800@uniontaproomwh.com
SUMMARY:Nat West & Dick Prince 5:30-9pm
DESCRIPTION:
URL:https://uniontaproomwh.com/event/nat-west-dick-prince-530-9pm/
END:VEVENT
BEGIN:VEVENT
DTSTART;VALUE=DATE:20210317
DTEND;VALUE=DATE:20210318
DTSTAMP:20260423T153314
CREATED:20210224T002536Z
LAST-MODIFIED:20210224T002536Z
UID:3240-1615939200-1616025599@uniontaproomwh.com
SUMMARY:St Patrick’s Day
DESCRIPTION:
URL:https://uniontaproomwh.com/event/st-patricks-day/
END:VEVENT
BEGIN:VEVENT
DTSTART;TZID=UTC:20210313T190000
DTEND;TZID=UTC:20210313T220000
DTSTAMP:20260423T153314
CREATED:20210224T002432Z
LAST-MODIFIED:20210224T002432Z
UID:3238-1615662000-1615672800@uniontaproomwh.com
SUMMARY:Live Music: Mike Monts De Oca 7-10pm
DESCRIPTION:
URL:https://uniontaproomwh.com/event/live-music-mike-monts-de-oca-7-10pm-3/
END:VEVENT
BEGIN:VEVENT
DTSTART;TZID=UTC:20210312T190000
DTEND;TZID=UTC:20210312T220000
DTSTAMP:20260423T153314
CREATED:20210224T002342Z
LAST-MODIFIED:20210224T002342Z
UID:3236-1615575600-1615586400@uniontaproomwh.com
SUMMARY:Live Music: Ocean Steeze 7-10pm
DESCRIPTION:
URL:https://uniontaproomwh.com/event/live-music-ocean-steeze-7-10pm-3/
END:VEVENT
BEGIN:VEVENT
DTSTART;TZID=UTC:20210311T173000
DTEND;TZID=UTC:20210311T193000
DTSTAMP:20260423T153314
CREATED:20210224T001719Z
LAST-MODIFIED:20210224T004013Z
UID:3221-1615483800-1615491000@uniontaproomwh.com
SUMMARY:Pups & Pints
DESCRIPTION:
URL:https://uniontaproomwh.com/event/pups-pints-3/
END:VEVENT
BEGIN:VEVENT
DTSTART;TZID=UTC:20210306T190000
DTEND;TZID=UTC:20210306T220000
DTSTAMP:20260423T153314
CREATED:20210224T002304Z
LAST-MODIFIED:20210224T002304Z
UID:3234-1615057200-1615068000@uniontaproomwh.com
SUMMARY:Live Music: Ryan Lear 7-10pm
DESCRIPTION:
URL:https://uniontaproomwh.com/event/live-music-ryan-lear-7-10pm-2/
END:VEVENT
BEGIN:VEVENT
DTSTART;TZID=UTC:20210304T180000
DTEND;TZID=UTC:20210304T210000
DTSTAMP:20260423T153314
CREATED:20210222T143331Z
LAST-MODIFIED:20210222T143331Z
UID:3208-1614880800-1614891600@uniontaproomwh.com
SUMMARY:Night Market
DESCRIPTION:
URL:https://uniontaproomwh.com/event/night-market/
END:VEVENT
BEGIN:VEVENT
DTSTART;TZID=UTC:20210227T190000
DTEND;TZID=UTC:20210227T220000
DTSTAMP:20260423T153314
CREATED:20210224T002221Z
LAST-MODIFIED:20210224T002221Z
UID:3232-1614452400-1614463200@uniontaproomwh.com
SUMMARY:Live Music: Ocean Steeze 7-10pm
DESCRIPTION:
URL:https://uniontaproomwh.com/event/live-music-ocean-steeze-7-10pm-2/
END:VEVENT
BEGIN:VEVENT
DTSTART;TZID=UTC:20210226T190000
DTEND;TZID=UTC:20210226T220000
DTSTAMP:20260423T153314
CREATED:20210119T120318Z
LAST-MODIFIED:20210119T120318Z
UID:3162-1614366000-1614376800@uniontaproomwh.com
SUMMARY:Live Music: Mike Monts De Oca 7-10PM
DESCRIPTION:
URL:https://uniontaproomwh.com/event/live-music-mike-monts-de-oca-7-10pm-2/
END:VEVENT
BEGIN:VEVENT
DTSTART;TZID=UTC:20210220T190000
DTEND;TZID=UTC:20210220T220000
DTSTAMP:20260423T153314
CREATED:20210119T120249Z
LAST-MODIFIED:20210119T120249Z
UID:3160-1613847600-1613858400@uniontaproomwh.com
SUMMARY:Live Music: Chase Dixson 7-10PM
DESCRIPTION:
URL:https://uniontaproomwh.com/event/live-music-chase-dixson-7-10pm/
END:VEVENT
BEGIN:VEVENT
DTSTART;TZID=UTC:20210219T190000
DTEND;TZID=UTC:20210219T220000
DTSTAMP:20260423T153314
CREATED:20210119T121246Z
LAST-MODIFIED:20210119T121246Z
UID:3164-1613761200-1613772000@uniontaproomwh.com
SUMMARY:Live Music: Justin Grimes 7-10PM
DESCRIPTION:
URL:https://uniontaproomwh.com/event/live-music-justin-grimes-7-10pm/
END:VEVENT
BEGIN:VEVENT
DTSTART;TZID=UTC:20210213T190000
DTEND;TZID=UTC:20210213T220000
DTSTAMP:20260423T153314
CREATED:20210119T120220Z
LAST-MODIFIED:20210119T120220Z
UID:3158-1613242800-1613253600@uniontaproomwh.com
SUMMARY:Live Music: Micah Madore 7-10PM
DESCRIPTION:
URL:https://uniontaproomwh.com/event/live-music-micah-madore-7-10pm/
END:VEVENT
BEGIN:VEVENT
DTSTART;TZID=UTC:20210212T190000
DTEND;TZID=UTC:20210212T220000
DTSTAMP:20260423T153314
CREATED:20210119T120153Z
LAST-MODIFIED:20210119T120153Z
UID:3156-1613156400-1613167200@uniontaproomwh.com
SUMMARY:Live Music: Gene Eanett 7-10PM
DESCRIPTION:
URL:https://uniontaproomwh.com/event/live-music-gene-eanett-7-10pm/
END:VEVENT
BEGIN:VEVENT
DTSTART;TZID=UTC:20210211T173000
DTEND;TZID=UTC:20210211T193000
DTSTAMP:20260423T153314
CREATED:20210120T212031Z
LAST-MODIFIED:20210120T212031Z
UID:3168-1613064600-1613071800@uniontaproomwh.com
SUMMARY:Pups & Pints
DESCRIPTION:
URL:https://uniontaproomwh.com/event/pups-pints-2/
END:VEVENT
BEGIN:VEVENT
DTSTART;TZID=UTC:20210206T183000
DTEND;TZID=UTC:20210206T220000
DTSTAMP:20260423T153314
CREATED:20210119T120130Z
LAST-MODIFIED:20210119T120130Z
UID:3154-1612636200-1612648800@uniontaproomwh.com
SUMMARY:Paint & Pints 6:30PM\, Live Music: Jay Taylor 7-10PM
DESCRIPTION:
URL:https://uniontaproomwh.com/event/paint-pints-630pm-live-music-jay-taylor-7-10pm/
END:VEVENT
BEGIN:VEVENT
DTSTART;TZID=UTC:20210205T190000
DTEND;TZID=UTC:20210205T220000
DTSTAMP:20260423T153314
CREATED:20210119T120045Z
LAST-MODIFIED:20210119T120045Z
UID:3152-1612551600-1612562400@uniontaproomwh.com
SUMMARY:Live Music: Ryan Lear 7-10PM
DESCRIPTION:
URL:https://uniontaproomwh.com/event/live-music-ryan-lear-7-10pm/
END:VEVENT
BEGIN:VEVENT
DTSTART;TZID=UTC:20210130T190000
DTEND;TZID=UTC:20210130T220000
DTSTAMP:20260423T153314
CREATED:20210119T120017Z
LAST-MODIFIED:20210119T120017Z
UID:3150-1612033200-1612044000@uniontaproomwh.com
SUMMARY:Live Music: David Brimer 7-10PM
DESCRIPTION:
URL:https://uniontaproomwh.com/event/live-music-david-brimer-7-10pm/
END:VEVENT
BEGIN:VEVENT
DTSTART;TZID=UTC:20210129T190000
DTEND;TZID=UTC:20210129T220000
DTSTAMP:20260423T153314
CREATED:20210119T115943Z
LAST-MODIFIED:20210119T115943Z
UID:3148-1611946800-1611957600@uniontaproomwh.com
SUMMARY:Live Music: Mike Monts De Oca 7-10PM
DESCRIPTION:
URL:https://uniontaproomwh.com/event/live-music-mike-monts-de-oca-7-10pm/
END:VEVENT
END:VCALENDAR