BEGIN:VCALENDAR
VERSION:2.0
PRODID:-//Union Taproom - ECPv6.15.10//NONSGML v1.0//EN
CALSCALE:GREGORIAN
METHOD:PUBLISH
X-WR-CALNAME:Union Taproom
X-ORIGINAL-URL:https://uniontaproomwh.com
X-WR-CALDESC:Events for Union Taproom
REFRESH-INTERVAL;VALUE=DURATION:PT1H
X-Robots-Tag:noindex
X-PUBLISHED-TTL:PT1H
BEGIN:VTIMEZONE
TZID:UTC
BEGIN:STANDARD
TZOFFSETFROM:+0000
TZOFFSETTO:+0000
TZNAME:UTC
DTSTART:20190101T000000
END:STANDARD
END:VTIMEZONE
BEGIN:VEVENT
DTSTART;TZID=UTC:20200411T190000
DTEND;TZID=UTC:20200411T220000
DTSTAMP:20260423T021357
CREATED:20200109T133545Z
LAST-MODIFIED:20200109T133545Z
UID:2260-1586631600-1586642400@uniontaproomwh.com
SUMMARY:Southerndipity
DESCRIPTION:
URL:https://uniontaproomwh.com/event/southerndipity-2/
END:VEVENT
BEGIN:VEVENT
DTSTART;TZID=UTC:20200405T140000
DTEND;TZID=UTC:20200405T170000
DTSTAMP:20260423T021357
CREATED:20200109T133335Z
LAST-MODIFIED:20200109T133335Z
UID:2256-1586095200-1586106000@uniontaproomwh.com
SUMMARY:Melissa Crispo
DESCRIPTION:
URL:https://uniontaproomwh.com/event/melissa-crispo-2/
END:VEVENT
BEGIN:VEVENT
DTSTART;TZID=UTC:20200404T190000
DTEND;TZID=UTC:20200404T220000
DTSTAMP:20260423T021357
CREATED:20200109T133245Z
LAST-MODIFIED:20200109T133245Z
UID:2254-1586026800-1586037600@uniontaproomwh.com
SUMMARY:The Hummingbirds
DESCRIPTION:
URL:https://uniontaproomwh.com/event/the-hummingbirds-2/
END:VEVENT
BEGIN:VEVENT
DTSTART;TZID=UTC:20200403T190000
DTEND;TZID=UTC:20200403T220000
DTSTAMP:20260423T021357
CREATED:20200109T133153Z
LAST-MODIFIED:20200109T133153Z
UID:2252-1585940400-1585951200@uniontaproomwh.com
SUMMARY:Munn Park Saints
DESCRIPTION:
URL:https://uniontaproomwh.com/event/munn-park-saints/
END:VEVENT
BEGIN:VEVENT
DTSTART;TZID=UTC:20200329T140000
DTEND;TZID=UTC:20200329T170000
DTSTAMP:20260423T021357
CREATED:20200109T133053Z
LAST-MODIFIED:20200109T133053Z
UID:2248-1585490400-1585501200@uniontaproomwh.com
SUMMARY:SG Wood
DESCRIPTION:
URL:https://uniontaproomwh.com/event/sg-wood-3/
END:VEVENT
BEGIN:VEVENT
DTSTART;TZID=UTC:20200328T190000
DTEND;TZID=UTC:20200328T220000
DTSTAMP:20260423T021357
CREATED:20200109T132938Z
LAST-MODIFIED:20200109T132938Z
UID:2244-1585422000-1585432800@uniontaproomwh.com
SUMMARY:Hunter Smith
DESCRIPTION:
URL:https://uniontaproomwh.com/event/hunter-smith-2/
END:VEVENT
BEGIN:VEVENT
DTSTART;TZID=UTC:20200327T190000
DTEND;TZID=UTC:20200327T220000
DTSTAMP:20260423T021357
CREATED:20200109T132911Z
LAST-MODIFIED:20200109T132911Z
UID:2242-1585335600-1585346400@uniontaproomwh.com
SUMMARY:Adrienne Richards & Tommy Shockley
DESCRIPTION:
URL:https://uniontaproomwh.com/event/adrienne-richards-tommy-shockley-2/
END:VEVENT
BEGIN:VEVENT
DTSTART;TZID=UTC:20200322T140000
DTEND;TZID=UTC:20200322T170000
DTSTAMP:20260423T021357
CREATED:20200109T132812Z
LAST-MODIFIED:20200109T132812Z
UID:2238-1584885600-1584896400@uniontaproomwh.com
SUMMARY:Adam Silvetti
DESCRIPTION:
URL:https://uniontaproomwh.com/event/adam-silvetti-3/
END:VEVENT
BEGIN:VEVENT
DTSTART;TZID=UTC:20200321T190000
DTEND;TZID=UTC:20200321T220000
DTSTAMP:20260423T021357
CREATED:20200109T132742Z
LAST-MODIFIED:20200109T132742Z
UID:2236-1584817200-1584828000@uniontaproomwh.com
SUMMARY:Justin Grimes
DESCRIPTION:
URL:https://uniontaproomwh.com/event/justin-grimes-5/
END:VEVENT
BEGIN:VEVENT
DTSTART;TZID=UTC:20200319T190000
DTEND;TZID=UTC:20200319T210000
DTSTAMP:20260423T021357
CREATED:20200225T122655Z
LAST-MODIFIED:20200225T122655Z
UID:2290-1584644400-1584651600@uniontaproomwh.com
SUMMARY:Paint & Pints
DESCRIPTION:Enjoy a brew (or two) while Canvas Creations With Sheila Vertoli leads you in a guided painting class. Create this SUNSET canvas while sipping with friends. \nPainting Class: $35 – Includes all supplies to make and take your creation. Make sure to purchase your tickets before seats fill up! **Ticket button in event.\nCome early & grab a bite with your pint!\n \nSmokin’ Oak BBQ & Catering\n: 5-9pm\n Check-In : 6:30pm\nHAPPY PAINTING!!!  
URL:https://uniontaproomwh.com/event/paint-pints-2/
END:VEVENT
BEGIN:VEVENT
DTSTART;TZID=UTC:20200315T140000
DTEND;TZID=UTC:20200315T170000
DTSTAMP:20260423T021357
CREATED:20200109T132714Z
LAST-MODIFIED:20200109T132714Z
UID:2234-1584280800-1584291600@uniontaproomwh.com
SUMMARY:David Brimer
DESCRIPTION:
URL:https://uniontaproomwh.com/event/david-brimer-2/
END:VEVENT
BEGIN:VEVENT
DTSTART;TZID=UTC:20200314T190000
DTEND;TZID=UTC:20200314T220000
DTSTAMP:20260423T021357
CREATED:20200109T132648Z
LAST-MODIFIED:20200109T132648Z
UID:2232-1584212400-1584223200@uniontaproomwh.com
SUMMARY:Mike Monts De Oca
DESCRIPTION:
URL:https://uniontaproomwh.com/event/mike-monts-de-oca-3/
END:VEVENT
BEGIN:VEVENT
DTSTART;TZID=UTC:20200313T190000
DTEND;TZID=UTC:20200313T220000
DTSTAMP:20260423T021357
CREATED:20200109T132506Z
LAST-MODIFIED:20200109T132506Z
UID:2230-1584126000-1584136800@uniontaproomwh.com
SUMMARY:John Frinzi
DESCRIPTION:
URL:https://uniontaproomwh.com/event/john-frinzi/
END:VEVENT
BEGIN:VEVENT
DTSTART;TZID=UTC:20200312T190000
DTEND;TZID=UTC:20200312T210000
DTSTAMP:20260423T021357
CREATED:20200109T132421Z
LAST-MODIFIED:20200109T132421Z
UID:2228-1584039600-1584046800@uniontaproomwh.com
SUMMARY:Trivia Night: Disney Animation 7pm (Check-in: 6:30)
DESCRIPTION:
URL:https://uniontaproomwh.com/event/trivia-night-disney-animation-7pm-check-in-630/
END:VEVENT
BEGIN:VEVENT
DTSTART;TZID=UTC:20200308T140000
DTEND;TZID=UTC:20200308T170000
DTSTAMP:20260423T021357
CREATED:20200109T132349Z
LAST-MODIFIED:20200109T132349Z
UID:2226-1583676000-1583686800@uniontaproomwh.com
SUMMARY:Melissa Crispo
DESCRIPTION:
URL:https://uniontaproomwh.com/event/melissa-crispo/
END:VEVENT
BEGIN:VEVENT
DTSTART;TZID=UTC:20200307T190000
DTEND;TZID=UTC:20200307T220000
DTSTAMP:20260423T021357
CREATED:20200109T132324Z
LAST-MODIFIED:20200109T132324Z
UID:2224-1583607600-1583618400@uniontaproomwh.com
SUMMARY:Southerndipity
DESCRIPTION:
URL:https://uniontaproomwh.com/event/southerndipity/
END:VEVENT
BEGIN:VEVENT
DTSTART;TZID=UTC:20200301T140000
DTEND;TZID=UTC:20200301T170000
DTSTAMP:20260423T021357
CREATED:20200109T132254Z
LAST-MODIFIED:20200109T132254Z
UID:2222-1583071200-1583082000@uniontaproomwh.com
SUMMARY:Sumner Curtis
DESCRIPTION:
URL:https://uniontaproomwh.com/event/sumner-curtis-3/
END:VEVENT
BEGIN:VEVENT
DTSTART;TZID=UTC:20200229T190000
DTEND;TZID=UTC:20200229T220000
DTSTAMP:20260423T021357
CREATED:20200109T132143Z
LAST-MODIFIED:20200109T132143Z
UID:2220-1583002800-1583013600@uniontaproomwh.com
SUMMARY:Micah Madore
DESCRIPTION:
URL:https://uniontaproomwh.com/event/micah-madore-2/
END:VEVENT
BEGIN:VEVENT
DTSTART;TZID=UTC:20200225T190000
DTEND;TZID=UTC:20200225T210000
DTSTAMP:20260423T021357
CREATED:20200109T132051Z
LAST-MODIFIED:20200109T132051Z
UID:2216-1582657200-1582664400@uniontaproomwh.com
SUMMARY:Music Bingo
DESCRIPTION:
URL:https://uniontaproomwh.com/event/music-bingo/
END:VEVENT
BEGIN:VEVENT
DTSTART;TZID=UTC:20200223T140000
DTEND;TZID=UTC:20200223T170000
DTSTAMP:20260423T021358
CREATED:20200109T132011Z
LAST-MODIFIED:20200109T132011Z
UID:2214-1582466400-1582477200@uniontaproomwh.com
SUMMARY:Acoustic Dose
DESCRIPTION:
URL:https://uniontaproomwh.com/event/acoustic-dose-3/
END:VEVENT
BEGIN:VEVENT
DTSTART;TZID=UTC:20200223T110000
DTEND;TZID=UTC:20200223T120000
DTSTAMP:20260423T021358
CREATED:20191007T120624Z
LAST-MODIFIED:20191010T112547Z
UID:2020-1582455600-1582459200@uniontaproomwh.com
SUMMARY:Bend and Brew by Inside Out Yoga
DESCRIPTION:Click Here for Tickets – All participants will receive 10% off their tab!
URL:https://uniontaproomwh.com/event/bend-and-brew-by-inside-out-yoga-5/
CATEGORIES:Bend and Brew
END:VEVENT
BEGIN:VEVENT
DTSTART;TZID=UTC:20200222T190000
DTEND;TZID=UTC:20200222T220000
DTSTAMP:20260423T021358
CREATED:20200109T131906Z
LAST-MODIFIED:20200109T131906Z
UID:2210-1582398000-1582408800@uniontaproomwh.com
SUMMARY:Scott Ryan
DESCRIPTION:
URL:https://uniontaproomwh.com/event/scott-ryan/
END:VEVENT
BEGIN:VEVENT
DTSTART;TZID=UTC:20200221T190000
DTEND;TZID=UTC:20200221T220000
DTSTAMP:20260423T021358
CREATED:20200109T131836Z
LAST-MODIFIED:20200109T131836Z
UID:2208-1582311600-1582322400@uniontaproomwh.com
SUMMARY:Rob Europe
DESCRIPTION:
URL:https://uniontaproomwh.com/event/rob-europe/
END:VEVENT
BEGIN:VEVENT
DTSTART;TZID=UTC:20200216T140000
DTEND;TZID=UTC:20200216T170000
DTSTAMP:20260423T021358
CREATED:20200109T131811Z
LAST-MODIFIED:20200109T131811Z
UID:2206-1581861600-1581872400@uniontaproomwh.com
SUMMARY:Coastal Acoustic Barefoot
DESCRIPTION:
URL:https://uniontaproomwh.com/event/coastal-acoustic-barefoot/
END:VEVENT
BEGIN:VEVENT
DTSTART;TZID=UTC:20200215T190000
DTEND;TZID=UTC:20200215T220000
DTSTAMP:20260423T021358
CREATED:20200109T131742Z
LAST-MODIFIED:20200109T131742Z
UID:2204-1581793200-1581804000@uniontaproomwh.com
SUMMARY:Well Worn Soles
DESCRIPTION:
URL:https://uniontaproomwh.com/event/well-worn-soles-4/
END:VEVENT
BEGIN:VEVENT
DTSTART;TZID=UTC:20200214T200000
DTEND;TZID=UTC:20200214T220000
DTSTAMP:20260423T021358
CREATED:20200124T162936Z
LAST-MODIFIED:20200124T162936Z
UID:2285-1581710400-1581717600@uniontaproomwh.com
SUMMARY:Valentine’s Day Comedy Show
DESCRIPTION:If laughter is the food of LOVE\, then come get your fill at this hilariously funny Valentine’s Day Comedy Show! 🤣😂🤣😂 \nWhether you’re looking for a unique date night or flying solo\, you’ll have a blast as Jeff Jones & James Yon bring out your love for laughter! You will definitely want to SHARE this event! \n$10 (at the door)\n**FREE entry before 7PM!\n[[Come early\, grab a bite & a drink!]]\n**Limited seating available.\n**Must be 18 and up. \n🌭 Chubby Wubby’s will be serving up the\nchubbiest hot dogs in town 5-9PM! 🌭 \nShow starts at 8:00PM! \nWill you be our Valentine and join us for our FIRST Comedy Night? You WON’T want to miss this!!! ❣️💌🌭🤣🍻🍷 \nwww.jeffjonescomedy.com\nwww.jamesyon.comHey
URL:https://uniontaproomwh.com/event/valentines-day-comedy-show/
END:VEVENT
BEGIN:VEVENT
DTSTART;TZID=UTC:20200213T190000
DTEND;TZID=UTC:20200213T210000
DTSTAMP:20260423T021358
CREATED:20200109T131713Z
LAST-MODIFIED:20200109T131713Z
UID:2202-1581620400-1581627600@uniontaproomwh.com
SUMMARY:Trivia Night: Seinfeld 7pm (Check-in: 6:30)
DESCRIPTION:
URL:https://uniontaproomwh.com/event/trivia-night-seinfeld-7pm-check-in-630/
END:VEVENT
BEGIN:VEVENT
DTSTART;TZID=UTC:20200211T190000
DTEND;TZID=UTC:20200211T210000
DTSTAMP:20260423T021358
CREATED:20200109T131638Z
LAST-MODIFIED:20200109T131638Z
UID:2200-1581447600-1581454800@uniontaproomwh.com
SUMMARY:Paint & Pints: Valentines
DESCRIPTION:
URL:https://uniontaproomwh.com/event/paint-pints-valentines/
END:VEVENT
BEGIN:VEVENT
DTSTART;TZID=UTC:20200209T140000
DTEND;TZID=UTC:20200209T170000
DTSTAMP:20260423T021358
CREATED:20200109T131600Z
LAST-MODIFIED:20200109T131600Z
UID:2198-1581256800-1581267600@uniontaproomwh.com
SUMMARY:The Broke
DESCRIPTION:
URL:https://uniontaproomwh.com/event/the-broke/
END:VEVENT
BEGIN:VEVENT
DTSTART;TZID=UTC:20200208T190000
DTEND;TZID=UTC:20200208T220000
DTSTAMP:20260423T021358
CREATED:20200109T131534Z
LAST-MODIFIED:20200109T131534Z
UID:2196-1581188400-1581199200@uniontaproomwh.com
SUMMARY:Anna Lee
DESCRIPTION:
URL:https://uniontaproomwh.com/event/anna-lee/
END:VEVENT
END:VCALENDAR