BEGIN:VCALENDAR
VERSION:2.0
PRODID:-//Union Taproom - ECPv6.15.10//NONSGML v1.0//EN
CALSCALE:GREGORIAN
METHOD:PUBLISH
X-WR-CALNAME:Union Taproom
X-ORIGINAL-URL:https://uniontaproomwh.com
X-WR-CALDESC:Events for Union Taproom
REFRESH-INTERVAL;VALUE=DURATION:PT1H
X-Robots-Tag:noindex
X-PUBLISHED-TTL:PT1H
BEGIN:VTIMEZONE
TZID:UTC
BEGIN:STANDARD
TZOFFSETFROM:+0000
TZOFFSETTO:+0000
TZNAME:UTC
DTSTART:20230101T000000
END:STANDARD
END:VTIMEZONE
BEGIN:VEVENT
DTSTART;TZID=UTC:20240425T170000
DTEND;TZID=UTC:20240425T200000
DTSTAMP:20260420T215527
CREATED:20240422T193027Z
LAST-MODIFIED:20240422T193027Z
UID:5871-1714064400-1714075200@uniontaproomwh.com
SUMMARY:Tap Takeover
DESCRIPTION:
URL:https://uniontaproomwh.com/event/tap-takeover-2/
END:VEVENT
BEGIN:VEVENT
DTSTART;TZID=UTC:20240424T190000
DTEND;TZID=UTC:20240424T210000
DTSTAMP:20260420T215527
CREATED:20210915T133506Z
LAST-MODIFIED:20221228T125802Z
UID:3764-1713985200-1713992400@uniontaproomwh.com
SUMMARY:Trivia Night
DESCRIPTION:
URL:https://uniontaproomwh.com/event/trivia-night-2024-04-24/
END:VEVENT
BEGIN:VEVENT
DTSTART;TZID=UTC:20240423T183000
DTEND;TZID=UTC:20240423T210000
DTSTAMP:20260420T215527
CREATED:20240330T220932Z
LAST-MODIFIED:20240330T220932Z
UID:5863-1713897000-1713906000@uniontaproomwh.com
SUMMARY:NEW - Acoustic Open Mic
DESCRIPTION:
URL:https://uniontaproomwh.com/event/new-acoustic-open-mic/
END:VEVENT
BEGIN:VEVENT
DTSTART;TZID=UTC:20240421T150000
DTEND;TZID=UTC:20240421T180000
DTSTAMP:20260420T215527
CREATED:20240327T082054Z
LAST-MODIFIED:20240327T082054Z
UID:5856-1713711600-1713722400@uniontaproomwh.com
SUMMARY:ELVIS: The Rehearsals
DESCRIPTION:
URL:https://uniontaproomwh.com/event/elvis-the-rehearsals-2/
END:VEVENT
BEGIN:VEVENT
DTSTART;TZID=UTC:20240417T190000
DTEND;TZID=UTC:20240417T210000
DTSTAMP:20260420T215527
CREATED:20210915T133506Z
LAST-MODIFIED:20221228T125802Z
UID:3761-1713380400-1713387600@uniontaproomwh.com
SUMMARY:Trivia Night
DESCRIPTION:
URL:https://uniontaproomwh.com/event/trivia-night-2024-04-17/
END:VEVENT
BEGIN:VEVENT
DTSTART;TZID=UTC:20240411T180000
DTEND;TZID=UTC:20240411T210000
DTSTAMP:20260420T215527
CREATED:20221018T122451Z
LAST-MODIFIED:20240327T082526Z
UID:5448-1712858400-1712869200@uniontaproomwh.com
SUMMARY:Night Market 6:00pm - 9:00pm
DESCRIPTION:
URL:https://uniontaproomwh.com/event/night-market-6-9pm-2-2024-04-04/
END:VEVENT
BEGIN:VEVENT
DTSTART;TZID=UTC:20240410T190000
DTEND;TZID=UTC:20240410T210000
DTSTAMP:20260420T215527
CREATED:20210915T133506Z
LAST-MODIFIED:20221228T125802Z
UID:3758-1712775600-1712782800@uniontaproomwh.com
SUMMARY:Trivia Night
DESCRIPTION:
URL:https://uniontaproomwh.com/event/trivia-night-2024-04-10/
END:VEVENT
BEGIN:VEVENT
DTSTART;TZID=UTC:20240404T180000
DTEND;TZID=UTC:20240404T200000
DTSTAMP:20260420T215527
CREATED:20240327T082250Z
LAST-MODIFIED:20240327T082250Z
UID:5858-1712253600-1712260800@uniontaproomwh.com
SUMMARY:VOCAL JAZZ SHOWCASE
DESCRIPTION:Thursday\, April 4 @ 6pm\, UNION TAPROOM\, WINTER HAVEN \nJunior Class with Guest Artist\, Lisa Kelly Scott & Jeff Phillips\nThis performance has grown over the years to be a highlight event for parents\,  students and friends of Harrison.\nPlease join us for a great night of vocal jazz favorites including\, Lullaby of Birdland”\, “You and the Night and the Music”\, Honeysuckle Rose”\, “Lover Come Back to Me”\, and “You and the Night and the Music”.
URL:https://uniontaproomwh.com/event/vocal-jazz-showcase/
END:VEVENT
BEGIN:VEVENT
DTSTART;TZID=UTC:20240403T190000
DTEND;TZID=UTC:20240403T210000
DTSTAMP:20260420T215527
CREATED:20210915T133506Z
LAST-MODIFIED:20221228T125802Z
UID:3755-1712170800-1712178000@uniontaproomwh.com
SUMMARY:Trivia Night
DESCRIPTION:
URL:https://uniontaproomwh.com/event/trivia-night-2024-04-03/
END:VEVENT
BEGIN:VEVENT
DTSTART;VALUE=DATE:20240331
DTEND;VALUE=DATE:20240401
DTSTAMP:20260420T215527
CREATED:20240330T220527Z
LAST-MODIFIED:20240330T220542Z
UID:5860-1711843200-1711929599@uniontaproomwh.com
SUMMARY:CLOSED - Happy Easter!
DESCRIPTION:Closed Sunday March 31
URL:https://uniontaproomwh.com/event/closed-happy-easter/
END:VEVENT
BEGIN:VEVENT
DTSTART;TZID=UTC:20240330T150000
DTEND;TZID=UTC:20240330T180000
DTSTAMP:20260420T215527
CREATED:20240327T082004Z
LAST-MODIFIED:20240327T082004Z
UID:5853-1711810800-1711821600@uniontaproomwh.com
SUMMARY:ELVIS: The Rehearsals
DESCRIPTION:
URL:https://uniontaproomwh.com/event/elvis-the-rehearsals/
END:VEVENT
BEGIN:VEVENT
DTSTART;TZID=UTC:20240328T180000
DTEND;TZID=UTC:20240328T210000
DTSTAMP:20260420T215527
CREATED:20240216T185520Z
LAST-MODIFIED:20240216T185520Z
UID:5837-1711648800-1711659600@uniontaproomwh.com
SUMMARY:Karaoke Nights 6pm - 9pm
DESCRIPTION:
URL:https://uniontaproomwh.com/event/karaoke-nights-6pm-9pm-2024-03-28/
END:VEVENT
BEGIN:VEVENT
DTSTART;TZID=UTC:20240327T190000
DTEND;TZID=UTC:20240327T210000
DTSTAMP:20260420T215527
CREATED:20210915T133506Z
LAST-MODIFIED:20221228T125802Z
UID:3752-1711566000-1711573200@uniontaproomwh.com
SUMMARY:Trivia Night
DESCRIPTION:
URL:https://uniontaproomwh.com/event/trivia-night-2024-03-27/
END:VEVENT
BEGIN:VEVENT
DTSTART;TZID=UTC:20240321T180000
DTEND;TZID=UTC:20240321T210000
DTSTAMP:20260420T215527
CREATED:20240219T173845Z
LAST-MODIFIED:20240219T173845Z
UID:5840-1711044000-1711054800@uniontaproomwh.com
SUMMARY:Tap Takeover
DESCRIPTION:
URL:https://uniontaproomwh.com/event/tap-takeover/
END:VEVENT
BEGIN:VEVENT
DTSTART;TZID=UTC:20240320T190000
DTEND;TZID=UTC:20240320T210000
DTSTAMP:20260420T215527
CREATED:20210915T133506Z
LAST-MODIFIED:20221228T125802Z
UID:3749-1710961200-1710968400@uniontaproomwh.com
SUMMARY:Trivia Night
DESCRIPTION:
URL:https://uniontaproomwh.com/event/trivia-night-2024-03-20/
END:VEVENT
BEGIN:VEVENT
DTSTART;TZID=UTC:20240314T180000
DTEND;TZID=UTC:20240314T210000
DTSTAMP:20260420T215527
CREATED:20240216T185520Z
LAST-MODIFIED:20240216T185520Z
UID:5834-1710439200-1710450000@uniontaproomwh.com
SUMMARY:Karaoke Nights 6pm - 9pm
DESCRIPTION:
URL:https://uniontaproomwh.com/event/karaoke-nights-6pm-9pm/
END:VEVENT
BEGIN:VEVENT
DTSTART;TZID=UTC:20240313T190000
DTEND;TZID=UTC:20240313T210000
DTSTAMP:20260420T215527
CREATED:20210915T133506Z
LAST-MODIFIED:20221228T125800Z
UID:3746-1710356400-1710363600@uniontaproomwh.com
SUMMARY:Trivia Night
DESCRIPTION:
URL:https://uniontaproomwh.com/event/trivia-night-2024-03-13/
END:VEVENT
BEGIN:VEVENT
DTSTART;TZID=UTC:20240307T180000
DTEND;TZID=UTC:20240307T210000
DTSTAMP:20260420T215527
CREATED:20221018T122451Z
LAST-MODIFIED:20240124T012935Z
UID:5447-1709834400-1709845200@uniontaproomwh.com
SUMMARY:Night Market 6:00pm - 9:00pm
DESCRIPTION:
URL:https://uniontaproomwh.com/event/night-market-6-9pm-2-2024-03-07/
END:VEVENT
BEGIN:VEVENT
DTSTART;TZID=UTC:20240306T190000
DTEND;TZID=UTC:20240306T210000
DTSTAMP:20260420T215527
CREATED:20210915T133506Z
LAST-MODIFIED:20221228T125800Z
UID:3743-1709751600-1709758800@uniontaproomwh.com
SUMMARY:Trivia Night
DESCRIPTION:
URL:https://uniontaproomwh.com/event/trivia-night-2024-03-06/
END:VEVENT
BEGIN:VEVENT
DTSTART;TZID=UTC:20240228T190000
DTEND;TZID=UTC:20240228T210000
DTSTAMP:20260420T215527
CREATED:20210915T133506Z
LAST-MODIFIED:20221228T125800Z
UID:3740-1709146800-1709154000@uniontaproomwh.com
SUMMARY:Trivia Night
DESCRIPTION:
URL:https://uniontaproomwh.com/event/trivia-night-2024-02-28/
END:VEVENT
BEGIN:VEVENT
DTSTART;TZID=UTC:20240221T190000
DTEND;TZID=UTC:20240221T210000
DTSTAMP:20260420T215527
CREATED:20210915T133506Z
LAST-MODIFIED:20221228T125800Z
UID:3737-1708542000-1708549200@uniontaproomwh.com
SUMMARY:Trivia Night
DESCRIPTION:
URL:https://uniontaproomwh.com/event/trivia-night-2024-02-21/
END:VEVENT
BEGIN:VEVENT
DTSTART;TZID=UTC:20240214T190000
DTEND;TZID=UTC:20240214T210000
DTSTAMP:20260420T215527
CREATED:20240205T141542Z
LAST-MODIFIED:20240205T141542Z
UID:5828-1707937200-1707944400@uniontaproomwh.com
SUMMARY:Valentine's Day Trivia
DESCRIPTION:
URL:https://uniontaproomwh.com/event/valentines-day-trivia/
END:VEVENT
BEGIN:VEVENT
DTSTART;TZID=UTC:20240214T190000
DTEND;TZID=UTC:20240214T210000
DTSTAMP:20260420T215527
CREATED:20210915T133506Z
LAST-MODIFIED:20221228T125800Z
UID:3734-1707937200-1707944400@uniontaproomwh.com
SUMMARY:Trivia Night
DESCRIPTION:
URL:https://uniontaproomwh.com/event/trivia-night-2024-02-14/
END:VEVENT
BEGIN:VEVENT
DTSTART;TZID=UTC:20240208T180000
DTEND;TZID=UTC:20240208T210000
DTSTAMP:20260420T215527
CREATED:20221018T122451Z
LAST-MODIFIED:20240124T013206Z
UID:5446-1707415200-1707426000@uniontaproomwh.com
SUMMARY:Night Market 6:00pm - 9:00pm
DESCRIPTION:
URL:https://uniontaproomwh.com/event/night-market-6-9pm-2-2024-02-01/
END:VEVENT
BEGIN:VEVENT
DTSTART;TZID=UTC:20240207T190000
DTEND;TZID=UTC:20240207T210000
DTSTAMP:20260420T215527
CREATED:20210915T133506Z
LAST-MODIFIED:20221228T125800Z
UID:3731-1707332400-1707339600@uniontaproomwh.com
SUMMARY:Trivia Night
DESCRIPTION:
URL:https://uniontaproomwh.com/event/trivia-night-2024-02-07/
END:VEVENT
BEGIN:VEVENT
DTSTART;TZID=UTC:20240131T190000
DTEND;TZID=UTC:20240131T210000
DTSTAMP:20260420T215527
CREATED:20210915T133506Z
LAST-MODIFIED:20221228T125759Z
UID:3728-1706727600-1706734800@uniontaproomwh.com
SUMMARY:Trivia Night
DESCRIPTION:
URL:https://uniontaproomwh.com/event/trivia-night-2024-01-31/
END:VEVENT
BEGIN:VEVENT
DTSTART;TZID=UTC:20240124T190000
DTEND;TZID=UTC:20240124T210000
DTSTAMP:20260420T215527
CREATED:20210915T133506Z
LAST-MODIFIED:20221228T125759Z
UID:3725-1706122800-1706130000@uniontaproomwh.com
SUMMARY:Trivia Night
DESCRIPTION:
URL:https://uniontaproomwh.com/event/trivia-night-2024-01-24/
END:VEVENT
BEGIN:VEVENT
DTSTART;TZID=UTC:20240118T180000
DTEND;TZID=UTC:20240118T210000
DTSTAMP:20260420T215527
CREATED:20240107T202119Z
LAST-MODIFIED:20240107T202133Z
UID:5808-1705600800-1705611600@uniontaproomwh.com
SUMMARY:Tap Takeover | 6PM - 9PM
DESCRIPTION:
URL:https://uniontaproomwh.com/event/tap-takeover-6pm-9pm/
END:VEVENT
BEGIN:VEVENT
DTSTART;TZID=UTC:20240117T190000
DTEND;TZID=UTC:20240117T210000
DTSTAMP:20260420T215527
CREATED:20210915T133506Z
LAST-MODIFIED:20221228T125759Z
UID:3609-1705518000-1705525200@uniontaproomwh.com
SUMMARY:Trivia Night
DESCRIPTION:
URL:https://uniontaproomwh.com/event/trivia-night-2024-01-17/
END:VEVENT
BEGIN:VEVENT
DTSTART;VALUE=DATE:20240112
DTEND;VALUE=DATE:20240113
DTSTAMP:20260420T215527
CREATED:20231231T004957Z
LAST-MODIFIED:20231231T004957Z
UID:5802-1705017600-1705103999@uniontaproomwh.com
SUMMARY:Private Party | Closing at 6pm
DESCRIPTION:
URL:https://uniontaproomwh.com/event/private-party-closing-at-6pm/
END:VEVENT
END:VCALENDAR