BEGIN:VCALENDAR
VERSION:2.0
PRODID:-//Union Taproom - ECPv6.15.10//NONSGML v1.0//EN
CALSCALE:GREGORIAN
METHOD:PUBLISH
X-WR-CALNAME:Union Taproom
X-ORIGINAL-URL:https://uniontaproomwh.com
X-WR-CALDESC:Events for Union Taproom
REFRESH-INTERVAL;VALUE=DURATION:PT1H
X-Robots-Tag:noindex
X-PUBLISHED-TTL:PT1H
BEGIN:VTIMEZONE
TZID:UTC
BEGIN:STANDARD
TZOFFSETFROM:+0000
TZOFFSETTO:+0000
TZNAME:UTC
DTSTART:20220101T000000
END:STANDARD
END:VTIMEZONE
BEGIN:VEVENT
DTSTART;TZID=UTC:20240110T190000
DTEND;TZID=UTC:20240110T210000
DTSTAMP:20260421T022629
CREATED:20210915T133506Z
LAST-MODIFIED:20221228T125759Z
UID:3603-1704913200-1704920400@uniontaproomwh.com
SUMMARY:Trivia Night
DESCRIPTION:
URL:https://uniontaproomwh.com/event/trivia-night-2024-01-10/
END:VEVENT
BEGIN:VEVENT
DTSTART;TZID=UTC:20240104T180000
DTEND;TZID=UTC:20240104T210000
DTSTAMP:20260421T022630
CREATED:20231223T234414Z
LAST-MODIFIED:20231223T234443Z
UID:5799-1704391200-1704402000@uniontaproomwh.com
SUMMARY:Celebrate JD's Birthday
DESCRIPTION:
URL:https://uniontaproomwh.com/event/celebrate-jds-birthday/
END:VEVENT
BEGIN:VEVENT
DTSTART;TZID=UTC:20240104T180000
DTEND;TZID=UTC:20240104T210000
DTSTAMP:20260421T022630
CREATED:20221018T122451Z
LAST-MODIFIED:20240124T012935Z
UID:5445-1704391200-1704402000@uniontaproomwh.com
SUMMARY:Night Market 6:00pm - 9:00pm
DESCRIPTION:
URL:https://uniontaproomwh.com/event/night-market-6-9pm-2-2024-01-04/
END:VEVENT
BEGIN:VEVENT
DTSTART;TZID=UTC:20240103T190000
DTEND;TZID=UTC:20240103T210000
DTSTAMP:20260421T022630
CREATED:20210915T133506Z
LAST-MODIFIED:20221228T125758Z
UID:3600-1704308400-1704315600@uniontaproomwh.com
SUMMARY:Trivia Night
DESCRIPTION:
URL:https://uniontaproomwh.com/event/trivia-night-2024-01-03/
END:VEVENT
BEGIN:VEVENT
DTSTART;VALUE=DATE:20231231
DTEND;VALUE=DATE:20240101
DTSTAMP:20260421T022630
CREATED:20231223T193543Z
LAST-MODIFIED:20231223T193655Z
UID:5731-1703980800-1704067199@uniontaproomwh.com
SUMMARY:Holiday Hours | OPEN 11:30am-8:30pm
DESCRIPTION:
URL:https://uniontaproomwh.com/event/holiday-hours-1130am-830pm/
END:VEVENT
BEGIN:VEVENT
DTSTART;TZID=UTC:20231227T190000
DTEND;TZID=UTC:20231227T210000
DTSTAMP:20260421T022630
CREATED:20210915T133506Z
LAST-MODIFIED:20221228T125758Z
UID:3597-1703703600-1703710800@uniontaproomwh.com
SUMMARY:Trivia Night
DESCRIPTION:
URL:https://uniontaproomwh.com/event/trivia-night-2023-12-27/
END:VEVENT
BEGIN:VEVENT
DTSTART;VALUE=DATE:20231225
DTEND;VALUE=DATE:20231226
DTSTAMP:20260421T022630
CREATED:20231223T193515Z
LAST-MODIFIED:20231223T193515Z
UID:5729-1703462400-1703548799@uniontaproomwh.com
SUMMARY:Holiday Hours | CLOSED
DESCRIPTION:
URL:https://uniontaproomwh.com/event/holiday-hours-closed/
END:VEVENT
BEGIN:VEVENT
DTSTART;VALUE=DATE:20231224
DTEND;VALUE=DATE:20231225
DTSTAMP:20260421T022630
CREATED:20231223T193429Z
LAST-MODIFIED:20231223T193429Z
UID:5727-1703376000-1703462399@uniontaproomwh.com
SUMMARY:Holiday Hours | OPEN 11:30am-5:00pm
DESCRIPTION:
URL:https://uniontaproomwh.com/event/holiday-hours-open-1130am-500pm/
END:VEVENT
BEGIN:VEVENT
DTSTART;TZID=UTC:20231220T190000
DTEND;TZID=UTC:20231220T210000
DTSTAMP:20260421T022630
CREATED:20210915T133506Z
LAST-MODIFIED:20221228T125757Z
UID:3594-1703098800-1703106000@uniontaproomwh.com
SUMMARY:Trivia Night
DESCRIPTION:
URL:https://uniontaproomwh.com/event/trivia-night-2023-12-20/
END:VEVENT
BEGIN:VEVENT
DTSTART;TZID=UTC:20231217T150000
DTEND;TZID=UTC:20231217T170000
DTSTAMP:20260421T022630
CREATED:20231130T135954Z
LAST-MODIFIED:20231130T135954Z
UID:5698-1702825200-1702832400@uniontaproomwh.com
SUMMARY:Holiday Candle Making
DESCRIPTION:
URL:https://uniontaproomwh.com/event/holiday-candle-making/
END:VEVENT
BEGIN:VEVENT
DTSTART;TZID=UTC:20231213T190000
DTEND;TZID=UTC:20231213T210000
DTSTAMP:20260421T022630
CREATED:20210915T133506Z
LAST-MODIFIED:20221228T125757Z
UID:3591-1702494000-1702501200@uniontaproomwh.com
SUMMARY:Trivia Night
DESCRIPTION:
URL:https://uniontaproomwh.com/event/trivia-night-2023-12-13/
END:VEVENT
BEGIN:VEVENT
DTSTART;TZID=UTC:20231207T180000
DTEND;TZID=UTC:20231207T210000
DTSTAMP:20260421T022630
CREATED:20221018T122451Z
LAST-MODIFIED:20240124T012935Z
UID:5444-1701972000-1701982800@uniontaproomwh.com
SUMMARY:Night Market 6:00pm - 9:00pm
DESCRIPTION:
URL:https://uniontaproomwh.com/event/night-market-6-9pm-2-2023-12-07/
END:VEVENT
BEGIN:VEVENT
DTSTART;TZID=UTC:20231206T190000
DTEND;TZID=UTC:20231206T210000
DTSTAMP:20260421T022630
CREATED:20210915T133506Z
LAST-MODIFIED:20221228T125757Z
UID:3588-1701889200-1701896400@uniontaproomwh.com
SUMMARY:Trivia Night
DESCRIPTION:
URL:https://uniontaproomwh.com/event/trivia-night-2023-12-06/
END:VEVENT
BEGIN:VEVENT
DTSTART;TZID=UTC:20231129T190000
DTEND;TZID=UTC:20231129T210000
DTSTAMP:20260421T022630
CREATED:20210915T133506Z
LAST-MODIFIED:20221228T125757Z
UID:3585-1701284400-1701291600@uniontaproomwh.com
SUMMARY:Trivia Night
DESCRIPTION:
URL:https://uniontaproomwh.com/event/trivia-night-2023-11-29/
END:VEVENT
BEGIN:VEVENT
DTSTART;TZID=UTC:20231122T190000
DTEND;TZID=UTC:20231122T210000
DTSTAMP:20260421T022630
CREATED:20210915T133506Z
LAST-MODIFIED:20221228T125757Z
UID:3582-1700679600-1700686800@uniontaproomwh.com
SUMMARY:Trivia Night
DESCRIPTION:
URL:https://uniontaproomwh.com/event/trivia-night-2023-11-22/
END:VEVENT
BEGIN:VEVENT
DTSTART;TZID=UTC:20231116T180000
DTEND;TZID=UTC:20231116T200000
DTSTAMP:20260421T022630
CREATED:20231025T154815Z
LAST-MODIFIED:20231025T154815Z
UID:5672-1700157600-1700164800@uniontaproomwh.com
SUMMARY:Delirium Taptakeover
DESCRIPTION:We are excited to cheers all things Belgium for our 3rd Thursday Tap Takeover! \nIf you haven’t had Delirium Black\, you are in luck!  We will have it on tap along with Tremens\, Red\, and Floris Passion.
URL:https://uniontaproomwh.com/event/delirium-taptakeover/
END:VEVENT
BEGIN:VEVENT
DTSTART;TZID=UTC:20231115T190000
DTEND;TZID=UTC:20231115T210000
DTSTAMP:20260421T022630
CREATED:20210915T133506Z
LAST-MODIFIED:20221228T125757Z
UID:3528-1700074800-1700082000@uniontaproomwh.com
SUMMARY:Trivia Night
DESCRIPTION:
URL:https://uniontaproomwh.com/event/trivia-night-2023-11-15/
END:VEVENT
BEGIN:VEVENT
DTSTART;VALUE=DATE:20231110
DTEND;VALUE=DATE:20231113
DTSTAMP:20260421T022630
CREATED:20231101T111836Z
LAST-MODIFIED:20231101T111836Z
UID:5677-1699574400-1699833599@uniontaproomwh.com
SUMMARY:Tap Takeover from Veterans United Craft Brewery
DESCRIPTION:Join us Friday\, November 10- Sunday\, November 12 as we celebrate our Veterans with a Tap Takeover from Veterans United Craft Brewery.\n \nWe will feature four of their beers: \n\n\n\n\nFIGHT LIKE HELLES\, ESCHENFRAUH HELLES \nFISH CAMP PILSNER \nRAGING BLONDE  \nSCOUT DOG AMBER \n30% of all Veterans United Tap sales will be donated to The Florida Veterans Foundation.
URL:https://uniontaproomwh.com/event/tap-takeover-from-veterans-united-craft-brewery/
END:VEVENT
BEGIN:VEVENT
DTSTART;TZID=UTC:20231108T190000
DTEND;TZID=UTC:20231108T210000
DTSTAMP:20260421T022630
CREATED:20210915T133506Z
LAST-MODIFIED:20221228T125757Z
UID:3524-1699470000-1699477200@uniontaproomwh.com
SUMMARY:Trivia Night
DESCRIPTION:
URL:https://uniontaproomwh.com/event/trivia-night-2023-11-08/
END:VEVENT
BEGIN:VEVENT
DTSTART;TZID=UTC:20231102T180000
DTEND;TZID=UTC:20231102T210000
DTSTAMP:20260421T022630
CREATED:20221018T122451Z
LAST-MODIFIED:20240124T012935Z
UID:5443-1698948000-1698958800@uniontaproomwh.com
SUMMARY:Night Market 6:00pm - 9:00pm
DESCRIPTION:
URL:https://uniontaproomwh.com/event/night-market-6-9pm-2-2023-11-02/
END:VEVENT
BEGIN:VEVENT
DTSTART;TZID=UTC:20231102T180000
DTEND;TZID=UTC:20231102T200000
DTSTAMP:20260421T022630
CREATED:20231025T154630Z
LAST-MODIFIED:20231025T154708Z
UID:5668-1698948000-1698955200@uniontaproomwh.com
SUMMARY:Windermere Brewing Taptakeover
DESCRIPTION:Join us for our 1st Thursday Night Market when we feature Windermere Brewing for a Tap Takeover. We are excited to sample 4 of their brews:\nLIGHT LAGER\nMELLO MELON WATERMELON GOSE\nCOLADA COAST PINA COLADA PALE\nORANGE GROVE OUTLAW HAZY IPA
URL:https://uniontaproomwh.com/event/windermere-brewing-taptakeover/
END:VEVENT
BEGIN:VEVENT
DTSTART;TZID=UTC:20231101T190000
DTEND;TZID=UTC:20231101T210000
DTSTAMP:20260421T022630
CREATED:20210915T133506Z
LAST-MODIFIED:20221228T125757Z
UID:3521-1698865200-1698872400@uniontaproomwh.com
SUMMARY:Trivia Night
DESCRIPTION:
URL:https://uniontaproomwh.com/event/trivia-night-2023-11-01/
END:VEVENT
BEGIN:VEVENT
DTSTART;TZID=UTC:20231025T190000
DTEND;TZID=UTC:20231025T210000
DTSTAMP:20260421T022630
CREATED:20210915T133506Z
LAST-MODIFIED:20221228T125755Z
UID:3518-1698260400-1698267600@uniontaproomwh.com
SUMMARY:Trivia Night
DESCRIPTION:
URL:https://uniontaproomwh.com/event/trivia-night-2023-10-25/
END:VEVENT
BEGIN:VEVENT
DTSTART;TZID=UTC:20231018T190000
DTEND;TZID=UTC:20231018T210000
DTSTAMP:20260421T022630
CREATED:20210915T133506Z
LAST-MODIFIED:20221228T125755Z
UID:3515-1697655600-1697662800@uniontaproomwh.com
SUMMARY:Trivia Night
DESCRIPTION:
URL:https://uniontaproomwh.com/event/trivia-night-2023-10-18/
END:VEVENT
BEGIN:VEVENT
DTSTART;TZID=UTC:20231011T190000
DTEND;TZID=UTC:20231011T210000
DTSTAMP:20260421T022630
CREATED:20210915T133506Z
LAST-MODIFIED:20221228T125755Z
UID:3512-1697050800-1697058000@uniontaproomwh.com
SUMMARY:Trivia Night
DESCRIPTION:
URL:https://uniontaproomwh.com/event/trivia-night-2023-10-11/
END:VEVENT
BEGIN:VEVENT
DTSTART;TZID=UTC:20231005T180000
DTEND;TZID=UTC:20231005T210000
DTSTAMP:20260421T022630
CREATED:20221018T122451Z
LAST-MODIFIED:20240124T012935Z
UID:5442-1696528800-1696539600@uniontaproomwh.com
SUMMARY:Night Market 6:00pm - 9:00pm
DESCRIPTION:
URL:https://uniontaproomwh.com/event/night-market-6-9pm-2-2023-10-05/
END:VEVENT
BEGIN:VEVENT
DTSTART;TZID=UTC:20231004T190000
DTEND;TZID=UTC:20231004T210000
DTSTAMP:20260421T022630
CREATED:20210915T133506Z
LAST-MODIFIED:20221228T125755Z
UID:3509-1696446000-1696453200@uniontaproomwh.com
SUMMARY:Trivia Night
DESCRIPTION:
URL:https://uniontaproomwh.com/event/trivia-night-2023-10-04/
END:VEVENT
BEGIN:VEVENT
DTSTART;TZID=UTC:20230921T180000
DTEND;TZID=UTC:20230921T200000
DTSTAMP:20260421T022630
CREATED:20230912T153603Z
LAST-MODIFIED:20230912T153603Z
UID:5646-1695319200-1695326400@uniontaproomwh.com
SUMMARY:Pumpkin Beer Tap Takeover
DESCRIPTION:
URL:https://uniontaproomwh.com/event/pumpkin-beer-tap-takeover/
END:VEVENT
BEGIN:VEVENT
DTSTART;TZID=UTC:20230907T200000
DTEND;TZID=UTC:20230907T220000
DTSTAMP:20260421T022630
CREATED:20230824T140048Z
LAST-MODIFIED:20230824T140129Z
UID:5638-1694116800-1694124000@uniontaproomwh.com
SUMMARY:The Tap Takeover/Football Kick-off
DESCRIPTION:
URL:https://uniontaproomwh.com/event/the-tap-takeover-football-kick-off/
END:VEVENT
BEGIN:VEVENT
DTSTART;TZID=UTC:20230817T180000
DTEND;TZID=UTC:20230817T200000
DTSTAMP:20260421T022630
CREATED:20230814T173813Z
LAST-MODIFIED:20230814T173813Z
UID:5632-1692295200-1692302400@uniontaproomwh.com
SUMMARY:3 Daughter Tap Takeover
DESCRIPTION:
URL:https://uniontaproomwh.com/event/3-daughter-tap-takeover/
END:VEVENT
END:VCALENDAR