BEGIN:VCALENDAR
VERSION:2.0
PRODID:-//Union Taproom - ECPv6.15.10//NONSGML v1.0//EN
CALSCALE:GREGORIAN
METHOD:PUBLISH
X-WR-CALNAME:Union Taproom
X-ORIGINAL-URL:https://uniontaproomwh.com
X-WR-CALDESC:Events for Union Taproom
REFRESH-INTERVAL;VALUE=DURATION:PT1H
X-Robots-Tag:noindex
X-PUBLISHED-TTL:PT1H
BEGIN:VTIMEZONE
TZID:UTC
BEGIN:STANDARD
TZOFFSETFROM:+0000
TZOFFSETTO:+0000
TZNAME:UTC
DTSTART:20240101T000000
END:STANDARD
END:VTIMEZONE
BEGIN:VEVENT
DTSTART;TZID=UTC:20251001T190000
DTEND;TZID=UTC:20251001T210000
DTSTAMP:20260421T081114
CREATED:20210915T133506Z
LAST-MODIFIED:20210915T133506Z
UID:5656-1759345200-1759352400@uniontaproomwh.com
SUMMARY:Trivia Night
DESCRIPTION:
URL:https://uniontaproomwh.com/event/trivia-night-2025-10-01/
END:VEVENT
BEGIN:VEVENT
DTSTART;TZID=UTC:20251002T180000
DTEND;TZID=UTC:20251002T210000
DTSTAMP:20260421T081114
CREATED:20221018T122451Z
LAST-MODIFIED:20240124T012942Z
UID:5657-1759428000-1759438800@uniontaproomwh.com
SUMMARY:Night Market 6:00pm - 9:00pm
DESCRIPTION:
URL:https://uniontaproomwh.com/event/night-market-6-9pm-2-2025-10-02/
END:VEVENT
BEGIN:VEVENT
DTSTART;TZID=UTC:20251002T180000
DTEND;TZID=UTC:20251002T210000
DTSTAMP:20260421T081114
CREATED:20250918T180149Z
LAST-MODIFIED:20250918T180528Z
UID:6169-1759428000-1759438800@uniontaproomwh.com
SUMMARY:Oktoberfest at Union Taproom
DESCRIPTION:
URL:https://uniontaproomwh.com/event/oktoberfest-at-union-taproom/
END:VEVENT
BEGIN:VEVENT
DTSTART;TZID=UTC:20251007T183000
DTEND;TZID=UTC:20251007T210000
DTSTAMP:20260421T081114
CREATED:20250721T164924Z
LAST-MODIFIED:20250721T164924Z
UID:6051-1759861800-1759870800@uniontaproomwh.com
SUMMARY:Open Mic Night | 6:30PM - 9:00PM
DESCRIPTION:
URL:https://uniontaproomwh.com/event/open-mic-night-630pm-900pm-2025-10-07/
END:VEVENT
BEGIN:VEVENT
DTSTART;TZID=UTC:20251008T190000
DTEND;TZID=UTC:20251008T210000
DTSTAMP:20260421T081114
CREATED:20210915T133506Z
LAST-MODIFIED:20210915T133506Z
UID:5661-1759950000-1759957200@uniontaproomwh.com
SUMMARY:Trivia Night
DESCRIPTION:
URL:https://uniontaproomwh.com/event/trivia-night-2025-10-08/
END:VEVENT
BEGIN:VEVENT
DTSTART;TZID=UTC:20251014T183000
DTEND;TZID=UTC:20251014T210000
DTSTAMP:20260421T081114
CREATED:20250721T164924Z
LAST-MODIFIED:20250721T164924Z
UID:6052-1760466600-1760475600@uniontaproomwh.com
SUMMARY:Open Mic Night | 6:30PM - 9:00PM
DESCRIPTION:
URL:https://uniontaproomwh.com/event/open-mic-night-630pm-900pm-2025-10-14/
END:VEVENT
BEGIN:VEVENT
DTSTART;TZID=UTC:20251015T190000
DTEND;TZID=UTC:20251015T210000
DTSTAMP:20260421T081114
CREATED:20210915T133506Z
LAST-MODIFIED:20210915T133506Z
UID:5665-1760554800-1760562000@uniontaproomwh.com
SUMMARY:Trivia Night
DESCRIPTION:
URL:https://uniontaproomwh.com/event/trivia-night-2025-10-15/
END:VEVENT
BEGIN:VEVENT
DTSTART;TZID=UTC:20251021T183000
DTEND;TZID=UTC:20251021T210000
DTSTAMP:20260421T081114
CREATED:20250721T164924Z
LAST-MODIFIED:20250721T164924Z
UID:6053-1761071400-1761080400@uniontaproomwh.com
SUMMARY:Open Mic Night | 6:30PM - 9:00PM
DESCRIPTION:
URL:https://uniontaproomwh.com/event/open-mic-night-630pm-900pm-2025-10-21/
END:VEVENT
BEGIN:VEVENT
DTSTART;TZID=UTC:20251022T190000
DTEND;TZID=UTC:20251022T210000
DTSTAMP:20260421T081114
CREATED:20210915T133506Z
LAST-MODIFIED:20210915T133506Z
UID:5666-1761159600-1761166800@uniontaproomwh.com
SUMMARY:Trivia Night
DESCRIPTION:
URL:https://uniontaproomwh.com/event/trivia-night-2025-10-22/
END:VEVENT
BEGIN:VEVENT
DTSTART;TZID=UTC:20251028T183000
DTEND;TZID=UTC:20251028T210000
DTSTAMP:20260421T081114
CREATED:20250721T164924Z
LAST-MODIFIED:20250721T164924Z
UID:6054-1761676200-1761685200@uniontaproomwh.com
SUMMARY:Open Mic Night | 6:30PM - 9:00PM
DESCRIPTION:
URL:https://uniontaproomwh.com/event/open-mic-night-630pm-900pm-2025-10-28/
END:VEVENT
BEGIN:VEVENT
DTSTART;TZID=UTC:20251029T190000
DTEND;TZID=UTC:20251029T210000
DTSTAMP:20260421T081114
CREATED:20210915T133506Z
LAST-MODIFIED:20210915T133506Z
UID:5676-1761764400-1761771600@uniontaproomwh.com
SUMMARY:Trivia Night
DESCRIPTION:
URL:https://uniontaproomwh.com/event/trivia-night-2025-10-29/
END:VEVENT
BEGIN:VEVENT
DTSTART;TZID=UTC:20251029T190000
DTEND;TZID=UTC:20251029T210000
DTSTAMP:20260421T081114
CREATED:20250926T131757Z
LAST-MODIFIED:20250926T131757Z
UID:6177-1761764400-1761771600@uniontaproomwh.com
SUMMARY:Halloween Trivia Night
DESCRIPTION:
URL:https://uniontaproomwh.com/event/halloween-trivia-night/
END:VEVENT
END:VCALENDAR